Workbook

Sheet Clubs
A1: 55 | B1: LastTeamRow
A2: Clubs
A3: 1 | B3: Edinburgh AC | D3: 6 | E3: Aberdeen AAC
A4: 2 | B4: Perth Road Runners | D4: 41 | E4: Anster Haddies Running Club
A5: 3 | B5: Lothian Running Club | D5: 52 | E5: Arbroath & District AAC
A6: 4 | B6: Teviotdale Harriers | D6: 36 | E6: Banchory Stonehaven AC
A7: 5 | B7: Moorfoot Runners | D7: 28 | E7: Carnegie Harriers
A8: 6 | B8: Aberdeen AAC | D8: 21 | E8: Carnethy Hill Racing Club
A9: 7 | B9: Pitreavie AAC | D9: 18 | E9: Central AC
A10: 8 | B10: Fife AC | D10: 31 | E10: Corstorphine AAC
A11: 9 | B11: Not Used | D11: 46 | E11: Deeside Runners
A12: 10 | B12: Edinburgh Univ Hare & Hounds | D12: 48 | E12: Dunbar Running Club
A13: 11 | B13: Falkirk Victoria Harriers | D13: 16 | E13: Dundee Hawkhill Harriers
A14: 12 | B14: Hunters Bog Trotters | D14: 23 | E14: Dundee Road Runners AC
... A55: 53 | B55: Run Livingston | D55: 26 | E55: Wee County Harriers

Sheet U11 Girls
A1: Hr | B1: Min | C1: Sec | D1: Bib No | E1: Club No | F1: Club | G1: Finishers | H1: Team No | I1: Race Finish | J1: Team Finish | L1: Team No | M1: Name | O1: Pos | P1: Name | Q1: Club | R1: Time
B2: 6 | C2: 43 | D2: 36 | E2: =Clubs!A3 -> 1 | F2: =Clubs!B3 -> Edinburgh AC | G2: =COUNTIF($H:$H,E2) -> 4 | H2: =IF(OR(RIGHT(D2,1)="V",RIGHT(D2,1)="J"),VALUE(LEFT(D2,LEN(D2)-1)),D2) -> 36 | I2: =Q2&COUNTIF($H$2:$H2,H2) -> Banchory Stonehaven AC1 | J2: =VLOOKUP(L2,ClubNames,2,FALSE())&COUNTIF($L$2:$L2,L2) -> Edinburgh AC1 | L2: 1 | M2: Allegro Gilmore | O2: 1 | P2: =VLOOKUP(I2,J:M,4,FALSE())&IF(RIGHT(D2,1)="V"," (V)",IF(RIGHT(D2,1)="J"," (J)","")) -> Emily Birnie | Q2: =VLOOKUP(H2,ClubNames,2,FALSE()) -> Banchory Stonehaven AC | R2: =TIME(A2,B2,C2) -> 0.0046643519
B3: 6 | C3: 45 | D3: 18 | E3: =Clubs!A4 -> 2 | F3: =Clubs!B4 -> Perth Road Runners | G3: =COUNTIF($H:$H,E3) -> 0 | H3: =IF(OR(RIGHT(D3,1)="V",RIGHT(D3,1)="J"),VALUE(LEFT(D3,LEN(D3)-1)),D3) -> 18 | I3: =Q3&COUNTIF($H$2:$H3,H3) -> Central AC1 | J3: =VLOOKUP(L3,ClubNames,2,FALSE())&COUNTIF($L$2:$L3,L3) -> Edinburgh AC2 | L3: 1 | M3: Orlaith James | O3: =1+O2 -> 2 | P3: =VLOOKUP(I3,J:M,4,FALSE())&IF(RIGHT(D3,1)="V"," (V)",IF(RIGHT(D3,1)="J"," (J)","")) -> Annie Arnott | Q3: =VLOOKUP(H3,ClubNames,2,FALSE()) -> Central AC | R3: =TIME(A3,B3,C3) -> 0.0046875
B4: 6 | C4: 54 | D4: 27 | E4: =Clubs!A5 -> 3 | F4: =Clubs!B5 -> Lothian Running Club | G4: =COUNTIF($H:$H,E4) -> 1 | H4: =IF(OR(RIGHT(D4,1)="V",RIGHT(D4,1)="J"),VALUE(LEFT(D4,LEN(D4)-1)),D4) -> 27 | I4: =Q4&COUNTIF($H$2:$H4,H4) -> Linlithgow AC1 | J4: =VLOOKUP(L4,ClubNames,2,FALSE())&COUNTIF($L$2:$L4,L4) -> Edinburgh AC3 | L4: 1 | M4: Marika Stawska | O4: =1+O3 -> 3 | P4: =VLOOKUP(I4,J:M,4,FALSE())&IF(RIGHT(D4,1)="V"," (V)",IF(RIGHT(D4,1)="J"," (J)","")) -> Mia Burnett | Q4: =VLOOKUP(H4,ClubNames,2,FALSE()) -> Linlithgow AC | R4: =TIME(A4,B4,C4) -> 0.0047916667
B5: 6 | C5: 58 | D5: 36 | E5: =Clubs!A6 -> 4 | F5: =Clubs!B6 -> Teviotdale Harriers | G5: =COUNTIF($H:$H,E5) -> 1 | H5: =IF(OR(RIGHT(D5,1)="V",RIGHT(D5,1)="J"),VALUE(LEFT(D5,LEN(D5)-1)),D5) -> 36 | I5: =Q5&COUNTIF($H$2:$H5,H5) -> Banchory Stonehaven AC2 | J5: =VLOOKUP(L5,ClubNames,2,FALSE())&COUNTIF($L$2:$L5,L5) -> Edinburgh AC4 | L5: 1 | M5: Marta Corda | O5: =1+O4 -> 4 | P5: =VLOOKUP(I5,J:M,4,FALSE())&IF(RIGHT(D5,1)="V"," (V)",IF(RIGHT(D5,1)="J"," (J)","")) -> Ella Sharples | Q5: =VLOOKUP(H5,ClubNames,2,FALSE()) -> Banchory Stonehaven AC | R5: =TIME(A5,B5,C5) -> 0.004837963
B6: 7 | C6: 1 | D6: 40 | E6: =Clubs!A7 -> 5 | F6: =Clubs!B7 -> Moorfoot Runners | G6: =COUNTIF($H:$H,E6) -> 0 | H6: =IF(OR(RIGHT(D6,1)="V",RIGHT(D6,1)="J"),VALUE(LEFT(D6,LEN(D6)-1)),D6) -> 40 | I6: =Q6&COUNTIF($H$2:$H6,H6) -> Team East Lothian1 | J6: =VLOOKUP(L6,ClubNames,2,FALSE())&COUNTIF($L$2:$L6,L6) -> Lothian Running Club1 | L6: 3 | M6: Aria Watson | O6: =1+O5 -> 5 | P6: =VLOOKUP(I6,J:M,4,FALSE())&IF(RIGHT(D6,1)="V"," (V)",IF(RIGHT(D6,1)="J"," (J)","")) -> Sophie Skeen | Q6: =VLOOKUP(H6,ClubNames,2,FALSE()) -> Team East Lothian | R6: =TIME(A6,B6,C6) -> 0.0048726852
B7: 7 | C7: 12 | D7: 39 | E7: =Clubs!A8 -> 6 | F7: =Clubs!B8 -> Aberdeen AAC | G7: =COUNTIF($H:$H,E7) -> 3 | H7: =IF(OR(RIGHT(D7,1)="V",RIGHT(D7,1)="J"),VALUE(LEFT(D7,LEN(D7)-1)),D7) -> 39 | I7: =Q7&COUNTIF($H$2:$H7,H7) -> Dunfermline Track & Field AC1 | J7: =VLOOKUP(L7,ClubNames,2,FALSE())&COUNTIF($L$2:$L7,L7) -> Teviotdale Harriers1 | L7: 4 | M7: Freya Michie | O7: =1+O6 -> 6 | P7: =VLOOKUP(I7,J:M,4,FALSE())&IF(RIGHT(D7,1)="V"," (V)",IF(RIGHT(D7,1)="J"," (J)","")) -> Phoebe Jones | Q7: =VLOOKUP(H7,ClubNames,2,FALSE()) -> Dunfermline Track & Field AC | R7: =TIME(A7,B7,C7) -> 0.005
B8: 7 | C8: 14 | D8: 27 | E8: =Clubs!A9 -> 7 | F8: =Clubs!B9 -> Pitreavie AAC | G8: =COUNTIF($H:$H,E8) -> 1 | H8: =IF(OR(RIGHT(D8,1)="V",RIGHT(D8,1)="J"),VALUE(LEFT(D8,LEN(D8)-1)),D8) -> 27 | I8: =Q8&COUNTIF($H$2:$H8,H8) -> Linlithgow AC2 | J8: =VLOOKUP(L8,ClubNames,2,FALSE())&COUNTIF($L$2:$L8,L8) -> Aberdeen AAC1 | L8: 6 | M8: Amy Miller | O8: =1+O7 -> 7 | P8: =VLOOKUP(I8,J:M,4,FALSE())&IF(RIGHT(D8,1)="V"," (V)",IF(RIGHT(D8,1)="J"," (J)","")) -> Akira Nagda | Q8: =VLOOKUP(H8,ClubNames,2,FALSE()) -> Linlithgow AC | R8: =TIME(A8,B8,C8) -> 0.0050231481
B9: 7 | C9: 16 | D9: 20 | E9: =Clubs!A10 -> 8 | F9: =Clubs!B10 -> Fife AC | G9: =COUNTIF($H:$H,E9) -> 0 | H9: =IF(OR(RIGHT(D9,1)="V",RIGHT(D9,1)="J"),VALUE(LEFT(D9,LEN(D9)-1)),D9) -> 20 | I9: =Q9&COUNTIF($H$2:$H9,H9) -> Harmeny AAC1 | J9: =VLOOKUP(L9,ClubNames,2,FALSE())&COUNTIF($L$2:$L9,L9) -> Aberdeen AAC2 | L9: 6 | M9: Anna Ramsay | O9: =1+O8 -> 8 | P9: =VLOOKUP(I9,J:M,4,FALSE())&IF(RIGHT(D9,1)="V"," (V)",IF(RIGHT(D9,1)="J"," (J)","")) -> Anna Dailly | Q9: =VLOOKUP(H9,ClubNames,2,FALSE()) -> Harmeny AAC | R9: =TIME(A9,B9,C9) -> 0.0050462963
B10: 7 | C10: 18 | D10: 36 | E10: =Clubs!A11 -> 9 | F10: =Clubs!B11 -> Not Used | G10: =COUNTIF($H:$H,E10) -> 0 | H10: =IF(OR(RIGHT(D10,1)="V",RIGHT(D10,1)="J"),VALUE(LEFT(D10,LEN(D10)-1)),D10) -> 36 | I10: =Q10&COUNTIF($H$2:$H10,H10) -> Banchory Stonehaven AC3 | J10: =VLOOKUP(L10,ClubNames,2,FALSE())&COUNTIF($L$2:$L10,L10) -> Aberdeen AAC3 | L10: 6 | M10: Havana Bowie | O10: =1+O9 -> 9 | P10: =VLOOKUP(I10,J:M,4,FALSE())&IF(RIGHT(D10,1)="V"," (V)",IF(RIGHT(D10,1)="J"," (J)","")) -> Annabel Lever | Q10: =VLOOKUP(H10,ClubNames,2,FALSE()) -> Banchory Stonehaven AC | R10: =TIME(A10,B10,C10) -> 0.0050694444
B11: 7 | C11: 21 | D11: 51 | E11: =Clubs!A12 -> 10 | F11: =Clubs!B12 -> Edinburgh Univ Hare & Hounds | G11: =COUNTIF($H:$H,E11) -> 0 | H11: =IF(OR(RIGHT(D11,1)="V",RIGHT(D11,1)="J"),VALUE(LEFT(D11,LEN(D11)-1)),D11) -> 51 | I11: =Q11&COUNTIF($H$2:$H11,H11) -> Haddington Running Club1 | J11: =VLOOKUP(L11,ClubNames,2,FALSE())&COUNTIF($L$2:$L11,L11) -> Pitreavie AAC1 | L11: 7 | M11: Esme Wilson | O11: =1+O10 -> 10 | P11: =VLOOKUP(I11,J:M,4,FALSE())&IF(RIGHT(D11,1)="V"," (V)",IF(RIGHT(D11,1)="J"," (J)","")) -> Natalie Perry | Q11: =VLOOKUP(H11,ClubNames,2,FALSE()) -> Haddington Running Club | R11: =TIME(A11,B11,C11) -> 0.0051041667
B12: 7 | C12: 21 | D12: 4 | E12: =Clubs!A13 -> 11 | F12: =Clubs!B13 -> Falkirk Victoria Harriers | G12: =COUNTIF($H:$H,E12) -> 4 | H12: =IF(OR(RIGHT(D12,1)="V",RIGHT(D12,1)="J"),VALUE(LEFT(D12,LEN(D12)-1)),D12) -> 4 | I12: =Q12&COUNTIF($H$2:$H12,H12) -> Teviotdale Harriers1 | J12: =VLOOKUP(L12,ClubNames,2,FALSE())&COUNTIF($L$2:$L12,L12) -> Falkirk Victoria Harriers1 | L12: 11 | M12: Emelia Don | O12: =1+O11 -> 11 | P12: =VLOOKUP(I12,J:M,4,FALSE())&IF(RIGHT(D12,1)="V"," (V)",IF(RIGHT(D12,1)="J"," (J)","")) -> Freya Michie | Q12: =VLOOKUP(H12,ClubNames,2,FALSE()) -> Teviotdale Harriers | R12: =TIME(A12,B12,C12) -> 0.0051041667
B13: 7 | C13: 24 | D13: 31 | E13: =Clubs!A14 -> 12 | F13: =Clubs!B14 -> Hunters Bog Trotters | G13: =COUNTIF($H:$H,E13) -> 0 | H13: =IF(OR(RIGHT(D13,1)="V",RIGHT(D13,1)="J"),VALUE(LEFT(D13,LEN(D13)-1)),D13) -> 31 | I13: =Q13&COUNTIF($H$2:$H13,H13) -> Corstorphine AAC1 | J13: =VLOOKUP(L13,ClubNames,2,FALSE())&COUNTIF($L$2:$L13,L13) -> Falkirk Victoria Harriers2 | L13: 11 | M13: Anna-Leigh Meaney | O13: =1+O12 -> 12 | P13: =VLOOKUP(I13,J:M,4,FALSE())&IF(RIGHT(D13,1)="V"," (V)",IF(RIGHT(D13,1)="J"," (J)","")) -> Isla Jumelle | Q13: =VLOOKUP(H13,ClubNames,2,FALSE()) -> Corstorphine AAC | R13: =TIME(A13,B13,C13) -> 0.0051388889
B14: 7 | C14: 25 | D14: 20 | E14: =Clubs!A15 -> 13 | F14: =Clubs!B15 -> Gala Harriers | G14: =COUNTIF($H:$H,E14) -> 0 | H14: =IF(OR(RIGHT(D14,1)="V",RIGHT(D14,1)="J"),VALUE(LEFT(D14,LEN(D14)-1)),D14) -> 20 | I14: =Q14&COUNTIF($H$2:$H14,H14) -> Harmeny AAC2 | J14: =VLOOKUP(L14,ClubNames,2,FALSE())&COUNTIF($L$2:$L14,L14) -> Falkirk Victoria Harriers3 | L14: 11 | M14: Tess Rennie | O14: =1+O13 -> 13 | P14: =VLOOKUP(I14,J:M,4,FALSE())&IF(RIGHT(D14,1)="V"," (V)",IF(RIGHT(D14,1)="J"," (J)","")) -> Francesca Queen | Q14: =VLOOKUP(H14,ClubNames,2,FALSE()) -> Harmeny AAC | R14: =TIME(A14,B14,C14) -> 0.005150463
... B50: 8 | C50: 51 | D50: 11 | E50: =Clubs!A51 -> 49 | F50: =Clubs!B51 -> Lauderdale Limpers | G50: =COUNTIF($H:$H,E50) -> 0 | H50: =IF(OR(RIGHT(D50,1)="V",RIGHT(D50,1)="J"),VALUE(LEFT(D50,LEN(D50)-1)),D50) -> 11 | I50: =Q50&COUNTIF($H$2:$H50,H50) -> Falkirk Victoria Harriers4 | J50: =VLOOKUP(L50,ClubNames,2,FALSE())&COUNTIF($L$2:$L50,L50) -> Banchory Stonehaven AC1 | L50: 36 | M50: Emily Birnie | O50: =1+O49 -> 49 | P50: =VLOOKUP(I50,J:M,4,FALSE())&IF(RIGHT(D50,1)="V"," (V)",IF(RIGHT(D50,1)="J"," (J)","")) -> Rowen Coulter | Q50: =VLOOKUP(H50,ClubNames,2,FALSE()) -> Falkirk Victoria Harriers | R50: =TIME(A50,B50,C50) -> 0.0061458333
B51: 8 | C51: 53 | D51: 32 | E51: =Clubs!A52 -> 50 | F51: =Clubs!B52 -> Stirling University AC | G51: =COUNTIF($H:$H,E51) -> 0 | H51: =IF(OR(RIGHT(D51,1)="V",RIGHT(D51,1)="J"),VALUE(LEFT(D51,LEN(D51)-1)),D51) -> 32 | I51: =Q51&COUNTIF($H$2:$H51,H51) -> Lasswade AAC2 | J51: =VLOOKUP(L51,ClubNames,2,FALSE())&COUNTIF($L$2:$L51,L51) -> Banchory Stonehaven AC2 | L51: 36 | M51: Ella Sharples | O51: 50 | P51: =VLOOKUP(I51,J:M,4,FALSE())&IF(RIGHT(D51,1)="V"," (V)",IF(RIGHT(D51,1)="J"," (J)","")) -> Katie Houston | Q51: =VLOOKUP(H51,ClubNames,2,FALSE()) -> Lasswade AAC | R51: =TIME(A51,B51,C51) -> 0.0061689815
B52: 8 | C52: 55 | D52: 17 | E52: =Clubs!A53 -> 51 | F52: =Clubs!B53 -> Haddington Running Club | G52: =COUNTIF($H:$H,E52) -> 1 | H52: =IF(OR(RIGHT(D52,1)="V",RIGHT(D52,1)="J"),VALUE(LEFT(D52,LEN(D52)-1)),D52) -> 17 | I52: =Q52&COUNTIF($H$2:$H52,H52) -> George Heriots School2 | J52: =VLOOKUP(L52,ClubNames,2,FALSE())&COUNTIF($L$2:$L52,L52) -> Banchory Stonehaven AC3 | L52: 36 | M52: Annabel Lever | O52: 51 | P52: =VLOOKUP(I52,J:M,4,FALSE())&IF(RIGHT(D52,1)="V"," (V)",IF(RIGHT(D52,1)="J"," (J)","")) -> Elyse Merck | Q52: =VLOOKUP(H52,ClubNames,2,FALSE()) -> George Heriots School | R52: =TIME(A52,B52,C52) -> 0.0061921296
B53: 9 | C53: 4 | D53: 31 | E53: =Clubs!A54 -> 52 | F53: =Clubs!B54 -> Arbroath & District AAC | G53: =COUNTIF($H:$H,E53) -> 0 | H53: =IF(OR(RIGHT(D53,1)="V",RIGHT(D53,1)="J"),VALUE(LEFT(D53,LEN(D53)-1)),D53) -> 31 | I53: =Q53&COUNTIF($H$2:$H53,H53) -> Corstorphine AAC3 | J53: =VLOOKUP(L53,ClubNames,2,FALSE())&COUNTIF($L$2:$L53,L53) -> Dunfermline Track & Field AC1 | L53: 39 | M53: Phoebe Jones | O53: 52 | P53: =VLOOKUP(I53,J:M,4,FALSE())&IF(RIGHT(D53,1)="V"," (V)",IF(RIGHT(D53,1)="J"," (J)","")) -> Emie Whelan | Q53: =VLOOKUP(H53,ClubNames,2,FALSE()) -> Corstorphine AAC | R53: =TIME(A53,B53,C53) -> 0.0062962963
B54: 9 | C54: 8 | D54: 1 | E54: =Clubs!A55 -> 53 | F54: =Clubs!B55 -> Run Livingston | G54: =COUNTIF($H:$H,E54) -> 0 | H54: =IF(OR(RIGHT(D54,1)="V",RIGHT(D54,1)="J"),VALUE(LEFT(D54,LEN(D54)-1)),D54) -> 1 | I54: =Q54&COUNTIF($H$2:$H54,H54) -> Edinburgh AC3 | J54: =VLOOKUP(L54,ClubNames,2,FALSE())&COUNTIF($L$2:$L54,L54) -> Dunfermline Track & Field AC2 | L54: 39 | M54: Blake Sharp | O54: 53 | P54: =VLOOKUP(I54,J:M,4,FALSE())&IF(RIGHT(D54,1)="V"," (V)",IF(RIGHT(D54,1)="J"," (J)","")) -> Marika Stawska | Q54: =VLOOKUP(H54,ClubNames,2,FALSE()) -> Edinburgh AC | R54: =TIME(A54,B54,C54) -> 0.0063425926
B55: 9 | C55: 8 | D55: 1 | H55: =IF(OR(RIGHT(D55,1)="V",RIGHT(D55,1)="J"),VALUE(LEFT(D55,LEN(D55)-1)),D55) -> 1 | I55: =Q55&COUNTIF($H$2:$H55,H55) -> Edinburgh AC4 | J55: =VLOOKUP(L55,ClubNames,2,FALSE())&COUNTIF($L$2:$L55,L55) -> Dunfermline Track & Field AC3 | L55: 39 | M55: Mara Lowe | O55: 54 | P55: =VLOOKUP(I55,J:M,4,FALSE())&IF(RIGHT(D55,1)="V"," (V)",IF(RIGHT(D55,1)="J"," (J)","")) -> Marta Corda | Q55: =VLOOKUP(H55,ClubNames,2,FALSE()) -> Edinburgh AC | R55: =TIME(A55,B55,C55) -> 0.0063425926
B56: 9 | C56: 28 | D56: 3 | H56: =IF(OR(RIGHT(D56,1)="V",RIGHT(D56,1)="J"),VALUE(LEFT(D56,LEN(D56)-1)),D56) -> 3 | I56: =Q56&COUNTIF($H$2:$H56,H56) -> Lothian Running Club1 | J56: =VLOOKUP(L56,ClubNames,2,FALSE())&COUNTIF($L$2:$L56,L56) -> Team East Lothian1 | L56: 40 | M56: Sophie Skeen | O56: 55 | P56: =VLOOKUP(I56,J:M,4,FALSE())&IF(RIGHT(D56,1)="V"," (V)",IF(RIGHT(D56,1)="J"," (J)","")) -> Aria Watson | Q56: =VLOOKUP(H56,ClubNames,2,FALSE()) -> Lothian Running Club | R56: =TIME(A56,B56,C56) -> 0.0065740741
B57: 9 | C57: 32 | D57: 16 | H57: =IF(OR(RIGHT(D57,1)="V",RIGHT(D57,1)="J"),VALUE(LEFT(D57,LEN(D57)-1)),D57) -> 16 | I57: =Q57&COUNTIF($H$2:$H57,H57) -> Dundee Hawkhill Harriers2 | J57: =VLOOKUP(L57,ClubNames,2,FALSE())&COUNTIF($L$2:$L57,L57) -> Montrose and District AC1 | L57: 44 | M57: Nyla Aitken | O57: 56 | P57: =VLOOKUP(I57,J:M,4,FALSE())&IF(RIGHT(D57,1)="V"," (V)",IF(RIGHT(D57,1)="J"," (J)","")) -> Guiliana Gibson | Q57: =VLOOKUP(H57,ClubNames,2,FALSE()) -> Dundee Hawkhill Harriers | R57: =TIME(A57,B57,C57) -> 0.0066203704
B58: 11 | C58: 30 | D58: 27 | H58: =IF(OR(RIGHT(D58,1)="V",RIGHT(D58,1)="J"),VALUE(LEFT(D58,LEN(D58)-1)),D58) -> 27 | I58: =Q58&COUNTIF($H$2:$H58,H58) -> Linlithgow AC4 | J58: =VLOOKUP(L58,ClubNames,2,FALSE())&COUNTIF($L$2:$L58,L58) -> Haddington Running Club1 | L58: 51 | M58: Natalie Perry | O58: 57 | P58: =VLOOKUP(I58,J:M,4,FALSE())&IF(RIGHT(D58,1)="V"," (V)",IF(RIGHT(D58,1)="J"," (J)","")) -> Imogen Holm | Q58: =VLOOKUP(H58,ClubNames,2,FALSE()) -> Linlithgow AC | R58: =TIME(A58,B58,C58) -> 0.0079861111
H59: =IF(OR(RIGHT(D59,1)="V",RIGHT(D59,1)="J"),VALUE(LEFT(D59,LEN(D59)-1)),D59) -> 0 | I59: =Q59&COUNTIF($H$2:$H59,H59) -> #N/A | J59: =VLOOKUP(L59,ClubNames,2,FALSE())&COUNTIF($L$2:$L59,L59) -> #N/A | O59: 58 | P59: =VLOOKUP(I59,J:M,4,FALSE())&IF(RIGHT(D59,1)="V"," (V)",IF(RIGHT(D59,1)="J"," (J)","")) -> #N/A | Q59: =VLOOKUP(H59,ClubNames,2,FALSE()) -> #N/A | R59: =TIME(A59,B59,C59) -> 0
H60: =IF(OR(RIGHT(D60,1)="V",RIGHT(D60,1)="J"),VALUE(LEFT(D60,LEN(D60)-1)),D60) -> 0 | I60: =Q60&COUNTIF($H$2:$H60,H60) -> #N/A | J60: =VLOOKUP(L60,ClubNames,2,FALSE())&COUNTIF($L$2:$L60,L60) -> #N/A | O60: 59 | P60: =VLOOKUP(I60,J:M,4,FALSE())&IF(RIGHT(D60,1)="V"," (V)",IF(RIGHT(D60,1)="J"," (J)","")) -> #N/A | Q60: =VLOOKUP(H60,ClubNames,2,FALSE()) -> #N/A | R60: =TIME(A60,B60,C60) -> 0
H61: =IF(OR(RIGHT(D61,1)="V",RIGHT(D61,1)="J"),VALUE(LEFT(D61,LEN(D61)-1)),D61) -> 0 | I61: =Q61&COUNTIF($H$2:$H61,H61) -> #N/A | J61: =VLOOKUP(L61,ClubNames,2,FALSE())&COUNTIF($L$2:$L61,L61) -> #N/A | O61: 60 | P61: =VLOOKUP(I61,J:M,4,FALSE())&IF(RIGHT(D61,1)="V"," (V)",IF(RIGHT(D61,1)="J"," (J)","")) -> #N/A | Q61: =VLOOKUP(H61,ClubNames,2,FALSE()) -> #N/A | R61: =TIME(A61,B61,C61) -> 0
H62: =IF(OR(RIGHT(D62,1)="V",RIGHT(D62,1)="J"),VALUE(LEFT(D62,LEN(D62)-1)),D62) -> 0 | I62: =Q62&COUNTIF($H$2:$H62,H62) -> #N/A | J62: =VLOOKUP(L62,ClubNames,2,FALSE())&COUNTIF($L$2:$L62,L62) -> #N/A | O62: 61 | P62: =VLOOKUP(I62,J:M,4,FALSE())&IF(RIGHT(D62,1)="V"," (V)",IF(RIGHT(D62,1)="J"," (J)","")) -> #N/A | Q62: =VLOOKUP(H62,ClubNames,2,FALSE()) -> #N/A | R62: =TIME(A62,B62,C62) -> 0
H63: =IF(OR(RIGHT(D63,1)="V",RIGHT(D63,1)="J"),VALUE(LEFT(D63,LEN(D63)-1)),D63) -> 0 | I63: =Q63&COUNTIF($H$2:$H63,H63) -> #N/A | J63: =VLOOKUP(L63,ClubNames,2,FALSE())&COUNTIF($L$2:$L63,L63) -> #N/A | O63: 62 | P63: =VLOOKUP(I63,J:M,4,FALSE())&IF(RIGHT(D63,1)="V"," (V)",IF(RIGHT(D63,1)="J"," (J)","")) -> #N/A | Q63: =VLOOKUP(H63,ClubNames,2,FALSE()) -> #N/A | R63: =TIME(A63,B63,C63) -> 0
H64: =IF(OR(RIGHT(D64,1)="V",RIGHT(D64,1)="J"),VALUE(LEFT(D64,LEN(D64)-1)),D64) -> 0 | I64: =Q64&COUNTIF($H$2:$H64,H64) -> #N/A | J64: =VLOOKUP(L64,ClubNames,2,FALSE())&COUNTIF($L$2:$L64,L64) -> #N/A | O64: 63 | P64: =VLOOKUP(I64,J:M,4,FALSE())&IF(RIGHT(D64,1)="V"," (V)",IF(RIGHT(D64,1)="J"," (J)","")) -> #N/A | Q64: =VLOOKUP(H64,ClubNames,2,FALSE()) -> #N/A | R64: =TIME(A64,B64,C64) -> 0
H65: =IF(OR(RIGHT(D65,1)="V",RIGHT(D65,1)="J"),VALUE(LEFT(D65,LEN(D65)-1)),D65) -> 0 | I65: =Q65&COUNTIF($H$2:$H65,H65) -> #N/A | J65: =VLOOKUP(L65,ClubNames,2,FALSE())&COUNTIF($L$2:$L65,L65) -> #N/A | O65: 64 | P65: =VLOOKUP(I65,J:M,4,FALSE())&IF(RIGHT(D65,1)="V"," (V)",IF(RIGHT(D65,1)="J"," (J)","")) -> #N/A | Q65: =VLOOKUP(H65,ClubNames,2,FALSE()) -> #N/A | R65: =TIME(A65,B65,C65) -> 0
H66: =IF(OR(RIGHT(D66,1)="V",RIGHT(D66,1)="J"),VALUE(LEFT(D66,LEN(D66)-1)),D66) -> 0 | I66: =Q66&COUNTIF($H$2:$H66,H66) -> #N/A | J66: =VLOOKUP(L66,ClubNames,2,FALSE())&COUNTIF($L$2:$L66,L66) -> #N/A | O66: 65 | P66: =VLOOKUP(I66,J:M,4,FALSE())&IF(RIGHT(D66,1)="V"," (V)",IF(RIGHT(D66,1)="J"," (J)","")) -> #N/A | Q66: =VLOOKUP(H66,ClubNames,2,FALSE()) -> #N/A | R66: =TIME(A66,B66,C66) -> 0
H67: =IF(OR(RIGHT(D67,1)="V",RIGHT(D67,1)="J"),VALUE(LEFT(D67,LEN(D67)-1)),D67) -> 0 | I67: =Q67&COUNTIF($H$2:$H67,H67) -> #N/A | J67: =VLOOKUP(L67,ClubNames,2,FALSE())&COUNTIF($L$2:$L67,L67) -> #N/A | O67: 66 | P67: =VLOOKUP(I67,J:M,4,FALSE())&IF(RIGHT(D67,1)="V"," (V)",IF(RIGHT(D67,1)="J"," (J)","")) -> #N/A | Q67: =VLOOKUP(H67,ClubNames,2,FALSE()) -> #N/A | R67: =TIME(A67,B67,C67) -> 0
H68: =IF(OR(RIGHT(D68,1)="V",RIGHT(D68,1)="J"),VALUE(LEFT(D68,LEN(D68)-1)),D68) -> 0 | I68: =Q68&COUNTIF($H$2:$H68,H68) -> #N/A | J68: =VLOOKUP(L68,ClubNames,2,FALSE())&COUNTIF($L$2:$L68,L68) -> #N/A | O68: 67 | P68: =VLOOKUP(I68,J:M,4,FALSE())&IF(RIGHT(D68,1)="V"," (V)",IF(RIGHT(D68,1)="J"," (J)","")) -> #N/A | Q68: =VLOOKUP(H68,ClubNames,2,FALSE()) -> #N/A | R68: =TIME(A68,B68,C68) -> 0
H69: =IF(OR(RIGHT(D69,1)="V",RIGHT(D69,1)="J"),VALUE(LEFT(D69,LEN(D69)-1)),D69) -> 0 | I69: =Q69&COUNTIF($H$2:$H69,H69) -> #N/A | J69: =VLOOKUP(L69,ClubNames,2,FALSE())&COUNTIF($L$2:$L69,L69) -> #N/A | O69: 68 | P69: =VLOOKUP(I69,J:M,4,FALSE())&IF(RIGHT(D69,1)="V"," (V)",IF(RIGHT(D69,1)="J"," (J)","")) -> #N/A | Q69: =VLOOKUP(H69,ClubNames,2,FALSE()) -> #N/A | R69: =TIME(A69,B69,C69) -> 0
H70: =IF(OR(RIGHT(D70,1)="V",RIGHT(D70,1)="J"),VALUE(LEFT(D70,LEN(D70)-1)),D70) -> 0 | I70: =Q70&COUNTIF($H$2:$H70,H70) -> #N/A | J70: =VLOOKUP(L70,ClubNames,2,FALSE())&COUNTIF($L$2:$L70,L70) -> #N/A | O70: 69 | P70: =VLOOKUP(I70,J:M,4,FALSE())&IF(RIGHT(D70,1)="V"," (V)",IF(RIGHT(D70,1)="J"," (J)","")) -> #N/A | Q70: =VLOOKUP(H70,ClubNames,2,FALSE()) -> #N/A | R70: =TIME(A70,B70,C70) -> 0
... H142: =IF(OR(RIGHT(D142,1)="V",RIGHT(D142,1)="J"),VALUE(LEFT(D142,LEN(D142)-1)),D142) -> 0 | I142: =Q142&COUNTIF($H$2:$H142,H142) -> #N/A | J142: =VLOOKUP(L142,ClubNames,2,FALSE())&COUNTIF($L$2:$L142,L142) -> #N/A | O142: 141 | P142: =VLOOKUP(I142,J:M,4,FALSE())&IF(RIGHT(D142,1)="V"," (V)",IF(RIGHT(D142,1)="J"," (J)","")) -> #N/A | Q142: =VLOOKUP(H142,ClubNames,2,FALSE()) -> #N/A | R142: =TIME(A142,B142,C142) -> 0
H143: =IF(OR(RIGHT(D143,1)="V",RIGHT(D143,1)="J"),VALUE(LEFT(D143,LEN(D143)-1)),D143) -> 0 | I143: =Q143&COUNTIF($H$2:$H143,H143) -> #N/A | J143: =VLOOKUP(L143,ClubNames,2,FALSE())&COUNTIF($L$2:$L143,L143) -> #N/A | O143: 142 | P143: =VLOOKUP(I143,J:M,4,FALSE()) -> #N/A | Q143: =VLOOKUP(H143,ClubNames,2,FALSE()) -> #N/A | R143: =TIME(A143,B143,C143) -> 0
H144: =IF(OR(RIGHT(D144,1)="V",RIGHT(D144,1)="J"),VALUE(LEFT(D144,LEN(D144)-1)),D144) -> 0 | I144: =Q144&COUNTIF($H$2:$H144,H144) -> #N/A | J144: =VLOOKUP(L144,ClubNames,2,FALSE())&COUNTIF($L$2:$L144,L144) -> #N/A | O144: 143 | P144: =VLOOKUP(I144,J:M,4,FALSE()) -> #N/A | Q144: =VLOOKUP(H144,ClubNames,2,FALSE()) -> #N/A | R144: =TIME(A144,B144,C144) -> 0
H145: =IF(OR(RIGHT(D145,1)="V",RIGHT(D145,1)="J"),VALUE(LEFT(D145,LEN(D145)-1)),D145) -> 0 | I145: =Q145&COUNTIF($H$2:$H145,H145) -> #N/A | J145: =VLOOKUP(L145,ClubNames,2,FALSE())&COUNTIF($L$2:$L145,L145) -> #N/A | O145: 144 | P145: =VLOOKUP(I145,J:M,4,FALSE()) -> #N/A | Q145: =VLOOKUP(H145,ClubNames,2,FALSE()) -> #N/A | R145: =TIME(A145,B145,C145) -> 0
H146: =IF(OR(RIGHT(D146,1)="V",RIGHT(D146,1)="J"),VALUE(LEFT(D146,LEN(D146)-1)),D146) -> 0 | I146: =Q146&COUNTIF($H$2:$H146,H146) -> #N/A | J146: =VLOOKUP(L146,ClubNames,2,FALSE())&COUNTIF($L$2:$L146,L146) -> #N/A | O146: 145 | P146: =VLOOKUP(I146,J:M,4,FALSE()) -> #N/A | Q146: =VLOOKUP(H146,ClubNames,2,FALSE()) -> #N/A | R146: =TIME(A146,B146,C146) -> 0
H147: =IF(OR(RIGHT(D147,1)="V",RIGHT(D147,1)="J"),VALUE(LEFT(D147,LEN(D147)-1)),D147) -> 0 | I147: =Q147&COUNTIF($H$2:$H147,H147) -> #N/A | J147: =VLOOKUP(L147,ClubNames,2,FALSE())&COUNTIF($L$2:$L147,L147) -> #N/A | O147: 146 | P147: =VLOOKUP(I147,J:M,4,FALSE()) -> #N/A | Q147: =VLOOKUP(H147,ClubNames,2,FALSE()) -> #N/A | R147: =TIME(A147,B147,C147) -> 0
H148: =IF(OR(RIGHT(D148,1)="V",RIGHT(D148,1)="J"),VALUE(LEFT(D148,LEN(D148)-1)),D148) -> 0 | I148: =Q148&COUNTIF($H$2:$H148,H148) -> #N/A | J148: =VLOOKUP(L148,ClubNames,2,FALSE())&COUNTIF($L$2:$L148,L148) -> #N/A | O148: 147 | P148: =VLOOKUP(I148,J:M,4,FALSE()) -> #N/A | Q148: =VLOOKUP(H148,ClubNames,2,FALSE()) -> #N/A | R148: =TIME(A148,B148,C148) -> 0
H149: =IF(OR(RIGHT(D149,1)="V",RIGHT(D149,1)="J"),VALUE(LEFT(D149,LEN(D149)-1)),D149) -> 0 | I149: =Q149&COUNTIF($H$2:$H149,H149) -> #N/A | J149: =VLOOKUP(L149,ClubNames,2,FALSE())&COUNTIF($L$2:$L149,L149) -> #N/A | O149: 148 | P149: =VLOOKUP(I149,J:M,4,FALSE()) -> #N/A | Q149: =VLOOKUP(H149,ClubNames,2,FALSE()) -> #N/A | R149: =TIME(A149,B149,C149) -> 0
H150: =IF(OR(RIGHT(D150,1)="V",RIGHT(D150,1)="J"),VALUE(LEFT(D150,LEN(D150)-1)),D150) -> 0 | I150: =Q150&COUNTIF($H$2:$H150,H150) -> #N/A | J150: =VLOOKUP(L150,ClubNames,2,FALSE())&COUNTIF($L$2:$L150,L150) -> #N/A | O150: 149 | P150: =VLOOKUP(I150,J:M,4,FALSE()) -> #N/A | Q150: =VLOOKUP(H150,ClubNames,2,FALSE()) -> #N/A | R150: =TIME(A150,B150,C150) -> 0
H151: =IF(OR(RIGHT(D151,1)="V",RIGHT(D151,1)="J"),VALUE(LEFT(D151,LEN(D151)-1)),D151) -> 0 | I151: =Q151&COUNTIF($H$2:$H151,H151) -> #N/A | J151: =VLOOKUP(L151,ClubNames,2,FALSE())&COUNTIF($L$2:$L151,L151) -> #N/A | O151: 150 | P151: =VLOOKUP(I151,J:M,4,FALSE()) -> #N/A | Q151: =VLOOKUP(H151,ClubNames,2,FALSE()) -> #N/A | R151: =TIME(A151,B151,C151) -> 0
H152: =IF(OR(RIGHT(D152,1)="V",RIGHT(D152,1)="J"),VALUE(LEFT(D152,LEN(D152)-1)),D152) -> 0 | I152: =Q152&COUNTIF($H$2:$H152,H152) -> #N/A | J152: =VLOOKUP(L152,ClubNames,2,FALSE())&COUNTIF($L$2:$L152,L152) -> #N/A | O152: 151 | P152: =VLOOKUP(I152,J:M,4,FALSE()) -> #N/A | Q152: =VLOOKUP(H152,ClubNames,2,FALSE()) -> #N/A | R152: =TIME(A152,B152,C152) -> 0
H153: =IF(OR(RIGHT(D153,1)="V",RIGHT(D153,1)="J"),VALUE(LEFT(D153,LEN(D153)-1)),D153) -> 0 | I153: =Q153&COUNTIF($H$2:$H153,H153) -> #N/A | J153: =VLOOKUP(L153,ClubNames,2,FALSE())&COUNTIF($L$2:$L153,L153) -> #N/A | O153: 152 | P153: =VLOOKUP(I153,J:M,4,FALSE()) -> #N/A | Q153: =VLOOKUP(H153,ClubNames,2,FALSE()) -> #N/A | R153: =TIME(A153,B153,C153) -> 0
H154: =IF(OR(RIGHT(D154,1)="V",RIGHT(D154,1)="J"),VALUE(LEFT(D154,LEN(D154)-1)),D154) -> 0 | I154: =Q154&COUNTIF($H$2:$H154,H154) -> #N/A | J154: =VLOOKUP(L154,ClubNames,2,FALSE())&COUNTIF($L$2:$L154,L154) -> #N/A | O154: 153 | P154: =VLOOKUP(I154,J:M,4,FALSE()) -> #N/A | Q154: =VLOOKUP(H154,ClubNames,2,FALSE()) -> #N/A | R154: =TIME(A154,B154,C154) -> 0
... H300: =IF(OR(RIGHT(D300,1)="V",RIGHT(D300,1)="J"),VALUE(LEFT(D300,LEN(D300)-1)),D300) -> 0 | I300: =Q300&COUNTIF($H$2:$H300,H300) -> #N/A | J300: =VLOOKUP(L300,ClubNames,2,FALSE())&COUNTIF($L$2:$L300,L300) -> #N/A | O300: 299 | P300: =VLOOKUP(I300,J:M,4,FALSE()) -> #N/A | Q300: =VLOOKUP(H300,ClubNames,2,FALSE()) -> #N/A | R300: =TIME(A300,B300,C300) -> 0
O301: 300 | P301: =VLOOKUP(I301,J:M,4,FALSE()) -> #N/A | Q301: =VLOOKUP(H301,ClubNames,2,FALSE()) -> #N/A | R301: =TIME(A301,B301,C301) -> 0

Sheet U13 Girls
A1: Hr | C1: Sec | D1: Bib No | F1: Club | G1: Finishers | H1: Team No | I1: Race Finish | J1: Team Finish | L1: Team No | M1: Name | O1: Pos | P1: Name | Q1: Club | R1: Time
B2: 11 | C2: 12 | D2: 29 | E2: =Clubs!A3 -> 1 | F2: =Clubs!B3 -> Edinburgh AC | G2: =COUNTIF($H:$H,E2) -> 8 | H2: =IF(OR(RIGHT(D2,1)="V",RIGHT(D2,1)="J"),VALUE(LEFT(D2,LEN(D2)-1)),D2) -> 29 | I2: =Q2&COUNTIF($H$2:$H2,H2) -> Team Borders1 | J2: =VLOOKUP(L2,ClubNames,2,FALSE())&COUNTIF($L$2:$L2,L2) -> Edinburgh AC1 | L2: 1 | M2: Maisie Brown | O2: 1 | P2: =VLOOKUP(I2,J:M,4,FALSE())&IF(RIGHT(D2,1)="V"," (V)",IF(RIGHT(D2,1)="J"," (J)","")) -> Rose Davidson | Q2: =VLOOKUP(H2,ClubNames,2,FALSE()) -> Team Borders | R2: =TIME(A2,B2,C2) -> 0.0077777778
B3: 11 | C3: 25 | D3: 30 | E3: =Clubs!A4 -> 2 | F3: =Clubs!B4 -> Perth Road Runners | G3: =COUNTIF($H:$H,E3) -> 0 | H3: =IF(OR(RIGHT(D3,1)="V",RIGHT(D3,1)="J"),VALUE(LEFT(D3,LEN(D3)-1)),D3) -> 30 | I3: =Q3&COUNTIF($H$2:$H3,H3) -> Perth Strathtay Harriers1 | J3: =VLOOKUP(L3,ClubNames,2,FALSE())&COUNTIF($L$2:$L3,L3) -> Edinburgh AC2 | L3: 1 | M3: Callie Craig | O3: =1+O2 -> 2 | P3: =VLOOKUP(I3,J:M,4,FALSE())&IF(RIGHT(D3,1)="V"," (V)",IF(RIGHT(D3,1)="J"," (J)","")) -> Gabi Whyte | Q3: =VLOOKUP(H3,ClubNames,2,FALSE()) -> Perth Strathtay Harriers | R3: =TIME(A3,B3,C3) -> 0.0079282407
B4: 11 | C4: 30 | D4: 20 | E4: =Clubs!A5 -> 3 | F4: =Clubs!B5 -> Lothian Running Club | G4: =COUNTIF($H:$H,E4) -> 2 | H4: =IF(OR(RIGHT(D4,1)="V",RIGHT(D4,1)="J"),VALUE(LEFT(D4,LEN(D4)-1)),D4) -> 20 | I4: =Q4&COUNTIF($H$2:$H4,H4) -> Harmeny AAC1 | J4: =VLOOKUP(L4,ClubNames,2,FALSE())&COUNTIF($L$2:$L4,L4) -> Edinburgh AC3 | L4: 1 | M4: Charlotte Greenshields | O4: =1+O3 -> 3 | P4: =VLOOKUP(I4,J:M,4,FALSE())&IF(RIGHT(D4,1)="V"," (V)",IF(RIGHT(D4,1)="J"," (J)","")) -> Isobel Patterson | Q4: =VLOOKUP(H4,ClubNames,2,FALSE()) -> Harmeny AAC | R4: =TIME(A4,B4,C4) -> 0.0079861111
B5: 11 | C5: 33 | D5: 29 | E5: =Clubs!A6 -> 4 | F5: =Clubs!B6 -> Teviotdale Harriers | G5: =COUNTIF($H:$H,E5) -> 2 | H5: =IF(OR(RIGHT(D5,1)="V",RIGHT(D5,1)="J"),VALUE(LEFT(D5,LEN(D5)-1)),D5) -> 29 | I5: =Q5&COUNTIF($H$2:$H5,H5) -> Team Borders2 | J5: =VLOOKUP(L5,ClubNames,2,FALSE())&COUNTIF($L$2:$L5,L5) -> Edinburgh AC4 | L5: 1 | M5: Annie Whale | O5: =1+O4 -> 4 | P5: =VLOOKUP(I5,J:M,4,FALSE())&IF(RIGHT(D5,1)="V"," (V)",IF(RIGHT(D5,1)="J"," (J)","")) -> Molly Trewartha | Q5: =VLOOKUP(H5,ClubNames,2,FALSE()) -> Team Borders | R5: =TIME(A5,B5,C5) -> 0.0080208333
B6: 11 | C6: 40 | D6: 1 | E6: =Clubs!A7 -> 5 | F6: =Clubs!B7 -> Moorfoot Runners | G6: =COUNTIF($H:$H,E6) -> 0 | H6: =IF(OR(RIGHT(D6,1)="V",RIGHT(D6,1)="J"),VALUE(LEFT(D6,LEN(D6)-1)),D6) -> 1 | I6: =Q6&COUNTIF($H$2:$H6,H6) -> Edinburgh AC1 | J6: =VLOOKUP(L6,ClubNames,2,FALSE())&COUNTIF($L$2:$L6,L6) -> Edinburgh AC5 | L6: 1 | M6: Ella Hacket | O6: =1+O5 -> 5 | P6: =VLOOKUP(I6,J:M,4,FALSE())&IF(RIGHT(D6,1)="V"," (V)",IF(RIGHT(D6,1)="J"," (J)","")) -> Maisie Brown | Q6: =VLOOKUP(H6,ClubNames,2,FALSE()) -> Edinburgh AC | R6: =TIME(A6,B6,C6) -> 0.0081018519
B7: 11 | C7: 51 | D7: 30 | E7: =Clubs!A8 -> 6 | F7: =Clubs!B8 -> Aberdeen AAC | G7: =COUNTIF($H:$H,E7) -> 4 | H7: =IF(OR(RIGHT(D7,1)="V",RIGHT(D7,1)="J"),VALUE(LEFT(D7,LEN(D7)-1)),D7) -> 30 | I7: =Q7&COUNTIF($H$2:$H7,H7) -> Perth Strathtay Harriers2 | J7: =VLOOKUP(L7,ClubNames,2,FALSE())&COUNTIF($L$2:$L7,L7) -> Edinburgh AC6 | L7: 1 | M7: Nieve Robertson | O7: =1+O6 -> 6 | P7: =VLOOKUP(I7,J:M,4,FALSE())&IF(RIGHT(D7,1)="V"," (V)",IF(RIGHT(D7,1)="J"," (J)","")) -> Kezi Swift | Q7: =VLOOKUP(H7,ClubNames,2,FALSE()) -> Perth Strathtay Harriers | R7: =TIME(A7,B7,C7) -> 0.0082291667
B8: 11 | C8: 56 | D8: 6 | E8: =Clubs!A9 -> 7 | F8: =Clubs!B9 -> Pitreavie AAC | G8: =COUNTIF($H:$H,E8) -> 2 | H8: =IF(OR(RIGHT(D8,1)="V",RIGHT(D8,1)="J"),VALUE(LEFT(D8,LEN(D8)-1)),D8) -> 6 | I8: =Q8&COUNTIF($H$2:$H8,H8) -> Aberdeen AAC1 | J8: =VLOOKUP(L8,ClubNames,2,FALSE())&COUNTIF($L$2:$L8,L8) -> Edinburgh AC7 | L8: 1 | M8: Annabelle Kennedy | O8: =1+O7 -> 7 | P8: =VLOOKUP(I8,J:M,4,FALSE())&IF(RIGHT(D8,1)="V"," (V)",IF(RIGHT(D8,1)="J"," (J)","")) -> Coco Czekalowska | Q8: =VLOOKUP(H8,ClubNames,2,FALSE()) -> Aberdeen AAC | R8: =TIME(A8,B8,C8) -> 0.008287037
B9: 11 | C9: 59 | D9: 1 | E9: =Clubs!A10 -> 8 | F9: =Clubs!B10 -> Fife AC | G9: =COUNTIF($H:$H,E9) -> 0 | H9: =IF(OR(RIGHT(D9,1)="V",RIGHT(D9,1)="J"),VALUE(LEFT(D9,LEN(D9)-1)),D9) -> 1 | I9: =Q9&COUNTIF($H$2:$H9,H9) -> Edinburgh AC2 | J9: =VLOOKUP(L9,ClubNames,2,FALSE())&COUNTIF($L$2:$L9,L9) -> Edinburgh AC8 | L9: 1 | M9: Ava King | O9: =1+O8 -> 8 | P9: =VLOOKUP(I9,J:M,4,FALSE())&IF(RIGHT(D9,1)="V"," (V)",IF(RIGHT(D9,1)="J"," (J)","")) -> Callie Craig | Q9: =VLOOKUP(H9,ClubNames,2,FALSE()) -> Edinburgh AC | R9: =TIME(A9,B9,C9) -> 0.0083217593
B10: 12 | C10: 0 | D10: 27 | E10: =Clubs!A11 -> 9 | F10: =Clubs!B11 -> Not Used | G10: =COUNTIF($H:$H,E10) -> 0 | H10: =IF(OR(RIGHT(D10,1)="V",RIGHT(D10,1)="J"),VALUE(LEFT(D10,LEN(D10)-1)),D10) -> 27 | I10: =Q10&COUNTIF($H$2:$H10,H10) -> Linlithgow AC1 | J10: =VLOOKUP(L10,ClubNames,2,FALSE())&COUNTIF($L$2:$L10,L10) -> Lothian Running Club1 | L10: 3 | M10: Rachel Collings | O10: =1+O9 -> 9 | P10: =VLOOKUP(I10,J:M,4,FALSE())&IF(RIGHT(D10,1)="V"," (V)",IF(RIGHT(D10,1)="J"," (J)","")) -> Hannah Bogle | Q10: =VLOOKUP(H10,ClubNames,2,FALSE()) -> Linlithgow AC | R10: =TIME(A10,B10,C10) -> 0.0083333333
B11: 12 | C11: 2 | D11: 20 | E11: =Clubs!A12 -> 10 | F11: =Clubs!B12 -> Edinburgh Univ Hare & Hounds | G11: =COUNTIF($H:$H,E11) -> 0 | H11: =IF(OR(RIGHT(D11,1)="V",RIGHT(D11,1)="J"),VALUE(LEFT(D11,LEN(D11)-1)),D11) -> 20 | I11: =Q11&COUNTIF($H$2:$H11,H11) -> Harmeny AAC2 | J11: =VLOOKUP(L11,ClubNames,2,FALSE())&COUNTIF($L$2:$L11,L11) -> Lothian Running Club2 | L11: 3 | M11: Abbie Scott-Telford | O11: =1+O10 -> 10 | P11: =VLOOKUP(I11,J:M,4,FALSE())&IF(RIGHT(D11,1)="V"," (V)",IF(RIGHT(D11,1)="J"," (J)","")) -> Luciana Starkey | Q11: =VLOOKUP(H11,ClubNames,2,FALSE()) -> Harmeny AAC | R11: =TIME(A11,B11,C11) -> 0.0083564815
B12: 12 | C12: 2 | D12: 51 | E12: =Clubs!A13 -> 11 | F12: =Clubs!B13 -> Falkirk Victoria Harriers | G12: =COUNTIF($H:$H,E12) -> 3 | H12: =IF(OR(RIGHT(D12,1)="V",RIGHT(D12,1)="J"),VALUE(LEFT(D12,LEN(D12)-1)),D12) -> 51 | I12: =Q12&COUNTIF($H$2:$H12,H12) -> Haddington Running Club1 | J12: =VLOOKUP(L12,ClubNames,2,FALSE())&COUNTIF($L$2:$L12,L12) -> Teviotdale Harriers1 | L12: 4 | M12: Freya Walker | O12: =1+O11 -> 11 | P12: =VLOOKUP(I12,J:M,4,FALSE())&IF(RIGHT(D12,1)="V"," (V)",IF(RIGHT(D12,1)="J"," (J)","")) -> Eilidh Robson | Q12: =VLOOKUP(H12,ClubNames,2,FALSE()) -> Haddington Running Club | R12: =TIME(A12,B12,C12) -> 0.0083564815
B13: 12 | C13: 10 | D13: 31 | E13: =Clubs!A14 -> 12 | F13: =Clubs!B14 -> Hunters Bog Trotters | G13: =COUNTIF($H:$H,E13) -> 0 | H13: =IF(OR(RIGHT(D13,1)="V",RIGHT(D13,1)="J"),VALUE(LEFT(D13,LEN(D13)-1)),D13) -> 31 | I13: =Q13&COUNTIF($H$2:$H13,H13) -> Corstorphine AAC1 | J13: =VLOOKUP(L13,ClubNames,2,FALSE())&COUNTIF($L$2:$L13,L13) -> Teviotdale Harriers2 | L13: 4 | M13: Amber Smith | O13: =1+O12 -> 12 | P13: =VLOOKUP(I13,J:M,4,FALSE())&IF(RIGHT(D13,1)="V"," (V)",IF(RIGHT(D13,1)="J"," (J)","")) -> Ella Harrison | Q13: =VLOOKUP(H13,ClubNames,2,FALSE()) -> Corstorphine AAC | R13: =TIME(A13,B13,C13) -> 0.0084490741
B14: 12 | C14: 13 | D14: 1 | E14: =Clubs!A15 -> 13 | F14: =Clubs!B15 -> Gala Harriers | G14: =COUNTIF($H:$H,E14) -> 0 | H14: =IF(OR(RIGHT(D14,1)="V",RIGHT(D14,1)="J"),VALUE(LEFT(D14,LEN(D14)-1)),D14) -> 1 | I14: =Q14&COUNTIF($H$2:$H14,H14) -> Edinburgh AC3 | J14: =VLOOKUP(L14,ClubNames,2,FALSE())&COUNTIF($L$2:$L14,L14) -> Aberdeen AAC1 | L14: 6 | M14: Coco Czekalowska | O14: =1+O13 -> 13 | P14: =VLOOKUP(I14,J:M,4,FALSE())&IF(RIGHT(D14,1)="V"," (V)",IF(RIGHT(D14,1)="J"," (J)","")) -> Charlotte Greenshields | Q14: =VLOOKUP(H14,ClubNames,2,FALSE()) -> Edinburgh AC | R14: =TIME(A14,B14,C14) -> 0.0084837963
... B50: 14 | C50: 32 | D50: 24 | E50: =Clubs!A51 -> 49 | F50: =Clubs!B51 -> Lauderdale Limpers | G50: =COUNTIF($H:$H,E50) -> 0 | H50: =IF(OR(RIGHT(D50,1)="V",RIGHT(D50,1)="J"),VALUE(LEFT(D50,LEN(D50)-1)),D50) -> 24 | I50: =Q50&COUNTIF($H$2:$H50,H50) -> Strathearn Harriers3 | J50: =VLOOKUP(L50,ClubNames,2,FALSE())&COUNTIF($L$2:$L50,L50) -> Perth Strathtay Harriers2 | L50: 30 | M50: Kezi Swift | O50: =1+O49 -> 49 | P50: =VLOOKUP(I50,J:M,4,FALSE())&IF(RIGHT(D50,1)="V"," (V)",IF(RIGHT(D50,1)="J"," (J)","")) -> Caitlin Hunter | Q50: =VLOOKUP(H50,ClubNames,2,FALSE()) -> Strathearn Harriers | R50: =TIME(A50,B50,C50) -> 0.010092593
B51: 14 | C51: 32 | D51: 24 | E51: =Clubs!A52 -> 50 | F51: =Clubs!B52 -> Stirling University AC | G51: =COUNTIF($H:$H,E51) -> 0 | H51: =IF(OR(RIGHT(D51,1)="V",RIGHT(D51,1)="J"),VALUE(LEFT(D51,LEN(D51)-1)),D51) -> 24 | I51: =Q51&COUNTIF($H$2:$H51,H51) -> Strathearn Harriers4 | J51: =VLOOKUP(L51,ClubNames,2,FALSE())&COUNTIF($L$2:$L51,L51) -> Perth Strathtay Harriers3 | L51: 30 | M51: Sophie Cassie | O51: 50 | P51: =VLOOKUP(I51,J:M,4,FALSE())&IF(RIGHT(D51,1)="V"," (V)",IF(RIGHT(D51,1)="J"," (J)","")) -> Molly Maskell | Q51: =VLOOKUP(H51,ClubNames,2,FALSE()) -> Strathearn Harriers | R51: =TIME(A51,B51,C51) -> 0.010092593
B52: 14 | C52: 39 | D52: 1 | E52: =Clubs!A53 -> 51 | F52: =Clubs!B53 -> Haddington Running Club | G52: =COUNTIF($H:$H,E52) -> 1 | H52: =IF(OR(RIGHT(D52,1)="V",RIGHT(D52,1)="J"),VALUE(LEFT(D52,LEN(D52)-1)),D52) -> 1 | I52: =Q52&COUNTIF($H$2:$H52,H52) -> Edinburgh AC7 | J52: =VLOOKUP(L52,ClubNames,2,FALSE())&COUNTIF($L$2:$L52,L52) -> Corstorphine AAC1 | L52: 31 | M52: Ella Harrison | O52: 51 | P52: =VLOOKUP(I52,J:M,4,FALSE())&IF(RIGHT(D52,1)="V"," (V)",IF(RIGHT(D52,1)="J"," (J)","")) -> Annabelle Kennedy | Q52: =VLOOKUP(H52,ClubNames,2,FALSE()) -> Edinburgh AC | R52: =TIME(A52,B52,C52) -> 0.010173611
B53: 14 | C53: 47 | D53: 36 | E53: =Clubs!A54 -> 52 | F53: =Clubs!B54 -> Arbroath & District AAC | G53: =COUNTIF($H:$H,E53) -> 0 | H53: =IF(OR(RIGHT(D53,1)="V",RIGHT(D53,1)="J"),VALUE(LEFT(D53,LEN(D53)-1)),D53) -> 36 | I53: =Q53&COUNTIF($H$2:$H53,H53) -> Banchory Stonehaven AC1 | J53: =VLOOKUP(L53,ClubNames,2,FALSE())&COUNTIF($L$2:$L53,L53) -> Corstorphine AAC2 | L53: 31 | M53: Riley Harrison | O53: 52 | P53: =VLOOKUP(I53,J:M,4,FALSE())&IF(RIGHT(D53,1)="V"," (V)",IF(RIGHT(D53,1)="J"," (J)","")) -> Willow Thom | Q53: =VLOOKUP(H53,ClubNames,2,FALSE()) -> Banchory Stonehaven AC | R53: =TIME(A53,B53,C53) -> 0.010266204
B54: 14 | C54: 49 | D54: 24 | E54: =Clubs!A55 -> 53 | F54: =Clubs!B55 -> Run Livingston | G54: =COUNTIF($H:$H,E54) -> 0 | H54: =IF(OR(RIGHT(D54,1)="V",RIGHT(D54,1)="J"),VALUE(LEFT(D54,LEN(D54)-1)),D54) -> 24 | I54: =Q54&COUNTIF($H$2:$H54,H54) -> Strathearn Harriers5 | J54: =VLOOKUP(L54,ClubNames,2,FALSE())&COUNTIF($L$2:$L54,L54) -> Corstorphine AAC3 | L54: 31 | M54: Beth Craigie | O54: 53 | P54: =VLOOKUP(I54,J:M,4,FALSE())&IF(RIGHT(D54,1)="V"," (V)",IF(RIGHT(D54,1)="J"," (J)","")) -> Ivy Salisbury | Q54: =VLOOKUP(H54,ClubNames,2,FALSE()) -> Strathearn Harriers | R54: =TIME(A54,B54,C54) -> 0.010289352
B55: 14 | C55: 51 | D55: 16 | H55: =IF(OR(RIGHT(D55,1)="V",RIGHT(D55,1)="J"),VALUE(LEFT(D55,LEN(D55)-1)),D55) -> 16 | I55: =Q55&COUNTIF($H$2:$H55,H55) -> Dundee Hawkhill Harriers1 | J55: =VLOOKUP(L55,ClubNames,2,FALSE())&COUNTIF($L$2:$L55,L55) -> Corstorphine AAC4 | L55: 31 | M55: Vivienne O'Brien | O55: 54 | P55: =VLOOKUP(I55,J:M,4,FALSE())&IF(RIGHT(D55,1)="V"," (V)",IF(RIGHT(D55,1)="J"," (J)","")) -> Isla Greig | Q55: =VLOOKUP(H55,ClubNames,2,FALSE()) -> Dundee Hawkhill Harriers | R55: =TIME(A55,B55,C55) -> 0.0103125
B56: 15 | C56: 41 | D56: 32 | H56: =IF(OR(RIGHT(D56,1)="V",RIGHT(D56,1)="J"),VALUE(LEFT(D56,LEN(D56)-1)),D56) -> 32 | I56: =Q56&COUNTIF($H$2:$H56,H56) -> Lasswade AAC3 | J56: =VLOOKUP(L56,ClubNames,2,FALSE())&COUNTIF($L$2:$L56,L56) -> Lasswade AAC1 | L56: 32 | M56: Joella Esson | O56: 55 | P56: =VLOOKUP(I56,J:M,4,FALSE())&IF(RIGHT(D56,1)="V"," (V)",IF(RIGHT(D56,1)="J"," (J)","")) -> Orla Thomson | Q56: =VLOOKUP(H56,ClubNames,2,FALSE()) -> Lasswade AAC | R56: =TIME(A56,B56,C56) -> 0.010891204
B57: 15 | C57: 52 | D57: 1 | H57: =IF(OR(RIGHT(D57,1)="V",RIGHT(D57,1)="J"),VALUE(LEFT(D57,LEN(D57)-1)),D57) -> 1 | I57: =Q57&COUNTIF($H$2:$H57,H57) -> Edinburgh AC8 | J57: =VLOOKUP(L57,ClubNames,2,FALSE())&COUNTIF($L$2:$L57,L57) -> Lasswade AAC2 | L57: 32 | M57: Corrie Irvine | O57: 56 | P57: =VLOOKUP(I57,J:M,4,FALSE())&IF(RIGHT(D57,1)="V"," (V)",IF(RIGHT(D57,1)="J"," (J)","")) -> Ava King | Q57: =VLOOKUP(H57,ClubNames,2,FALSE()) -> Edinburgh AC | R57: =TIME(A57,B57,C57) -> 0.011018519
B58: 15 | C58: 53 | D58: 39 | H58: =IF(OR(RIGHT(D58,1)="V",RIGHT(D58,1)="J"),VALUE(LEFT(D58,LEN(D58)-1)),D58) -> 39 | I58: =Q58&COUNTIF($H$2:$H58,H58) -> Dunfermline Track & Field AC1 | J58: =VLOOKUP(L58,ClubNames,2,FALSE())&COUNTIF($L$2:$L58,L58) -> Lasswade AAC3 | L58: 32 | M58: Orla Thomson | O58: 57 | P58: =VLOOKUP(I58,J:M,4,FALSE())&IF(RIGHT(D58,1)="V"," (V)",IF(RIGHT(D58,1)="J"," (J)","")) -> Laima Lowe | Q58: =VLOOKUP(H58,ClubNames,2,FALSE()) -> Dunfermline Track & Field AC | R58: =TIME(A58,B58,C58) -> 0.011030093
B59: 15 | C59: 53 | D59: 19 | H59: =IF(OR(RIGHT(D59,1)="V",RIGHT(D59,1)="J"),VALUE(LEFT(D59,LEN(D59)-1)),D59) -> 19 | I59: =Q59&COUNTIF($H$2:$H59,H59) -> Metro Aberdeen Running Club3 | J59: =VLOOKUP(L59,ClubNames,2,FALSE())&COUNTIF($L$2:$L59,L59) -> Lasswade AAC4 | L59: 32 | M59: Fearne Quinn | O59: 58 | P59: =VLOOKUP(I59,J:M,4,FALSE())&IF(RIGHT(D59,1)="V"," (V)",IF(RIGHT(D59,1)="J"," (J)","")) -> PIppa Applegate | Q59: =VLOOKUP(H59,ClubNames,2,FALSE()) -> Metro Aberdeen Running Club | R59: =TIME(A59,B59,C59) -> 0.011030093
B60: 16 | C60: 4 | D60: 32 | H60: =IF(OR(RIGHT(D60,1)="V",RIGHT(D60,1)="J"),VALUE(LEFT(D60,LEN(D60)-1)),D60) -> 32 | I60: =Q60&COUNTIF($H$2:$H60,H60) -> Lasswade AAC4 | J60: =VLOOKUP(L60,ClubNames,2,FALSE())&COUNTIF($L$2:$L60,L60) -> Banchory Stonehaven AC1 | L60: 36 | M60: Willow Thom | O60: 59 | P60: =VLOOKUP(I60,J:M,4,FALSE())&IF(RIGHT(D60,1)="V"," (V)",IF(RIGHT(D60,1)="J"," (J)","")) -> Fearne Quinn | Q60: =VLOOKUP(H60,ClubNames,2,FALSE()) -> Lasswade AAC | R60: =TIME(A60,B60,C60) -> 0.011157407
B61: 16 | C61: 43 | D61: 7 | H61: =IF(OR(RIGHT(D61,1)="V",RIGHT(D61,1)="J"),VALUE(LEFT(D61,LEN(D61)-1)),D61) -> 7 | I61: =Q61&COUNTIF($H$2:$H61,H61) -> Pitreavie AAC2 | J61: =VLOOKUP(L61,ClubNames,2,FALSE())&COUNTIF($L$2:$L61,L61) -> Dunfermline Track & Field AC1 | L61: 39 | M61: Laima Lowe | O61: 60 | P61: =VLOOKUP(I61,J:M,4,FALSE())&IF(RIGHT(D61,1)="V"," (V)",IF(RIGHT(D61,1)="J"," (J)","")) -> Annie Sinclair | Q61: =VLOOKUP(H61,ClubNames,2,FALSE()) -> Pitreavie AAC | R61: =TIME(A61,B61,C61) -> 0.011608796
B62: 17 | C62: 19 | D62: 6 | H62: =IF(OR(RIGHT(D62,1)="V",RIGHT(D62,1)="J"),VALUE(LEFT(D62,LEN(D62)-1)),D62) -> 6 | I62: =Q62&COUNTIF($H$2:$H62,H62) -> Aberdeen AAC4 | J62: =VLOOKUP(L62,ClubNames,2,FALSE())&COUNTIF($L$2:$L62,L62) -> Haddington Running Club1 | L62: 51 | M62: Eilidh Robson | O62: 61 | P62: =VLOOKUP(I62,J:M,4,FALSE())&IF(RIGHT(D62,1)="V"," (V)",IF(RIGHT(D62,1)="J"," (J)","")) -> Eve McAllister | Q62: =VLOOKUP(H62,ClubNames,2,FALSE()) -> Aberdeen AAC | R62: =TIME(A62,B62,C62) -> 0.012025463
H63: =IF(OR(RIGHT(D63,1)="V",RIGHT(D63,1)="J"),VALUE(LEFT(D63,LEN(D63)-1)),D63) -> 0 | I63: =Q63&COUNTIF($H$2:$H63,H63) -> #N/A | J63: =VLOOKUP(L63,ClubNames,2,FALSE())&COUNTIF($L$2:$L63,L63) -> #N/A | O63: 62 | P63: =VLOOKUP(I63,J:M,4,FALSE())&IF(RIGHT(D63,1)="V"," (V)",IF(RIGHT(D63,1)="J"," (J)","")) -> #N/A | Q63: =VLOOKUP(H63,ClubNames,2,FALSE()) -> #N/A | R63: =TIME(A63,B63,C63) -> 0
H64: =IF(OR(RIGHT(D64,1)="V",RIGHT(D64,1)="J"),VALUE(LEFT(D64,LEN(D64)-1)),D64) -> 0 | I64: =Q64&COUNTIF($H$2:$H64,H64) -> #N/A | J64: =VLOOKUP(L64,ClubNames,2,FALSE())&COUNTIF($L$2:$L64,L64) -> #N/A | O64: 63 | P64: =VLOOKUP(I64,J:M,4,FALSE())&IF(RIGHT(D64,1)="V"," (V)",IF(RIGHT(D64,1)="J"," (J)","")) -> #N/A | Q64: =VLOOKUP(H64,ClubNames,2,FALSE()) -> #N/A | R64: =TIME(A64,B64,C64) -> 0
H65: =IF(OR(RIGHT(D65,1)="V",RIGHT(D65,1)="J"),VALUE(LEFT(D65,LEN(D65)-1)),D65) -> 0 | I65: =Q65&COUNTIF($H$2:$H65,H65) -> #N/A | J65: =VLOOKUP(L65,ClubNames,2,FALSE())&COUNTIF($L$2:$L65,L65) -> #N/A | O65: 64 | P65: =VLOOKUP(I65,J:M,4,FALSE())&IF(RIGHT(D65,1)="V"," (V)",IF(RIGHT(D65,1)="J"," (J)","")) -> #N/A | Q65: =VLOOKUP(H65,ClubNames,2,FALSE()) -> #N/A | R65: =TIME(A65,B65,C65) -> 0
H66: =IF(OR(RIGHT(D66,1)="V",RIGHT(D66,1)="J"),VALUE(LEFT(D66,LEN(D66)-1)),D66) -> 0 | I66: =Q66&COUNTIF($H$2:$H66,H66) -> #N/A | J66: =VLOOKUP(L66,ClubNames,2,FALSE())&COUNTIF($L$2:$L66,L66) -> #N/A | O66: 65 | P66: =VLOOKUP(I66,J:M,4,FALSE())&IF(RIGHT(D66,1)="V"," (V)",IF(RIGHT(D66,1)="J"," (J)","")) -> #N/A | Q66: =VLOOKUP(H66,ClubNames,2,FALSE()) -> #N/A | R66: =TIME(A66,B66,C66) -> 0
H67: =IF(OR(RIGHT(D67,1)="V",RIGHT(D67,1)="J"),VALUE(LEFT(D67,LEN(D67)-1)),D67) -> 0 | I67: =Q67&COUNTIF($H$2:$H67,H67) -> #N/A | J67: =VLOOKUP(L67,ClubNames,2,FALSE())&COUNTIF($L$2:$L67,L67) -> #N/A | O67: 66 | P67: =VLOOKUP(I67,J:M,4,FALSE())&IF(RIGHT(D67,1)="V"," (V)",IF(RIGHT(D67,1)="J"," (J)","")) -> #N/A | Q67: =VLOOKUP(H67,ClubNames,2,FALSE()) -> #N/A | R67: =TIME(A67,B67,C67) -> 0
H68: =IF(OR(RIGHT(D68,1)="V",RIGHT(D68,1)="J"),VALUE(LEFT(D68,LEN(D68)-1)),D68) -> 0 | I68: =Q68&COUNTIF($H$2:$H68,H68) -> #N/A | J68: =VLOOKUP(L68,ClubNames,2,FALSE())&COUNTIF($L$2:$L68,L68) -> #N/A | O68: 67 | P68: =VLOOKUP(I68,J:M,4,FALSE())&IF(RIGHT(D68,1)="V"," (V)",IF(RIGHT(D68,1)="J"," (J)","")) -> #N/A | Q68: =VLOOKUP(H68,ClubNames,2,FALSE()) -> #N/A | R68: =TIME(A68,B68,C68) -> 0
H69: =IF(OR(RIGHT(D69,1)="V",RIGHT(D69,1)="J"),VALUE(LEFT(D69,LEN(D69)-1)),D69) -> 0 | I69: =Q69&COUNTIF($H$2:$H69,H69) -> #N/A | J69: =VLOOKUP(L69,ClubNames,2,FALSE())&COUNTIF($L$2:$L69,L69) -> #N/A | O69: 68 | P69: =VLOOKUP(I69,J:M,4,FALSE())&IF(RIGHT(D69,1)="V"," (V)",IF(RIGHT(D69,1)="J"," (J)","")) -> #N/A | Q69: =VLOOKUP(H69,ClubNames,2,FALSE()) -> #N/A | R69: =TIME(A69,B69,C69) -> 0
H70: =IF(OR(RIGHT(D70,1)="V",RIGHT(D70,1)="J"),VALUE(LEFT(D70,LEN(D70)-1)),D70) -> 0 | I70: =Q70&COUNTIF($H$2:$H70,H70) -> #N/A | J70: =VLOOKUP(L70,ClubNames,2,FALSE())&COUNTIF($L$2:$L70,L70) -> #N/A | O70: 69 | P70: =VLOOKUP(I70,J:M,4,FALSE())&IF(RIGHT(D70,1)="V"," (V)",IF(RIGHT(D70,1)="J"," (J)","")) -> #N/A | Q70: =VLOOKUP(H70,ClubNames,2,FALSE()) -> #N/A | R70: =TIME(A70,B70,C70) -> 0
H71: =IF(OR(RIGHT(D71,1)="V",RIGHT(D71,1)="J"),VALUE(LEFT(D71,LEN(D71)-1)),D71) -> 0 | I71: =Q71&COUNTIF($H$2:$H71,H71) -> #N/A | J71: =VLOOKUP(L71,ClubNames,2,FALSE())&COUNTIF($L$2:$L71,L71) -> #N/A | O71: 70 | P71: =VLOOKUP(I71,J:M,4,FALSE())&IF(RIGHT(D71,1)="V"," (V)",IF(RIGHT(D71,1)="J"," (J)","")) -> #N/A | Q71: =VLOOKUP(H71,ClubNames,2,FALSE()) -> #N/A | R71: =TIME(A71,B71,C71) -> 0
H72: =IF(OR(RIGHT(D72,1)="V",RIGHT(D72,1)="J"),VALUE(LEFT(D72,LEN(D72)-1)),D72) -> 0 | I72: =Q72&COUNTIF($H$2:$H72,H72) -> #N/A | J72: =VLOOKUP(L72,ClubNames,2,FALSE())&COUNTIF($L$2:$L72,L72) -> #N/A | O72: 71 | P72: =VLOOKUP(I72,J:M,4,FALSE())&IF(RIGHT(D72,1)="V"," (V)",IF(RIGHT(D72,1)="J"," (J)","")) -> #N/A | Q72: =VLOOKUP(H72,ClubNames,2,FALSE()) -> #N/A | R72: =TIME(A72,B72,C72) -> 0
H73: =IF(OR(RIGHT(D73,1)="V",RIGHT(D73,1)="J"),VALUE(LEFT(D73,LEN(D73)-1)),D73) -> 0 | I73: =Q73&COUNTIF($H$2:$H73,H73) -> #N/A | J73: =VLOOKUP(L73,ClubNames,2,FALSE())&COUNTIF($L$2:$L73,L73) -> #N/A | O73: 72 | P73: =VLOOKUP(I73,J:M,4,FALSE())&IF(RIGHT(D73,1)="V"," (V)",IF(RIGHT(D73,1)="J"," (J)","")) -> #N/A | Q73: =VLOOKUP(H73,ClubNames,2,FALSE()) -> #N/A | R73: =TIME(A73,B73,C73) -> 0
H74: =IF(OR(RIGHT(D74,1)="V",RIGHT(D74,1)="J"),VALUE(LEFT(D74,LEN(D74)-1)),D74) -> 0 | I74: =Q74&COUNTIF($H$2:$H74,H74) -> #N/A | J74: =VLOOKUP(L74,ClubNames,2,FALSE())&COUNTIF($L$2:$L74,L74) -> #N/A | O74: 73 | P74: =VLOOKUP(I74,J:M,4,FALSE())&IF(RIGHT(D74,1)="V"," (V)",IF(RIGHT(D74,1)="J"," (J)","")) -> #N/A | Q74: =VLOOKUP(H74,ClubNames,2,FALSE()) -> #N/A | R74: =TIME(A74,B74,C74) -> 0
... H142: =IF(OR(RIGHT(D142,1)="V",RIGHT(D142,1)="J"),VALUE(LEFT(D142,LEN(D142)-1)),D142) -> 0 | I142: =Q142&COUNTIF($H$2:$H142,H142) -> #N/A | J142: =VLOOKUP(L142,ClubNames,2,FALSE())&COUNTIF($L$2:$L142,L142) -> #N/A | O142: 141 | P142: =VLOOKUP(I142,J:M,4,FALSE())&IF(RIGHT(D142,1)="V"," (V)",IF(RIGHT(D142,1)="J"," (J)","")) -> #N/A | Q142: =VLOOKUP(H142,ClubNames,2,FALSE()) -> #N/A | R142: =TIME(A142,B142,C142) -> 0
H143: =IF(OR(RIGHT(D143,1)="V",RIGHT(D143,1)="J"),VALUE(LEFT(D143,LEN(D143)-1)),D143) -> 0 | I143: =Q143&COUNTIF($H$2:$H143,H143) -> #N/A | J143: =VLOOKUP(L143,ClubNames,2,FALSE())&COUNTIF($L$2:$L143,L143) -> #N/A | O143: 142 | P143: =VLOOKUP(I143,J:M,4,FALSE()) -> #N/A | Q143: =VLOOKUP(H143,ClubNames,2,FALSE()) -> #N/A | R143: =TIME(A143,B143,C143) -> 0
H144: =IF(OR(RIGHT(D144,1)="V",RIGHT(D144,1)="J"),VALUE(LEFT(D144,LEN(D144)-1)),D144) -> 0 | I144: =Q144&COUNTIF($H$2:$H144,H144) -> #N/A | J144: =VLOOKUP(L144,ClubNames,2,FALSE())&COUNTIF($L$2:$L144,L144) -> #N/A | O144: 143 | P144: =VLOOKUP(I144,J:M,4,FALSE()) -> #N/A | Q144: =VLOOKUP(H144,ClubNames,2,FALSE()) -> #N/A | R144: =TIME(A144,B144,C144) -> 0
H145: =IF(OR(RIGHT(D145,1)="V",RIGHT(D145,1)="J"),VALUE(LEFT(D145,LEN(D145)-1)),D145) -> 0 | I145: =Q145&COUNTIF($H$2:$H145,H145) -> #N/A | J145: =VLOOKUP(L145,ClubNames,2,FALSE())&COUNTIF($L$2:$L145,L145) -> #N/A | O145: 144 | P145: =VLOOKUP(I145,J:M,4,FALSE()) -> #N/A | Q145: =VLOOKUP(H145,ClubNames,2,FALSE()) -> #N/A | R145: =TIME(A145,B145,C145) -> 0
H146: =IF(OR(RIGHT(D146,1)="V",RIGHT(D146,1)="J"),VALUE(LEFT(D146,LEN(D146)-1)),D146) -> 0 | I146: =Q146&COUNTIF($H$2:$H146,H146) -> #N/A | J146: =VLOOKUP(L146,ClubNames,2,FALSE())&COUNTIF($L$2:$L146,L146) -> #N/A | O146: 145 | P146: =VLOOKUP(I146,J:M,4,FALSE()) -> #N/A | Q146: =VLOOKUP(H146,ClubNames,2,FALSE()) -> #N/A | R146: =TIME(A146,B146,C146) -> 0
H147: =IF(OR(RIGHT(D147,1)="V",RIGHT(D147,1)="J"),VALUE(LEFT(D147,LEN(D147)-1)),D147) -> 0 | I147: =Q147&COUNTIF($H$2:$H147,H147) -> #N/A | J147: =VLOOKUP(L147,ClubNames,2,FALSE())&COUNTIF($L$2:$L147,L147) -> #N/A | O147: 146 | P147: =VLOOKUP(I147,J:M,4,FALSE()) -> #N/A | Q147: =VLOOKUP(H147,ClubNames,2,FALSE()) -> #N/A | R147: =TIME(A147,B147,C147) -> 0
H148: =IF(OR(RIGHT(D148,1)="V",RIGHT(D148,1)="J"),VALUE(LEFT(D148,LEN(D148)-1)),D148) -> 0 | I148: =Q148&COUNTIF($H$2:$H148,H148) -> #N/A | J148: =VLOOKUP(L148,ClubNames,2,FALSE())&COUNTIF($L$2:$L148,L148) -> #N/A | O148: 147 | P148: =VLOOKUP(I148,J:M,4,FALSE()) -> #N/A | Q148: =VLOOKUP(H148,ClubNames,2,FALSE()) -> #N/A | R148: =TIME(A148,B148,C148) -> 0
H149: =IF(OR(RIGHT(D149,1)="V",RIGHT(D149,1)="J"),VALUE(LEFT(D149,LEN(D149)-1)),D149) -> 0 | I149: =Q149&COUNTIF($H$2:$H149,H149) -> #N/A | J149: =VLOOKUP(L149,ClubNames,2,FALSE())&COUNTIF($L$2:$L149,L149) -> #N/A | O149: 148 | P149: =VLOOKUP(I149,J:M,4,FALSE()) -> #N/A | Q149: =VLOOKUP(H149,ClubNames,2,FALSE()) -> #N/A | R149: =TIME(A149,B149,C149) -> 0
H150: =IF(OR(RIGHT(D150,1)="V",RIGHT(D150,1)="J"),VALUE(LEFT(D150,LEN(D150)-1)),D150) -> 0 | I150: =Q150&COUNTIF($H$2:$H150,H150) -> #N/A | J150: =VLOOKUP(L150,ClubNames,2,FALSE())&COUNTIF($L$2:$L150,L150) -> #N/A | O150: 149 | P150: =VLOOKUP(I150,J:M,4,FALSE()) -> #N/A | Q150: =VLOOKUP(H150,ClubNames,2,FALSE()) -> #N/A | R150: =TIME(A150,B150,C150) -> 0
H151: =IF(OR(RIGHT(D151,1)="V",RIGHT(D151,1)="J"),VALUE(LEFT(D151,LEN(D151)-1)),D151) -> 0 | I151: =Q151&COUNTIF($H$2:$H151,H151) -> #N/A | J151: =VLOOKUP(L151,ClubNames,2,FALSE())&COUNTIF($L$2:$L151,L151) -> #N/A | O151: 150 | P151: =VLOOKUP(I151,J:M,4,FALSE()) -> #N/A | Q151: =VLOOKUP(H151,ClubNames,2,FALSE()) -> #N/A | R151: =TIME(A151,B151,C151) -> 0
H152: =IF(OR(RIGHT(D152,1)="V",RIGHT(D152,1)="J"),VALUE(LEFT(D152,LEN(D152)-1)),D152) -> 0 | I152: =Q152&COUNTIF($H$2:$H152,H152) -> #N/A | J152: =VLOOKUP(L152,ClubNames,2,FALSE())&COUNTIF($L$2:$L152,L152) -> #N/A | O152: 151 | P152: =VLOOKUP(I152,J:M,4,FALSE()) -> #N/A | Q152: =VLOOKUP(H152,ClubNames,2,FALSE()) -> #N/A | R152: =TIME(A152,B152,C152) -> 0
H153: =IF(OR(RIGHT(D153,1)="V",RIGHT(D153,1)="J"),VALUE(LEFT(D153,LEN(D153)-1)),D153) -> 0 | I153: =Q153&COUNTIF($H$2:$H153,H153) -> #N/A | J153: =VLOOKUP(L153,ClubNames,2,FALSE())&COUNTIF($L$2:$L153,L153) -> #N/A | O153: 152 | P153: =VLOOKUP(I153,J:M,4,FALSE()) -> #N/A | Q153: =VLOOKUP(H153,ClubNames,2,FALSE()) -> #N/A | R153: =TIME(A153,B153,C153) -> 0
H154: =IF(OR(RIGHT(D154,1)="V",RIGHT(D154,1)="J"),VALUE(LEFT(D154,LEN(D154)-1)),D154) -> 0 | I154: =Q154&COUNTIF($H$2:$H154,H154) -> #N/A | J154: =VLOOKUP(L154,ClubNames,2,FALSE())&COUNTIF($L$2:$L154,L154) -> #N/A | O154: 153 | P154: =VLOOKUP(I154,J:M,4,FALSE()) -> #N/A | Q154: =VLOOKUP(H154,ClubNames,2,FALSE()) -> #N/A | R154: =TIME(A154,B154,C154) -> 0
... H300: =IF(OR(RIGHT(D300,1)="V",RIGHT(D300,1)="J"),VALUE(LEFT(D300,LEN(D300)-1)),D300) -> 0 | I300: =Q300&COUNTIF($H$2:$H300,H300) -> #N/A | J300: =VLOOKUP(L300,ClubNames,2,FALSE())&COUNTIF($L$2:$L300,L300) -> #N/A | O300: 299 | P300: =VLOOKUP(I300,J:M,4,FALSE()) -> #N/A | Q300: =VLOOKUP(H300,ClubNames,2,FALSE()) -> #N/A | R300: =TIME(A300,B300,C300) -> 0
O301: 300 | P301: =VLOOKUP(I301,J:M,4,FALSE()) -> #N/A | Q301: =VLOOKUP(H301,ClubNames,2,FALSE()) -> #N/A | R301: =TIME(A301,B301,C301) -> 0

Sheet U15 Girls - U17 Women
A1: Hr | B1: Min | C1: Sec | D1: Bib No | F1: Club | G1: Finishers | H1: Team No | I1: Race Finish | J1: Team Finish | L1: Team No | M1: Name | O1: Pos | P1: Name | Q1: Club | R1: Time
B2: 16 | C2: 45 | D2: 24 | E2: 1 | F2: =Clubs!B3 -> Edinburgh AC | G2: =COUNTIF($H:$H,E2) -> 8 | H2: =IF(OR(RIGHT(D2,1)="V",RIGHT(D2,1)="J"),VALUE(LEFT(D2,LEN(D2)-1)),D2) -> 24 | I2: =Q2&COUNTIF($H$2:$H2,H2) -> Strathearn Harriers1 | J2: =VLOOKUP(L2,ClubNames,2,FALSE())&COUNTIF($L$2:$L2,L2) -> Edinburgh AC1 | L2: 1 | M2: Emi Daunt | O2: 1 | P2: =VLOOKUP(I2,J:M,4,FALSE())&IF(RIGHT(D2,1)="L"," (L)",IF(RIGHT(D2,1)="J"," (J)","")) -> Eilidh Dallas (U17) | Q2: =VLOOKUP(H2,ClubNames,2,FALSE()) -> Strathearn Harriers | R2: =TIME(A2,B2,C2) -> 0.011631944
B3: 16 | C3: 46 | D3: 6 | E3: 2 | F3: =Clubs!B4 -> Perth Road Runners | G3: =COUNTIF($H:$H,E3) -> 0 | H3: =IF(OR(RIGHT(D3,1)="V",RIGHT(D3,1)="J"),VALUE(LEFT(D3,LEN(D3)-1)),D3) -> 6 | I3: =Q3&COUNTIF($H$2:$H3,H3) -> Aberdeen AAC1 | J3: =VLOOKUP(L3,ClubNames,2,FALSE())&COUNTIF($L$2:$L3,L3) -> Edinburgh AC2 | L3: 1 | M3: Ailish de Luca-Ruane | O3: =1+O2 -> 2 | P3: =VLOOKUP(I3,J:M,4,FALSE())&IF(RIGHT(D3,1)="L"," (L)",IF(RIGHT(D3,1)="J"," (J)","")) -> Rachel Fitzpatrick | Q3: =VLOOKUP(H3,ClubNames,2,FALSE()) -> Aberdeen AAC | R3: =TIME(A3,B3,C3) -> 0.011643519
B4: 16 | C4: 55 | D4: 32 | E4: 3 | F4: =Clubs!B5 -> Lothian Running Club | G4: =COUNTIF($H:$H,E4) -> 0 | H4: =IF(OR(RIGHT(D4,1)="V",RIGHT(D4,1)="J"),VALUE(LEFT(D4,LEN(D4)-1)),D4) -> 32 | I4: =Q4&COUNTIF($H$2:$H4,H4) -> Lasswade AAC1 | J4: =VLOOKUP(L4,ClubNames,2,FALSE())&COUNTIF($L$2:$L4,L4) -> Edinburgh AC3 | L4: 1 | M4: Anna Molyneux | O4: =1+O3 -> 3 | P4: =VLOOKUP(I4,J:M,4,FALSE())&IF(RIGHT(D4,1)="L"," (L)",IF(RIGHT(D4,1)="J"," (J)","")) -> Cerys Wright (U17) | Q4: =VLOOKUP(H4,ClubNames,2,FALSE()) -> Lasswade AAC | R4: =TIME(A4,B4,C4) -> 0.011747685
B5: 16 | C5: 56 | D5: 6 | E5: 4 | F5: =Clubs!B6 -> Teviotdale Harriers | G5: =COUNTIF($H:$H,E5) -> 0 | H5: =IF(OR(RIGHT(D5,1)="V",RIGHT(D5,1)="J"),VALUE(LEFT(D5,LEN(D5)-1)),D5) -> 6 | I5: =Q5&COUNTIF($H$2:$H5,H5) -> Aberdeen AAC2 | J5: =VLOOKUP(L5,ClubNames,2,FALSE())&COUNTIF($L$2:$L5,L5) -> Edinburgh AC4 | L5: 1 | M5: Catriona Scott (U17) | O5: =1+O4 -> 4 | P5: =VLOOKUP(I5,J:M,4,FALSE())&IF(RIGHT(D5,1)="L"," (L)",IF(RIGHT(D5,1)="J"," (J)","")) -> Emily Taylor | Q5: =VLOOKUP(H5,ClubNames,2,FALSE()) -> Aberdeen AAC | R5: =TIME(A5,B5,C5) -> 0.011759259
B6: 17 | C6: 11 | D6: 29 | E6: 5 | F6: =Clubs!B7 -> Moorfoot Runners | G6: =COUNTIF($H:$H,E6) -> 0 | H6: =IF(OR(RIGHT(D6,1)="V",RIGHT(D6,1)="J"),VALUE(LEFT(D6,LEN(D6)-1)),D6) -> 29 | I6: =Q6&COUNTIF($H$2:$H6,H6) -> Team Borders1 | J6: =VLOOKUP(L6,ClubNames,2,FALSE())&COUNTIF($L$2:$L6,L6) -> Edinburgh AC5 | L6: 1 | M6: Juno Neal (U17) | O6: =1+O5 -> 5 | P6: =VLOOKUP(I6,J:M,4,FALSE())&IF(RIGHT(D6,1)="L"," (L)",IF(RIGHT(D6,1)="J"," (J)","")) -> Ava Richardson (U17) | Q6: =VLOOKUP(H6,ClubNames,2,FALSE()) -> Team Borders | R6: =TIME(A6,B6,C6) -> 0.01193287
B7: 17 | C7: 14 | D7: 1 | E7: 6 | F7: =Clubs!B8 -> Aberdeen AAC | G7: =COUNTIF($H:$H,E7) -> 7 | H7: =IF(OR(RIGHT(D7,1)="V",RIGHT(D7,1)="J"),VALUE(LEFT(D7,LEN(D7)-1)),D7) -> 1 | I7: =Q7&COUNTIF($H$2:$H7,H7) -> Edinburgh AC1 | J7: =VLOOKUP(L7,ClubNames,2,FALSE())&COUNTIF($L$2:$L7,L7) -> Edinburgh AC6 | L7: 1 | M7: Maisie Hunter | O7: =1+O6 -> 6 | P7: =VLOOKUP(I7,J:M,4,FALSE())&IF(RIGHT(D7,1)="L"," (L)",IF(RIGHT(D7,1)="J"," (J)","")) -> Emi Daunt | Q7: =VLOOKUP(H7,ClubNames,2,FALSE()) -> Edinburgh AC | R7: =TIME(A7,B7,C7) -> 0.011967593
B8: 17 | C8: 31 | D8: 32 | E8: 7 | F8: =Clubs!B9 -> Pitreavie AAC | G8: =COUNTIF($H:$H,E8) -> 3 | H8: =IF(OR(RIGHT(D8,1)="V",RIGHT(D8,1)="J"),VALUE(LEFT(D8,LEN(D8)-1)),D8) -> 32 | I8: =Q8&COUNTIF($H$2:$H8,H8) -> Lasswade AAC2 | J8: =VLOOKUP(L8,ClubNames,2,FALSE())&COUNTIF($L$2:$L8,L8) -> Edinburgh AC7 | L8: 1 | M8: Jessica Stewart | O8: =1+O7 -> 7 | P8: =VLOOKUP(I8,J:M,4,FALSE())&IF(RIGHT(D8,1)="L"," (L)",IF(RIGHT(D8,1)="J"," (J)","")) -> Isla Madhra | Q8: =VLOOKUP(H8,ClubNames,2,FALSE()) -> Lasswade AAC | R8: =TIME(A8,B8,C8) -> 0.012164352
B9: 17 | C9: 34 | D9: 6 | E9: 8 | F9: =Clubs!B10 -> Fife AC | G9: =COUNTIF($H:$H,E9) -> 1 | H9: =IF(OR(RIGHT(D9,1)="V",RIGHT(D9,1)="J"),VALUE(LEFT(D9,LEN(D9)-1)),D9) -> 6 | I9: =Q9&COUNTIF($H$2:$H9,H9) -> Aberdeen AAC3 | J9: =VLOOKUP(L9,ClubNames,2,FALSE())&COUNTIF($L$2:$L9,L9) -> Edinburgh AC8 | L9: 1 | M9: Lucy Mochrie | O9: =1+O8 -> 8 | P9: =VLOOKUP(I9,J:M,4,FALSE())&IF(RIGHT(D9,1)="L"," (L)",IF(RIGHT(D9,1)="J"," (J)","")) -> Grace Ramsay | Q9: =VLOOKUP(H9,ClubNames,2,FALSE()) -> Aberdeen AAC | R9: =TIME(A9,B9,C9) -> 0.012199074
B10: 17 | C10: 42 | D10: 20 | E10: 9 | F10: =Clubs!B11 -> Not Used | G10: =COUNTIF($H:$H,E10) -> 0 | H10: =IF(OR(RIGHT(D10,1)="V",RIGHT(D10,1)="J"),VALUE(LEFT(D10,LEN(D10)-1)),D10) -> 20 | I10: =Q10&COUNTIF($H$2:$H10,H10) -> Harmeny AAC1 | J10: =VLOOKUP(L10,ClubNames,2,FALSE())&COUNTIF($L$2:$L10,L10) -> Aberdeen AAC1 | L10: 6 | M10: Rachel Fitzpatrick | O10: =1+O9 -> 9 | P10: =VLOOKUP(I10,J:M,4,FALSE())&IF(RIGHT(D10,1)="L"," (L)",IF(RIGHT(D10,1)="J"," (J)","")) -> Kate Riches | Q10: =VLOOKUP(H10,ClubNames,2,FALSE()) -> Harmeny AAC | R10: =TIME(A10,B10,C10) -> 0.012291667
B11: 17 | C11: 42 | D11: 16 | E11: 10 | F11: =Clubs!B12 -> Edinburgh Univ Hare & Hounds | G11: =COUNTIF($H:$H,E11) -> 0 | H11: =IF(OR(RIGHT(D11,1)="V",RIGHT(D11,1)="J"),VALUE(LEFT(D11,LEN(D11)-1)),D11) -> 16 | I11: =Q11&COUNTIF($H$2:$H11,H11) -> Dundee Hawkhill Harriers1 | J11: =VLOOKUP(L11,ClubNames,2,FALSE())&COUNTIF($L$2:$L11,L11) -> Aberdeen AAC2 | L11: 6 | M11: Emily Taylor | O11: =1+O10 -> 10 | P11: =VLOOKUP(I11,J:M,4,FALSE())&IF(RIGHT(D11,1)="L"," (L)",IF(RIGHT(D11,1)="J"," (J)","")) -> Evie Hodgson | Q11: =VLOOKUP(H11,ClubNames,2,FALSE()) -> Dundee Hawkhill Harriers | R11: =TIME(A11,B11,C11) -> 0.012291667
B12: 17 | C12: 48 | D12: 29 | E12: 11 | F12: =Clubs!B13 -> Falkirk Victoria Harriers | G12: =COUNTIF($H:$H,E12) -> 4 | H12: =IF(OR(RIGHT(D12,1)="V",RIGHT(D12,1)="J"),VALUE(LEFT(D12,LEN(D12)-1)),D12) -> 29 | I12: =Q12&COUNTIF($H$2:$H12,H12) -> Team Borders2 | J12: =VLOOKUP(L12,ClubNames,2,FALSE())&COUNTIF($L$2:$L12,L12) -> Aberdeen AAC3 | L12: 6 | M12: Grace Ramsay | O12: =1+O11 -> 11 | P12: =VLOOKUP(I12,J:M,4,FALSE())&IF(RIGHT(D12,1)="L"," (L)",IF(RIGHT(D12,1)="J"," (J)","")) -> Isabella Moran (U17) | Q12: =VLOOKUP(H12,ClubNames,2,FALSE()) -> Team Borders | R12: =TIME(A12,B12,C12) -> 0.012361111
B13: 17 | C13: 50 | D13: 20 | E13: 12 | F13: =Clubs!B14 -> Hunters Bog Trotters | G13: =COUNTIF($H:$H,E13) -> 0 | H13: =IF(OR(RIGHT(D13,1)="V",RIGHT(D13,1)="J"),VALUE(LEFT(D13,LEN(D13)-1)),D13) -> 20 | I13: =Q13&COUNTIF($H$2:$H13,H13) -> Harmeny AAC2 | J13: =VLOOKUP(L13,ClubNames,2,FALSE())&COUNTIF($L$2:$L13,L13) -> Aberdeen AAC4 | L13: 6 | M13: Alana Robertson | O13: =1+O12 -> 12 | P13: =VLOOKUP(I13,J:M,4,FALSE())&IF(RIGHT(D13,1)="L"," (L)",IF(RIGHT(D13,1)="J"," (J)","")) -> Amber Cunningham (U17) | Q13: =VLOOKUP(H13,ClubNames,2,FALSE()) -> Harmeny AAC | R13: =TIME(A13,B13,C13) -> 0.012384259
B14: 17 | C14: 50 | D14: 20 | E14: 13 | F14: =Clubs!B15 -> Gala Harriers | G14: =COUNTIF($H:$H,E14) -> 0 | H14: =IF(OR(RIGHT(D14,1)="V",RIGHT(D14,1)="J"),VALUE(LEFT(D14,LEN(D14)-1)),D14) -> 20 | I14: =Q14&COUNTIF($H$2:$H14,H14) -> Harmeny AAC3 | J14: =VLOOKUP(L14,ClubNames,2,FALSE())&COUNTIF($L$2:$L14,L14) -> Aberdeen AAC5 | L14: 6 | M14: Hollie Steele (U17) | O14: =1+O13 -> 13 | P14: =VLOOKUP(I14,J:M,4,FALSE())&IF(RIGHT(D14,1)="L"," (L)",IF(RIGHT(D14,1)="J"," (J)","")) -> Leah Buchan (U17) | Q14: =VLOOKUP(H14,ClubNames,2,FALSE()) -> Harmeny AAC | R14: =TIME(A14,B14,C14) -> 0.012384259
... B50: 21 | C50: 0 | D50: 20 | E50: 49 | F50: =Clubs!B51 -> Lauderdale Limpers | G50: =COUNTIF($H:$H,E50) -> 0 | H50: =IF(OR(RIGHT(D50,1)="V",RIGHT(D50,1)="J"),VALUE(LEFT(D50,LEN(D50)-1)),D50) -> 20 | I50: =Q50&COUNTIF($H$2:$H50,H50) -> Harmeny AAC7 | J50: =VLOOKUP(L50,ClubNames,2,FALSE())&COUNTIF($L$2:$L50,L50) -> Perth Strathtay Harriers1 | L50: 30 | M50: Mairi Gatherer (U17) | O50: =1+O49 -> 49 | P50: =VLOOKUP(I50,J:M,4,FALSE())&IF(RIGHT(D50,1)="L"," (L)",IF(RIGHT(D50,1)="J"," (J)","")) -> Ruby McClay (U17) | Q50: =VLOOKUP(H50,ClubNames,2,FALSE()) -> Harmeny AAC | R50: =TIME(A50,B50,C50) -> 0.014583333
B51: 21 | C51: 13 | D51: 18 | E51: 50 | F51: =Clubs!B52 -> Stirling University AC | G51: =COUNTIF($H:$H,E51) -> 0 | H51: =IF(OR(RIGHT(D51,1)="V",RIGHT(D51,1)="J"),VALUE(LEFT(D51,LEN(D51)-1)),D51) -> 18 | I51: =Q51&COUNTIF($H$2:$H51,H51) -> Central AC1 | J51: =VLOOKUP(L51,ClubNames,2,FALSE())&COUNTIF($L$2:$L51,L51) -> Corstorphine AAC1 | L51: 31 | M51: Callie Logan | O51: 50 | P51: =VLOOKUP(I51,J:M,4,FALSE())&IF(RIGHT(D51,1)="L"," (L)",IF(RIGHT(D51,1)="J"," (J)","")) -> Katherine Mitchell (U17) | Q51: =VLOOKUP(H51,ClubNames,2,FALSE()) -> Central AC | R51: =TIME(A51,B51,C51) -> 0.014733796
B52: 21 | C52: 13 | D52: 51 | E52: 51 | F52: =Clubs!B53 -> Haddington Running Club | G52: =COUNTIF($H:$H,E52) -> 2 | H52: =IF(OR(RIGHT(D52,1)="V",RIGHT(D52,1)="J"),VALUE(LEFT(D52,LEN(D52)-1)),D52) -> 51 | I52: =Q52&COUNTIF($H$2:$H52,H52) -> Haddington Running Club1 | J52: =VLOOKUP(L52,ClubNames,2,FALSE())&COUNTIF($L$2:$L52,L52) -> Corstorphine AAC2 | L52: 31 | M52: Paige Coutts | O52: 51 | P52: =VLOOKUP(I52,J:M,4,FALSE())&IF(RIGHT(D52,1)="L"," (L)",IF(RIGHT(D52,1)="J"," (J)","")) -> Lucy Gall | Q52: =VLOOKUP(H52,ClubNames,2,FALSE()) -> Haddington Running Club | R52: =TIME(A52,B52,C52) -> 0.014733796
B53: 21 | C53: 25 | D53: 51 | E53: 52 | F53: =Clubs!B54 -> Arbroath & District AAC | G53: =COUNTIF($H:$H,E53) -> 0 | H53: =IF(OR(RIGHT(D53,1)="V",RIGHT(D53,1)="J"),VALUE(LEFT(D53,LEN(D53)-1)),D53) -> 51 | I53: =Q53&COUNTIF($H$2:$H53,H53) -> Haddington Running Club2 | J53: =VLOOKUP(L53,ClubNames,2,FALSE())&COUNTIF($L$2:$L53,L53) -> Corstorphine AAC3 | L53: 31 | M53: Eloise Simpson | O53: 52 | P53: =VLOOKUP(I53,J:M,4,FALSE())&IF(RIGHT(D53,1)="L"," (L)",IF(RIGHT(D53,1)="J"," (J)","")) -> Emily Fairfull (U17) | Q53: =VLOOKUP(H53,ClubNames,2,FALSE()) -> Haddington Running Club | R53: =TIME(A53,B53,C53) -> 0.014872685
B54: 21 | C54: 30 | D54: 20 | E54: 53 | F54: =Clubs!B55 -> Run Livingston | G54: =COUNTIF($H:$H,E54) -> 0 | H54: =IF(OR(RIGHT(D54,1)="V",RIGHT(D54,1)="J"),VALUE(LEFT(D54,LEN(D54)-1)),D54) -> 20 | I54: =Q54&COUNTIF($H$2:$H54,H54) -> Harmeny AAC8 | J54: =VLOOKUP(L54,ClubNames,2,FALSE())&COUNTIF($L$2:$L54,L54) -> Lasswade AAC1 | L54: 32 | M54: Cerys Wright (U17) | O54: 53 | P54: =VLOOKUP(I54,J:M,4,FALSE())&IF(RIGHT(D54,1)="L"," (L)",IF(RIGHT(D54,1)="J"," (J)","")) -> Lily Hardingham (U17) | Q54: =VLOOKUP(H54,ClubNames,2,FALSE()) -> Harmeny AAC | R54: =TIME(A54,B54,C54) -> 0.014930556
B55: 21 | C55: 52 | D55: 24 | H55: =IF(OR(RIGHT(D55,1)="V",RIGHT(D55,1)="J"),VALUE(LEFT(D55,LEN(D55)-1)),D55) -> 24 | I55: =Q55&COUNTIF($H$2:$H55,H55) -> Strathearn Harriers2 | J55: =VLOOKUP(L55,ClubNames,2,FALSE())&COUNTIF($L$2:$L55,L55) -> Lasswade AAC2 | L55: 32 | M55: Isla Madhra | O55: 54 | P55: =VLOOKUP(I55,J:M,4,FALSE())&IF(RIGHT(D55,1)="L"," (L)",IF(RIGHT(D55,1)="J"," (J)","")) -> Emi Walker | Q55: =VLOOKUP(H55,ClubNames,2,FALSE()) -> Strathearn Harriers | R55: =TIME(A55,B55,C55) -> 0.015185185
B56: 21 | C56: 55 | D56: 1 | H56: =IF(OR(RIGHT(D56,1)="V",RIGHT(D56,1)="J"),VALUE(LEFT(D56,LEN(D56)-1)),D56) -> 1 | I56: =Q56&COUNTIF($H$2:$H56,H56) -> Edinburgh AC7 | J56: =VLOOKUP(L56,ClubNames,2,FALSE())&COUNTIF($L$2:$L56,L56) -> Lasswade AAC3 | L56: 32 | M56: Rosa Gomez Candy | O56: 55 | P56: =VLOOKUP(I56,J:M,4,FALSE())&IF(RIGHT(D56,1)="L"," (L)",IF(RIGHT(D56,1)="J"," (J)","")) -> Jessica Stewart | Q56: =VLOOKUP(H56,ClubNames,2,FALSE()) -> Edinburgh AC | R56: =TIME(A56,B56,C56) -> 0.015219907
B57: 22 | C57: 14 | D57: 30 | H57: =IF(OR(RIGHT(D57,1)="V",RIGHT(D57,1)="J"),VALUE(LEFT(D57,LEN(D57)-1)),D57) -> 30 | I57: =Q57&COUNTIF($H$2:$H57,H57) -> Perth Strathtay Harriers1 | J57: =VLOOKUP(L57,ClubNames,2,FALSE())&COUNTIF($L$2:$L57,L57) -> Lasswade AAC4 | L57: 32 | M57: Darcy Esson | O57: 56 | P57: =VLOOKUP(I57,J:M,4,FALSE())&IF(RIGHT(D57,1)="L"," (L)",IF(RIGHT(D57,1)="J"," (J)","")) -> Mairi Gatherer (U17) | Q57: =VLOOKUP(H57,ClubNames,2,FALSE()) -> Perth Strathtay Harriers | R57: =TIME(A57,B57,C57) -> 0.015439815
B58: 22 | C58: 30 | D58: 40 | H58: =IF(OR(RIGHT(D58,1)="V",RIGHT(D58,1)="J"),VALUE(LEFT(D58,LEN(D58)-1)),D58) -> 40 | I58: =Q58&COUNTIF($H$2:$H58,H58) -> Team East Lothian1 | J58: =VLOOKUP(L58,ClubNames,2,FALSE())&COUNTIF($L$2:$L58,L58) -> Banchory Stonehaven AC1 | L58: 36 | M58: Kathy Dornan | O58: 57 | P58: =VLOOKUP(I58,J:M,4,FALSE())&IF(RIGHT(D58,1)="L"," (L)",IF(RIGHT(D58,1)="J"," (J)","")) -> Kate Douglas | Q58: =VLOOKUP(H58,ClubNames,2,FALSE()) -> Team East Lothian | R58: =TIME(A58,B58,C58) -> 0.015625
B59: 22 | C59: 51 | D59: 1 | H59: =IF(OR(RIGHT(D59,1)="V",RIGHT(D59,1)="J"),VALUE(LEFT(D59,LEN(D59)-1)),D59) -> 1 | I59: =Q59&COUNTIF($H$2:$H59,H59) -> Edinburgh AC8 | J59: =VLOOKUP(L59,ClubNames,2,FALSE())&COUNTIF($L$2:$L59,L59) -> Dunfermline Track & Field AC1 | L59: 39 | M59: Lucy Gibb (U17) | O59: 58 | P59: =VLOOKUP(I59,J:M,4,FALSE())&IF(RIGHT(D59,1)="L"," (L)",IF(RIGHT(D59,1)="J"," (J)","")) -> Lucy Mochrie | Q59: =VLOOKUP(H59,ClubNames,2,FALSE()) -> Edinburgh AC | R59: =TIME(A59,B59,C59) -> 0.015868056
B60: 22 | C60: 54 | D60: 20 | H60: =IF(OR(RIGHT(D60,1)="V",RIGHT(D60,1)="J"),VALUE(LEFT(D60,LEN(D60)-1)),D60) -> 20 | I60: =Q60&COUNTIF($H$2:$H60,H60) -> Harmeny AAC9 | J60: =VLOOKUP(L60,ClubNames,2,FALSE())&COUNTIF($L$2:$L60,L60) -> Team East Lothian1 | L60: 40 | M60: Kate Douglas | O60: 59 | P60: =VLOOKUP(I60,J:M,4,FALSE())&IF(RIGHT(D60,1)="L"," (L)",IF(RIGHT(D60,1)="J"," (J)","")) -> Amelie McKay | Q60: =VLOOKUP(H60,ClubNames,2,FALSE()) -> Harmeny AAC | R60: =TIME(A60,B60,C60) -> 0.015902778
B61: 23 | C61: 6 | D61: 32 | H61: =IF(OR(RIGHT(D61,1)="V",RIGHT(D61,1)="J"),VALUE(LEFT(D61,LEN(D61)-1)),D61) -> 32 | I61: =Q61&COUNTIF($H$2:$H61,H61) -> Lasswade AAC4 | J61: =VLOOKUP(L61,ClubNames,2,FALSE())&COUNTIF($L$2:$L61,L61) -> Haddington Running Club1 | L61: 51 | M61: Lucy Gall | O61: 60 | P61: =VLOOKUP(I61,J:M,4,FALSE())&IF(RIGHT(D61,1)="L"," (L)",IF(RIGHT(D61,1)="J"," (J)","")) -> Darcy Esson | Q61: =VLOOKUP(H61,ClubNames,2,FALSE()) -> Lasswade AAC | R61: =TIME(A61,B61,C61) -> 0.016041667
B62: 24 | C62: 13 | D62: 27 | H62: =IF(OR(RIGHT(D62,1)="V",RIGHT(D62,1)="J"),VALUE(LEFT(D62,LEN(D62)-1)),D62) -> 27 | I62: =Q62&COUNTIF($H$2:$H62,H62) -> Linlithgow AC3 | J62: =VLOOKUP(L62,ClubNames,2,FALSE())&COUNTIF($L$2:$L62,L62) -> Haddington Running Club2 | L62: 51 | M62: Emily Fairfull (U17) | O62: 61 | P62: =VLOOKUP(I62,J:M,4,FALSE())&IF(RIGHT(D62,1)="L"," (L)",IF(RIGHT(D62,1)="J"," (J)","")) -> Amelia Ferrario | Q62: =VLOOKUP(H62,ClubNames,2,FALSE()) -> Linlithgow AC | R62: =TIME(A62,B62,C62) -> 0.01681713
H63: =IF(OR(RIGHT(D63,1)="V",RIGHT(D63,1)="J"),VALUE(LEFT(D63,LEN(D63)-1)),D63) -> 0 | I63: =Q63&COUNTIF($H$2:$H63,H63) -> #N/A | J63: =VLOOKUP(L63,ClubNames,2,FALSE())&COUNTIF($L$2:$L63,L63) -> #N/A | O63: 62 | P63: =VLOOKUP(I63,J:M,4,FALSE())&IF(RIGHT(D63,1)="L"," (L)",IF(RIGHT(D63,1)="J"," (J)","")) -> #N/A | Q63: =VLOOKUP(H63,ClubNames,2,FALSE()) -> #N/A | R63: =TIME(A63,B63,C63) -> 0
H64: =IF(OR(RIGHT(D64,1)="V",RIGHT(D64,1)="J"),VALUE(LEFT(D64,LEN(D64)-1)),D64) -> 0 | I64: =Q64&COUNTIF($H$2:$H64,H64) -> #N/A | J64: =VLOOKUP(L64,ClubNames,2,FALSE())&COUNTIF($L$2:$L64,L64) -> #N/A | O64: 63 | P64: =VLOOKUP(I64,J:M,4,FALSE())&IF(RIGHT(D64,1)="L"," (L)",IF(RIGHT(D64,1)="J"," (J)","")) -> #N/A | Q64: =VLOOKUP(H64,ClubNames,2,FALSE()) -> #N/A | R64: =TIME(A64,B64,C64) -> 0
H65: =IF(OR(RIGHT(D65,1)="V",RIGHT(D65,1)="J"),VALUE(LEFT(D65,LEN(D65)-1)),D65) -> 0 | I65: =Q65&COUNTIF($H$2:$H65,H65) -> #N/A | J65: =VLOOKUP(L65,ClubNames,2,FALSE())&COUNTIF($L$2:$L65,L65) -> #N/A | O65: 64 | P65: =VLOOKUP(I65,J:M,4,FALSE())&IF(RIGHT(D65,1)="L"," (L)",IF(RIGHT(D65,1)="J"," (J)","")) -> #N/A | Q65: =VLOOKUP(H65,ClubNames,2,FALSE()) -> #N/A | R65: =TIME(A65,B65,C65) -> 0
H66: =IF(OR(RIGHT(D66,1)="V",RIGHT(D66,1)="J"),VALUE(LEFT(D66,LEN(D66)-1)),D66) -> 0 | I66: =Q66&COUNTIF($H$2:$H66,H66) -> #N/A | J66: =VLOOKUP(L66,ClubNames,2,FALSE())&COUNTIF($L$2:$L66,L66) -> #N/A | O66: 65 | P66: =VLOOKUP(I66,J:M,4,FALSE())&IF(RIGHT(D66,1)="L"," (L)",IF(RIGHT(D66,1)="J"," (J)","")) -> #N/A | Q66: =VLOOKUP(H66,ClubNames,2,FALSE()) -> #N/A | R66: =TIME(A66,B66,C66) -> 0
H67: =IF(OR(RIGHT(D67,1)="V",RIGHT(D67,1)="J"),VALUE(LEFT(D67,LEN(D67)-1)),D67) -> 0 | I67: =Q67&COUNTIF($H$2:$H67,H67) -> #N/A | J67: =VLOOKUP(L67,ClubNames,2,FALSE())&COUNTIF($L$2:$L67,L67) -> #N/A | O67: 66 | P67: =VLOOKUP(I67,J:M,4,FALSE())&IF(RIGHT(D67,1)="L"," (L)",IF(RIGHT(D67,1)="J"," (J)","")) -> #N/A | Q67: =VLOOKUP(H67,ClubNames,2,FALSE()) -> #N/A | R67: =TIME(A67,B67,C67) -> 0
H68: =IF(OR(RIGHT(D68,1)="V",RIGHT(D68,1)="J"),VALUE(LEFT(D68,LEN(D68)-1)),D68) -> 0 | I68: =Q68&COUNTIF($H$2:$H68,H68) -> #N/A | J68: =VLOOKUP(L68,ClubNames,2,FALSE())&COUNTIF($L$2:$L68,L68) -> #N/A | O68: 67 | P68: =VLOOKUP(I68,J:M,4,FALSE())&IF(RIGHT(D68,1)="L"," (L)",IF(RIGHT(D68,1)="J"," (J)","")) -> #N/A | Q68: =VLOOKUP(H68,ClubNames,2,FALSE()) -> #N/A | R68: =TIME(A68,B68,C68) -> 0
H69: =IF(OR(RIGHT(D69,1)="V",RIGHT(D69,1)="J"),VALUE(LEFT(D69,LEN(D69)-1)),D69) -> 0 | I69: =Q69&COUNTIF($H$2:$H69,H69) -> #N/A | J69: =VLOOKUP(L69,ClubNames,2,FALSE())&COUNTIF($L$2:$L69,L69) -> #N/A | O69: 68 | P69: =VLOOKUP(I69,J:M,4,FALSE())&IF(RIGHT(D69,1)="L"," (L)",IF(RIGHT(D69,1)="J"," (J)","")) -> #N/A | Q69: =VLOOKUP(H69,ClubNames,2,FALSE()) -> #N/A | R69: =TIME(A69,B69,C69) -> 0
H70: =IF(OR(RIGHT(D70,1)="V",RIGHT(D70,1)="J"),VALUE(LEFT(D70,LEN(D70)-1)),D70) -> 0 | I70: =Q70&COUNTIF($H$2:$H70,H70) -> #N/A | J70: =VLOOKUP(L70,ClubNames,2,FALSE())&COUNTIF($L$2:$L70,L70) -> #N/A | O70: 69 | P70: =VLOOKUP(I70,J:M,4,FALSE())&IF(RIGHT(D70,1)="L"," (L)",IF(RIGHT(D70,1)="J"," (J)","")) -> #N/A | Q70: =VLOOKUP(H70,ClubNames,2,FALSE()) -> #N/A | R70: =TIME(A70,B70,C70) -> 0
H71: =IF(OR(RIGHT(D71,1)="V",RIGHT(D71,1)="J"),VALUE(LEFT(D71,LEN(D71)-1)),D71) -> 0 | I71: =Q71&COUNTIF($H$2:$H71,H71) -> #N/A | J71: =VLOOKUP(L71,ClubNames,2,FALSE())&COUNTIF($L$2:$L71,L71) -> #N/A | O71: 70 | P71: =VLOOKUP(I71,J:M,4,FALSE())&IF(RIGHT(D71,1)="L"," (L)",IF(RIGHT(D71,1)="J"," (J)","")) -> #N/A | Q71: =VLOOKUP(H71,ClubNames,2,FALSE()) -> #N/A | R71: =TIME(A71,B71,C71) -> 0
H72: =IF(OR(RIGHT(D72,1)="V",RIGHT(D72,1)="J"),VALUE(LEFT(D72,LEN(D72)-1)),D72) -> 0 | I72: =Q72&COUNTIF($H$2:$H72,H72) -> #N/A | J72: =VLOOKUP(L72,ClubNames,2,FALSE())&COUNTIF($L$2:$L72,L72) -> #N/A | O72: 71 | P72: =VLOOKUP(I72,J:M,4,FALSE())&IF(RIGHT(D72,1)="L"," (L)",IF(RIGHT(D72,1)="J"," (J)","")) -> #N/A | Q72: =VLOOKUP(H72,ClubNames,2,FALSE()) -> #N/A | R72: =TIME(A72,B72,C72) -> 0
H73: =IF(OR(RIGHT(D73,1)="V",RIGHT(D73,1)="J"),VALUE(LEFT(D73,LEN(D73)-1)),D73) -> 0 | I73: =Q73&COUNTIF($H$2:$H73,H73) -> #N/A | J73: =VLOOKUP(L73,ClubNames,2,FALSE())&COUNTIF($L$2:$L73,L73) -> #N/A | O73: 72 | P73: =VLOOKUP(I73,J:M,4,FALSE())&IF(RIGHT(D73,1)="L"," (L)",IF(RIGHT(D73,1)="J"," (J)","")) -> #N/A | Q73: =VLOOKUP(H73,ClubNames,2,FALSE()) -> #N/A | R73: =TIME(A73,B73,C73) -> 0
H74: =IF(OR(RIGHT(D74,1)="V",RIGHT(D74,1)="J"),VALUE(LEFT(D74,LEN(D74)-1)),D74) -> 0 | I74: =Q74&COUNTIF($H$2:$H74,H74) -> #N/A | J74: =VLOOKUP(L74,ClubNames,2,FALSE())&COUNTIF($L$2:$L74,L74) -> #N/A | O74: 73 | P74: =VLOOKUP(I74,J:M,4,FALSE())&IF(RIGHT(D74,1)="L"," (L)",IF(RIGHT(D74,1)="J"," (J)","")) -> #N/A | Q74: =VLOOKUP(H74,ClubNames,2,FALSE()) -> #N/A | R74: =TIME(A74,B74,C74) -> 0
... H300: =IF(OR(RIGHT(D300,1)="V",RIGHT(D300,1)="J"),VALUE(LEFT(D300,LEN(D300)-1)),D300) -> 0 | I300: =Q300&COUNTIF($H$2:$H300,H300) -> #N/A | J300: =VLOOKUP(L300,ClubNames,2,FALSE())&COUNTIF($L$2:$L300,L300) -> #N/A | O300: 299 | P300: =VLOOKUP(I300,J:M,4,FALSE())&IF(RIGHT(D300,1)="L"," (L)",IF(RIGHT(D300,1)="J"," (J)","")) -> #N/A | Q300: =VLOOKUP(H300,ClubNames,2,FALSE()) -> #N/A | R300: =TIME(A300,B300,C300) -> 0
O301: 300 | P301: =VLOOKUP(I301,J:M,4,FALSE())&IF(RIGHT(D301,1)="L"," (L)",IF(RIGHT(D301,1)="J"," (J)","")) -> #N/A | Q301: =VLOOKUP(H301,ClubNames,2,FALSE()) -> #N/A | R301: =TIME(A301,B301,C301) -> 0

Sheet SW
A1: Hr | B1: Min | C1: Sec | D1: Bib No | F1: Club | G1: Finishers | H1: Team No | I1: Race Finish | J1: Team Finish | L1: Team No | M1: Name | O1: Pos | P1: Name | Q1: Club | R1: Time
B2: 20 | C2: 19 | D2: 18 | E2: 1 | F2: =Clubs!B3 -> Edinburgh AC | G2: =COUNTIF($H:$H,E2) -> 20 | H2: =IF(OR(RIGHT(D2,1)="V",RIGHT(D2,1)="J"),VALUE(LEFT(D2,LEN(D2)-1)),D2) -> 18 | I2: =Q2&COUNTIF($H$2:$H2,H2) -> Central AC1 | J2: =VLOOKUP(L2,ClubNames,2,FALSE())&COUNTIF($L$2:$L2,L2) -> Edinburgh AC1 | L2: 1 | M2: Kirsty Walker | O2: 1 | P2: =VLOOKUP(I2,J:M,4,FALSE())&IF(RIGHT(D2,1)="V"," (V)",IF(RIGHT(D2,1)="J"," (J)","")) -> Morag Millar | Q2: =VLOOKUP(H2,ClubNames,2,FALSE()) -> Central AC | R2: =TIME(A2,B2,C2) -> 0.014108796
B3: 21 | C3: 31 | D3: 18 | E3: 2 | F3: =Clubs!B4 -> Perth Road Runners | G3: =COUNTIF($H:$H,E3) -> 7 | H3: =IF(OR(RIGHT(D3,1)="V",RIGHT(D3,1)="J"),VALUE(LEFT(D3,LEN(D3)-1)),D3) -> 18 | I3: =Q3&COUNTIF($H$2:$H3,H3) -> Central AC2 | J3: =VLOOKUP(L3,ClubNames,2,FALSE())&COUNTIF($L$2:$L3,L3) -> Edinburgh AC2 | L3: 1 | M3: Hannah Cox | O3: =1+O2 -> 2 | P3: =VLOOKUP(I3,J:M,4,FALSE())&IF(RIGHT(D3,1)="V"," (V)",IF(RIGHT(D3,1)="J"," (J)","")) -> Grace Whelan | Q3: =VLOOKUP(H3,ClubNames,2,FALSE()) -> Central AC | R3: =TIME(A3,B3,C3) -> 0.01494213
B4: 21 | C4: 49 | D4: 1 | E4: 3 | F4: =Clubs!B5 -> Lothian Running Club | G4: =COUNTIF($H:$H,E4) -> 11 | H4: =IF(OR(RIGHT(D4,1)="V",RIGHT(D4,1)="J"),VALUE(LEFT(D4,LEN(D4)-1)),D4) -> 1 | I4: =Q4&COUNTIF($H$2:$H4,H4) -> Edinburgh AC1 | J4: =VLOOKUP(L4,ClubNames,2,FALSE())&COUNTIF($L$2:$L4,L4) -> Edinburgh AC3 | L4: 1 | M4: Lucy Naga | O4: =1+O3 -> 3 | P4: =VLOOKUP(I4,J:M,4,FALSE())&IF(RIGHT(D4,1)="V"," (V)",IF(RIGHT(D4,1)="J"," (J)","")) -> Kirsty Walker | Q4: =VLOOKUP(H4,ClubNames,2,FALSE()) -> Edinburgh AC | R4: =TIME(A4,B4,C4) -> 0.015150463
B5: 21 | C5: 58 | D5: 1 | E5: 4 | F5: =Clubs!B6 -> Teviotdale Harriers | G5: =COUNTIF($H:$H,E5) -> 0 | H5: =IF(OR(RIGHT(D5,1)="V",RIGHT(D5,1)="J"),VALUE(LEFT(D5,LEN(D5)-1)),D5) -> 1 | I5: =Q5&COUNTIF($H$2:$H5,H5) -> Edinburgh AC2 | J5: =VLOOKUP(L5,ClubNames,2,FALSE())&COUNTIF($L$2:$L5,L5) -> Edinburgh AC4 | L5: 1 | M5: Abby Thomson | O5: =1+O4 -> 4 | P5: =VLOOKUP(I5,J:M,4,FALSE())&IF(RIGHT(D5,1)="V"," (V)",IF(RIGHT(D5,1)="J"," (J)","")) -> Hannah Cox | Q5: =VLOOKUP(H5,ClubNames,2,FALSE()) -> Edinburgh AC | R5: =TIME(A5,B5,C5) -> 0.01525463
B6: 22 | C6: 18 | D6: 20J | E6: 5 | F6: =Clubs!B7 -> Moorfoot Runners | G6: =COUNTIF($H:$H,E6) -> 0 | H6: =IF(OR(RIGHT(D6,1)="V",RIGHT(D6,1)="J"),VALUE(LEFT(D6,LEN(D6)-1)),D6) -> 20 | I6: =Q6&COUNTIF($H$2:$H6,H6) -> Harmeny AAC1 | J6: =VLOOKUP(L6,ClubNames,2,FALSE())&COUNTIF($L$2:$L6,L6) -> Edinburgh AC5 | L6: 1 | M6: Janet Dunbar | O6: =1+O5 -> 5 | P6: =VLOOKUP(I6,J:M,4,FALSE())&IF(RIGHT(D6,1)="V"," (V)",IF(RIGHT(D6,1)="J"," (J)","")) -> Natsai Nyabadza (J) | Q6: =VLOOKUP(H6,ClubNames,2,FALSE()) -> Harmeny AAC | R6: =TIME(A6,B6,C6) -> 0.015486111
B7: 22 | C7: 39 | D7: 11J | E7: 6 | F7: =Clubs!B8 -> Aberdeen AAC | G7: =COUNTIF($H:$H,E7) -> 3 | H7: =IF(OR(RIGHT(D7,1)="V",RIGHT(D7,1)="J"),VALUE(LEFT(D7,LEN(D7)-1)),D7) -> 11 | I7: =Q7&COUNTIF($H$2:$H7,H7) -> Falkirk Victoria Harriers1 | J7: =VLOOKUP(L7,ClubNames,2,FALSE())&COUNTIF($L$2:$L7,L7) -> Edinburgh AC6 | L7: 1 | M7: Frances McNab | O7: =1+O6 -> 6 | P7: =VLOOKUP(I7,J:M,4,FALSE())&IF(RIGHT(D7,1)="V"," (V)",IF(RIGHT(D7,1)="J"," (J)","")) -> Isabella Ogg (J) | Q7: =VLOOKUP(H7,ClubNames,2,FALSE()) -> Falkirk Victoria Harriers | R7: =TIME(A7,B7,C7) -> 0.015729167
B8: 22 | C8: 45 | D8: 1 | E8: 7 | F8: =Clubs!B9 -> Pitreavie AAC | G8: =COUNTIF($H:$H,E8) -> 5 | H8: =IF(OR(RIGHT(D8,1)="V",RIGHT(D8,1)="J"),VALUE(LEFT(D8,LEN(D8)-1)),D8) -> 1 | I8: =Q8&COUNTIF($H$2:$H8,H8) -> Edinburgh AC3 | J8: =VLOOKUP(L8,ClubNames,2,FALSE())&COUNTIF($L$2:$L8,L8) -> Edinburgh AC7 | L8: 1 | M8: Hazel MacCormick | O8: =1+O7 -> 7 | P8: =VLOOKUP(I8,J:M,4,FALSE())&IF(RIGHT(D8,1)="V"," (V)",IF(RIGHT(D8,1)="J"," (J)","")) -> Lucy Naga | Q8: =VLOOKUP(H8,ClubNames,2,FALSE()) -> Edinburgh AC | R8: =TIME(A8,B8,C8) -> 0.015798611
B9: 22 | C9: 52 | D9: 31J | E9: 8 | F9: =Clubs!B10 -> Fife AC | G9: =COUNTIF($H:$H,E9) -> 6 | H9: =IF(OR(RIGHT(D9,1)="V",RIGHT(D9,1)="J"),VALUE(LEFT(D9,LEN(D9)-1)),D9) -> 31 | I9: =Q9&COUNTIF($H$2:$H9,H9) -> Corstorphine AAC1 | J9: =VLOOKUP(L9,ClubNames,2,FALSE())&COUNTIF($L$2:$L9,L9) -> Edinburgh AC8 | L9: 1 | M9: Sheenagh MacLullich | O9: =1+O8 -> 8 | P9: =VLOOKUP(I9,J:M,4,FALSE())&IF(RIGHT(D9,1)="V"," (V)",IF(RIGHT(D9,1)="J"," (J)","")) -> Alice Mourao (J) | Q9: =VLOOKUP(H9,ClubNames,2,FALSE()) -> Corstorphine AAC | R9: =TIME(A9,B9,C9) -> 0.01587963
B10: 22 | C10: 55 | D10: 6J | E10: 9 | F10: =Clubs!B11 -> Not Used | G10: =COUNTIF($H:$H,E10) -> 0 | H10: =IF(OR(RIGHT(D10,1)="V",RIGHT(D10,1)="J"),VALUE(LEFT(D10,LEN(D10)-1)),D10) -> 6 | I10: =Q10&COUNTIF($H$2:$H10,H10) -> Aberdeen AAC1 | J10: =VLOOKUP(L10,ClubNames,2,FALSE())&COUNTIF($L$2:$L10,L10) -> Edinburgh AC9 | L10: 1 | M10: Karen Dobbie | O10: =1+O9 -> 9 | P10: =VLOOKUP(I10,J:M,4,FALSE())&IF(RIGHT(D10,1)="V"," (V)",IF(RIGHT(D10,1)="J"," (J)","")) -> Hania Czebreszuk (J) | Q10: =VLOOKUP(H10,ClubNames,2,FALSE()) -> Aberdeen AAC | R10: =TIME(A10,B10,C10) -> 0.015914352
B11: 22 | C11: 56 | D11: 23 | E11: 10 | F11: =Clubs!B12 -> Edinburgh Univ Hare & Hounds | G11: =COUNTIF($H:$H,E11) -> 0 | H11: =IF(OR(RIGHT(D11,1)="V",RIGHT(D11,1)="J"),VALUE(LEFT(D11,LEN(D11)-1)),D11) -> 23 | I11: =Q11&COUNTIF($H$2:$H11,H11) -> Dundee Road Runners AC1 | J11: =VLOOKUP(L11,ClubNames,2,FALSE())&COUNTIF($L$2:$L11,L11) -> Edinburgh AC10 | L11: 1 | M11: Martha Keith-Barnett | O11: =1+O10 -> 10 | P11: =VLOOKUP(I11,J:M,4,FALSE())&IF(RIGHT(D11,1)="V"," (V)",IF(RIGHT(D11,1)="J"," (J)","")) -> Mairi Littleson | Q11: =VLOOKUP(H11,ClubNames,2,FALSE()) -> Dundee Road Runners AC | R11: =TIME(A11,B11,C11) -> 0.015925926
B12: 22 | C12: 58 | D12: 31 | E12: 11 | F12: =Clubs!B13 -> Falkirk Victoria Harriers | G12: =COUNTIF($H:$H,E12) -> 7 | H12: =IF(OR(RIGHT(D12,1)="V",RIGHT(D12,1)="J"),VALUE(LEFT(D12,LEN(D12)-1)),D12) -> 31 | I12: =Q12&COUNTIF($H$2:$H12,H12) -> Corstorphine AAC2 | J12: =VLOOKUP(L12,ClubNames,2,FALSE())&COUNTIF($L$2:$L12,L12) -> Edinburgh AC11 | L12: 1 | M12: Isobel Joiner | O12: =1+O11 -> 11 | P12: =VLOOKUP(I12,J:M,4,FALSE())&IF(RIGHT(D12,1)="V"," (V)",IF(RIGHT(D12,1)="J"," (J)","")) -> Kirsten Maxwell | Q12: =VLOOKUP(H12,ClubNames,2,FALSE()) -> Corstorphine AAC | R12: =TIME(A12,B12,C12) -> 0.015949074
B13: 23 | C13: 5 | D13: 18 | E13: 12 | F13: =Clubs!B14 -> Hunters Bog Trotters | G13: =COUNTIF($H:$H,E13) -> 3 | H13: =IF(OR(RIGHT(D13,1)="V",RIGHT(D13,1)="J"),VALUE(LEFT(D13,LEN(D13)-1)),D13) -> 18 | I13: =Q13&COUNTIF($H$2:$H13,H13) -> Central AC3 | J13: =VLOOKUP(L13,ClubNames,2,FALSE())&COUNTIF($L$2:$L13,L13) -> Edinburgh AC12 | L13: 1 | M13: Emma Laverie | O13: =1+O12 -> 12 | P13: =VLOOKUP(I13,J:M,4,FALSE())&IF(RIGHT(D13,1)="V"," (V)",IF(RIGHT(D13,1)="J"," (J)","")) -> Ellen Whyte | Q13: =VLOOKUP(H13,ClubNames,2,FALSE()) -> Central AC | R13: =TIME(A13,B13,C13) -> 0.016030093
B14: 23 | C14: 7 | D14: 6 | E14: 13 | F14: =Clubs!B15 -> Gala Harriers | G14: =COUNTIF($H:$H,E14) -> 4 | H14: =IF(OR(RIGHT(D14,1)="V",RIGHT(D14,1)="J"),VALUE(LEFT(D14,LEN(D14)-1)),D14) -> 6 | I14: =Q14&COUNTIF($H$2:$H14,H14) -> Aberdeen AAC2 | J14: =VLOOKUP(L14,ClubNames,2,FALSE())&COUNTIF($L$2:$L14,L14) -> Edinburgh AC13 | L14: 1 | M14: Hannah Waugh | O14: =1+O13 -> 13 | P14: =VLOOKUP(I14,J:M,4,FALSE())&IF(RIGHT(D14,1)="V"," (V)",IF(RIGHT(D14,1)="J"," (J)","")) -> Emma Jenkins | Q14: =VLOOKUP(H14,ClubNames,2,FALSE()) -> Aberdeen AAC | R14: =TIME(A14,B14,C14) -> 0.016053241
B15: 23 | C15: 11 | D15: 8J | E15: 14 | F15: =Clubs!B16 -> Ferranti AAC | G15: =COUNTIF($H:$H,E15) -> 0 | H15: =IF(OR(RIGHT(D15,1)="V",RIGHT(D15,1)="J"),VALUE(LEFT(D15,LEN(D15)-1)),D15) -> 8 | I15: =Q15&COUNTIF($H$2:$H15,H15) -> Fife AC1 | J15: =VLOOKUP(L15,ClubNames,2,FALSE())&COUNTIF($L$2:$L15,L15) -> Edinburgh AC14 | L15: 1 | M15: Rebecca Whyte | O15: =1+O14 -> 14 | P15: =VLOOKUP(I15,J:M,4,FALSE())&IF(RIGHT(D15,1)="V"," (V)",IF(RIGHT(D15,1)="J"," (J)","")) -> Nellie Luxford (J) | Q15: =VLOOKUP(H15,ClubNames,2,FALSE()) -> Fife AC | R15: =TIME(A15,B15,C15) -> 0.016099537
B16: 23 | C16: 13 | D16: 11J | E16: 15 | F16: =Clubs!B17 -> Livingston AC | G16: =COUNTIF($H:$H,E16) -> 0 | H16: =IF(OR(RIGHT(D16,1)="V",RIGHT(D16,1)="J"),VALUE(LEFT(D16,LEN(D16)-1)),D16) -> 11 | I16: =Q16&COUNTIF($H$2:$H16,H16) -> Falkirk Victoria Harriers2 | J16: =VLOOKUP(L16,ClubNames,2,FALSE())&COUNTIF($L$2:$L16,L16) -> Edinburgh AC15 | L16: 1 | M16: Heather White | O16: =1+O15 -> 15 | P16: =VLOOKUP(I16,J:M,4,FALSE())&IF(RIGHT(D16,1)="V"," (V)",IF(RIGHT(D16,1)="J"," (J)","")) -> Lucie Gibson (J) | Q16: =VLOOKUP(H16,ClubNames,2,FALSE()) -> Falkirk Victoria Harriers | R16: =TIME(A16,B16,C16) -> 0.016122685
B17: 23 | C17: 17 | D17: 50J | E17: 16 | F17: =Clubs!B18 -> Dundee Hawkhill Harriers | G17: =COUNTIF($H:$H,E17) -> 0 | H17: =IF(OR(RIGHT(D17,1)="V",RIGHT(D17,1)="J"),VALUE(LEFT(D17,LEN(D17)-1)),D17) -> 50 | I17: =Q17&COUNTIF($H$2:$H17,H17) -> Stirling University AC1 | J17: =VLOOKUP(L17,ClubNames,2,FALSE())&COUNTIF($L$2:$L17,L17) -> Edinburgh AC16 | L17: 1 | M17: Anne Duncan | O17: =1+O16 -> 16 | P17: =VLOOKUP(I17,J:M,4,FALSE())&IF(RIGHT(D17,1)="V"," (V)",IF(RIGHT(D17,1)="J"," (J)","")) -> Anna Calder (J) | Q17: =VLOOKUP(H17,ClubNames,2,FALSE()) -> Stirling University AC | R17: =TIME(A17,B17,C17) -> 0.016168981
B18: 23 | C18: 24 | D18: 12V | E18: 17 | F18: =Clubs!B19 -> George Heriots School | G18: =COUNTIF($H:$H,E18) -> 0 | H18: =IF(OR(RIGHT(D18,1)="V",RIGHT(D18,1)="J"),VALUE(LEFT(D18,LEN(D18)-1)),D18) -> 12 | I18: =Q18&COUNTIF($H$2:$H18,H18) -> Hunters Bog Trotters1 | J18: =VLOOKUP(L18,ClubNames,2,FALSE())&COUNTIF($L$2:$L18,L18) -> Edinburgh AC17 | L18: 1 | M18: Marietta van der Linden | O18: =1+O17 -> 17 | P18: =VLOOKUP(I18,J:M,4,FALSE())&IF(RIGHT(D18,1)="V"," (V)",IF(RIGHT(D18,1)="J"," (J)","")) -> Claire Gordon (V) | Q18: =VLOOKUP(H18,ClubNames,2,FALSE()) -> Hunters Bog Trotters | R18: =TIME(A18,B18,C18) -> 0.01625
B19: 23 | C19: 28 | D19: 21 | E19: 18 | F19: =Clubs!B20 -> Central AC | G19: =COUNTIF($H:$H,E19) -> 5 | H19: =IF(OR(RIGHT(D19,1)="V",RIGHT(D19,1)="J"),VALUE(LEFT(D19,LEN(D19)-1)),D19) -> 21 | I19: =Q19&COUNTIF($H$2:$H19,H19) -> Carnethy Hill Racing Club1 | J19: =VLOOKUP(L19,ClubNames,2,FALSE())&COUNTIF($L$2:$L19,L19) -> Edinburgh AC18 | L19: 1 | M19: Julia Drewer | O19: =1+O18 -> 18 | P19: =VLOOKUP(I19,J:M,4,FALSE())&IF(RIGHT(D19,1)="V"," (V)",IF(RIGHT(D19,1)="J"," (J)","")) -> Heidi Ross | Q19: =VLOOKUP(H19,ClubNames,2,FALSE()) -> Carnethy Hill Racing Club | R19: =TIME(A19,B19,C19) -> 0.016296296
B20: 23 | C20: 30 | D20: 23 | E20: 19 | F20: =Clubs!B21 -> Metro Aberdeen Running Club | G20: =COUNTIF($H:$H,E20) -> 1 | H20: =IF(OR(RIGHT(D20,1)="V",RIGHT(D20,1)="J"),VALUE(LEFT(D20,LEN(D20)-1)),D20) -> 23 | I20: =Q20&COUNTIF($H$2:$H20,H20) -> Dundee Road Runners AC2 | J20: =VLOOKUP(L20,ClubNames,2,FALSE())&COUNTIF($L$2:$L20,L20) -> Edinburgh AC19 | L20: 1 | M20: Elaine Davies | O20: =1+O19 -> 19 | P20: =VLOOKUP(I20,J:M,4,FALSE())&IF(RIGHT(D20,1)="V"," (V)",IF(RIGHT(D20,1)="J"," (J)","")) -> Laura Ogilvie | Q20: =VLOOKUP(H20,ClubNames,2,FALSE()) -> Dundee Road Runners AC | R20: =TIME(A20,B20,C20) -> 0.016319444
B21: 23 | C21: 38 | D21: 19 | E21: 20 | F21: =Clubs!B22 -> Harmeny AAC | G21: =COUNTIF($H:$H,E21) -> 6 | H21: =IF(OR(RIGHT(D21,1)="V",RIGHT(D21,1)="J"),VALUE(LEFT(D21,LEN(D21)-1)),D21) -> 19 | I21: =Q21&COUNTIF($H$2:$H21,H21) -> Metro Aberdeen Running Club1 | J21: =VLOOKUP(L21,ClubNames,2,FALSE())&COUNTIF($L$2:$L21,L21) -> Edinburgh AC20 | L21: 1 | M21: Shona Adam | O21: =1+O20 -> 20 | P21: =VLOOKUP(I21,J:M,4,FALSE())&IF(RIGHT(D21,1)="V"," (V)",IF(RIGHT(D21,1)="J"," (J)","")) -> Margarita Radeva | Q21: =VLOOKUP(H21,ClubNames,2,FALSE()) -> Metro Aberdeen Running Club | R21: =TIME(A21,B21,C21) -> 0.016412037
B22: 23 | C22: 38 | D22: 24 | E22: 21 | F22: =Clubs!B23 -> Carnethy Hill Racing Club | G22: =COUNTIF($H:$H,E22) -> 1 | H22: =IF(OR(RIGHT(D22,1)="V",RIGHT(D22,1)="J"),VALUE(LEFT(D22,LEN(D22)-1)),D22) -> 24 | I22: =Q22&COUNTIF($H$2:$H22,H22) -> Strathearn Harriers1 | J22: =VLOOKUP(L22,ClubNames,2,FALSE())&COUNTIF($L$2:$L22,L22) -> Perth Road Runners1 | L22: 2 | M22: Fabienne Thompson | O22: =1+O21 -> 21 | P22: =VLOOKUP(I22,J:M,4,FALSE())&IF(RIGHT(D22,1)="V"," (V)",IF(RIGHT(D22,1)="J"," (J)","")) -> Hanna McInally | Q22: =VLOOKUP(H22,ClubNames,2,FALSE()) -> Strathearn Harriers | R22: =TIME(A22,B22,C22) -> 0.016412037
B23: 23 | C23: 45 | D23: 18 | E23: 22 | F23: =Clubs!B24 -> Penicuik Harriers | G23: =COUNTIF($H:$H,E23) -> 1 | H23: =IF(OR(RIGHT(D23,1)="V",RIGHT(D23,1)="J"),VALUE(LEFT(D23,LEN(D23)-1)),D23) -> 18 | I23: =Q23&COUNTIF($H$2:$H23,H23) -> Central AC4 | J23: =VLOOKUP(L23,ClubNames,2,FALSE())&COUNTIF($L$2:$L23,L23) -> Perth Road Runners2 | L23: 2 | M23: Rhona Younger | O23: =1+O22 -> 22 | P23: =VLOOKUP(I23,J:M,4,FALSE())&IF(RIGHT(D23,1)="V"," (V)",IF(RIGHT(D23,1)="J"," (J)","")) -> Amy Gough | Q23: =VLOOKUP(H23,ClubNames,2,FALSE()) -> Central AC | R23: =TIME(A23,B23,C23) -> 0.016493056
B24: 23 | C24: 46 | D24: 8J | E24: 23 | F24: =Clubs!B25 -> Dundee Road Runners AC | G24: =COUNTIF($H:$H,E24) -> 8 | H24: =IF(OR(RIGHT(D24,1)="V",RIGHT(D24,1)="J"),VALUE(LEFT(D24,LEN(D24)-1)),D24) -> 8 | I24: =Q24&COUNTIF($H$2:$H24,H24) -> Fife AC2 | J24: =VLOOKUP(L24,ClubNames,2,FALSE())&COUNTIF($L$2:$L24,L24) -> Perth Road Runners3 | L24: 2 | M24: Eileen Cooper | O24: =1+O23 -> 23 | P24: =VLOOKUP(I24,J:M,4,FALSE())&IF(RIGHT(D24,1)="V"," (V)",IF(RIGHT(D24,1)="J"," (J)","")) -> Eliza Konig (J) | Q24: =VLOOKUP(H24,ClubNames,2,FALSE()) -> Fife AC | R24: =TIME(A24,B24,C24) -> 0.01650463
B25: 23 | C25: 49 | D25: 22 | E25: 24 | F25: =Clubs!B26 -> Strathearn Harriers | G25: =COUNTIF($H:$H,E25) -> 6 | H25: =IF(OR(RIGHT(D25,1)="V",RIGHT(D25,1)="J"),VALUE(LEFT(D25,LEN(D25)-1)),D25) -> 22 | I25: =Q25&COUNTIF($H$2:$H25,H25) -> Penicuik Harriers1 | J25: =VLOOKUP(L25,ClubNames,2,FALSE())&COUNTIF($L$2:$L25,L25) -> Perth Road Runners4 | L25: 2 | M25: Lynn Gatherer | O25: =1+O24 -> 24 | P25: =VLOOKUP(I25,J:M,4,FALSE())&IF(RIGHT(D25,1)="V"," (V)",IF(RIGHT(D25,1)="J"," (J)","")) -> Natalie Stewart | Q25: =VLOOKUP(H25,ClubNames,2,FALSE()) -> Penicuik Harriers | R25: =TIME(A25,B25,C25) -> 0.016539352
B26: 23 | C26: 51 | D26: 8V | E26: 25 | F26: =Clubs!B27 -> Ochil Hill Runners | G26: =COUNTIF($H:$H,E26) -> 1 | H26: =IF(OR(RIGHT(D26,1)="V",RIGHT(D26,1)="J"),VALUE(LEFT(D26,LEN(D26)-1)),D26) -> 8 | I26: =Q26&COUNTIF($H$2:$H26,H26) -> Fife AC3 | J26: =VLOOKUP(L26,ClubNames,2,FALSE())&COUNTIF($L$2:$L26,L26) -> Perth Road Runners5 | L26: 2 | M26: Gillian McGuire | O26: =1+O25 -> 25 | P26: =VLOOKUP(I26,J:M,4,FALSE())&IF(RIGHT(D26,1)="V"," (V)",IF(RIGHT(D26,1)="J"," (J)","")) -> Rhona van Rensberg (V) | Q26: =VLOOKUP(H26,ClubNames,2,FALSE()) -> Fife AC | R26: =TIME(A26,B26,C26) -> 0.0165625
B27: 23 | C27: 51 | D27: 45V | E27: 26 | F27: =Clubs!B28 -> Wee County Harriers | G27: =COUNTIF($H:$H,E27) -> 3 | H27: =IF(OR(RIGHT(D27,1)="V",RIGHT(D27,1)="J"),VALUE(LEFT(D27,LEN(D27)-1)),D27) -> 45 | I27: =Q27&COUNTIF($H$2:$H27,H27) -> PH Racing Club1 | J27: =VLOOKUP(L27,ClubNames,2,FALSE())&COUNTIF($L$2:$L27,L27) -> Perth Road Runners6 | L27: 2 | M27: Joan Wilson | O27: =1+O26 -> 26 | P27: =VLOOKUP(I27,J:M,4,FALSE())&IF(RIGHT(D27,1)="V"," (V)",IF(RIGHT(D27,1)="J"," (J)","")) -> Julie Menzies (V) | Q27: =VLOOKUP(H27,ClubNames,2,FALSE()) -> PH Racing Club | R27: =TIME(A27,B27,C27) -> 0.0165625
B28: 23 | C28: 53 | D28: 23V | E28: 27 | F28: =Clubs!B29 -> Linlithgow AC | G28: =COUNTIF($H:$H,E28) -> 6 | H28: =IF(OR(RIGHT(D28,1)="V",RIGHT(D28,1)="J"),VALUE(LEFT(D28,LEN(D28)-1)),D28) -> 23 | I28: =Q28&COUNTIF($H$2:$H28,H28) -> Dundee Road Runners AC3 | J28: =VLOOKUP(L28,ClubNames,2,FALSE())&COUNTIF($L$2:$L28,L28) -> Perth Road Runners7 | L28: 2 | M28: Agnieszka Mroczkowska | O28: =1+O27 -> 27 | P28: =VLOOKUP(I28,J:M,4,FALSE())&IF(RIGHT(D28,1)="V"," (V)",IF(RIGHT(D28,1)="J"," (J)","")) -> Alison McNeilly (V) | Q28: =VLOOKUP(H28,ClubNames,2,FALSE()) -> Dundee Road Runners AC | R28: =TIME(A28,B28,C28) -> 0.016585648
B29: 23 | C29: 59 | D29: 12V | E29: 28 | F29: =Clubs!B30 -> Carnegie Harriers | G29: =COUNTIF($H:$H,E29) -> 5 | H29: =IF(OR(RIGHT(D29,1)="V",RIGHT(D29,1)="J"),VALUE(LEFT(D29,LEN(D29)-1)),D29) -> 12 | I29: =Q29&COUNTIF($H$2:$H29,H29) -> Hunters Bog Trotters2 | J29: =VLOOKUP(L29,ClubNames,2,FALSE())&COUNTIF($L$2:$L29,L29) -> Lothian Running Club1 | L29: 3 | M29: Emma Thomson | O29: =1+O28 -> 28 | P29: =VLOOKUP(I29,J:M,4,FALSE())&IF(RIGHT(D29,1)="V"," (V)",IF(RIGHT(D29,1)="J"," (J)","")) -> Morag McCelland (V) | Q29: =VLOOKUP(H29,ClubNames,2,FALSE()) -> Hunters Bog Trotters | R29: =TIME(A29,B29,C29) -> 0.016655093
B30: 24 | C30: 11 | D30: 20J | E30: 29 | F30: =Clubs!B31 -> Team Borders | G30: =COUNTIF($H:$H,E30) -> 0 | H30: =IF(OR(RIGHT(D30,1)="V",RIGHT(D30,1)="J"),VALUE(LEFT(D30,LEN(D30)-1)),D30) -> 20 | I30: =Q30&COUNTIF($H$2:$H30,H30) -> Harmeny AAC2 | J30: =VLOOKUP(L30,ClubNames,2,FALSE())&COUNTIF($L$2:$L30,L30) -> Lothian Running Club2 | L30: 3 | M30: Lesley Redley | O30: =1+O29 -> 29 | P30: =VLOOKUP(I30,J:M,4,FALSE())&IF(RIGHT(D30,1)="V"," (V)",IF(RIGHT(D30,1)="J"," (J)","")) -> Skye Marshall (J) | Q30: =VLOOKUP(H30,ClubNames,2,FALSE()) -> Harmeny AAC | R30: =TIME(A30,B30,C30) -> 0.016793981
B31: 24 | C31: 23 | D31: 1 | E31: 30 | F31: =Clubs!B32 -> Perth Strathtay Harriers | G31: =COUNTIF($H:$H,E31) -> 2 | H31: =IF(OR(RIGHT(D31,1)="V",RIGHT(D31,1)="J"),VALUE(LEFT(D31,LEN(D31)-1)),D31) -> 1 | I31: =Q31&COUNTIF($H$2:$H31,H31) -> Edinburgh AC4 | J31: =VLOOKUP(L31,ClubNames,2,FALSE())&COUNTIF($L$2:$L31,L31) -> Lothian Running Club3 | L31: 3 | M31: Kirsty Gray | O31: =1+O30 -> 30 | P31: =VLOOKUP(I31,J:M,4,FALSE())&IF(RIGHT(D31,1)="V"," (V)",IF(RIGHT(D31,1)="J"," (J)","")) -> Abby Thomson | Q31: =VLOOKUP(H31,ClubNames,2,FALSE()) -> Edinburgh AC | R31: =TIME(A31,B31,C31) -> 0.01693287
B32: 24 | C32: 28 | D32: 1V | E32: 31 | F32: =Clubs!B33 -> Corstorphine AAC | G32: =COUNTIF($H:$H,E32) -> 7 | H32: =IF(OR(RIGHT(D32,1)="V",RIGHT(D32,1)="J"),VALUE(LEFT(D32,LEN(D32)-1)),D32) -> 1 | I32: =Q32&COUNTIF($H$2:$H32,H32) -> Edinburgh AC5 | J32: =VLOOKUP(L32,ClubNames,2,FALSE())&COUNTIF($L$2:$L32,L32) -> Lothian Running Club4 | L32: 3 | M32: Jude Thomson | O32: =1+O31 -> 31 | P32: =VLOOKUP(I32,J:M,4,FALSE())&IF(RIGHT(D32,1)="V"," (V)",IF(RIGHT(D32,1)="J"," (J)","")) -> Janet Dunbar (V) | Q32: =VLOOKUP(H32,ClubNames,2,FALSE()) -> Edinburgh AC | R32: =TIME(A32,B32,C32) -> 0.016990741
B33: 24 | C33: 34 | D33: 11J | E33: 32 | F33: =Clubs!B34 -> Lasswade AAC | G33: =COUNTIF($H:$H,E33) -> 6 | H33: =IF(OR(RIGHT(D33,1)="V",RIGHT(D33,1)="J"),VALUE(LEFT(D33,LEN(D33)-1)),D33) -> 11 | I33: =Q33&COUNTIF($H$2:$H33,H33) -> Falkirk Victoria Harriers3 | J33: =VLOOKUP(L33,ClubNames,2,FALSE())&COUNTIF($L$2:$L33,L33) -> Lothian Running Club5 | L33: 3 | M33: Caitlin Robertson | O33: =1+O32 -> 32 | P33: =VLOOKUP(I33,J:M,4,FALSE())&IF(RIGHT(D33,1)="V"," (V)",IF(RIGHT(D33,1)="J"," (J)","")) -> Charlotte Horne (J) | Q33: =VLOOKUP(H33,ClubNames,2,FALSE()) -> Falkirk Victoria Harriers | R33: =TIME(A33,B33,C33) -> 0.017060185
B34: 24 | C34: 38 | D34: 1V | E34: 33 | F34: =Clubs!B35 -> Lomond Hill Runners AAC | G34: =COUNTIF($H:$H,E34) -> 0 | H34: =IF(OR(RIGHT(D34,1)="V",RIGHT(D34,1)="J"),VALUE(LEFT(D34,LEN(D34)-1)),D34) -> 1 | I34: =Q34&COUNTIF($H$2:$H34,H34) -> Edinburgh AC6 | J34: =VLOOKUP(L34,ClubNames,2,FALSE())&COUNTIF($L$2:$L34,L34) -> Lothian Running Club6 | L34: 3 | M34: Lindsay Anne | O34: =1+O33 -> 33 | P34: =VLOOKUP(I34,J:M,4,FALSE())&IF(RIGHT(D34,1)="V"," (V)",IF(RIGHT(D34,1)="J"," (J)","")) -> Frances McNab (V) | Q34: =VLOOKUP(H34,ClubNames,2,FALSE()) -> Edinburgh AC | R34: =TIME(A34,B34,C34) -> 0.017106481
B35: 24 | C35: 43 | D35: 1V | E35: 34 | F35: =Clubs!B36 -> Portobello Running Club | G35: =COUNTIF($H:$H,E35) -> 1 | H35: =IF(OR(RIGHT(D35,1)="V",RIGHT(D35,1)="J"),VALUE(LEFT(D35,LEN(D35)-1)),D35) -> 1 | I35: =Q35&COUNTIF($H$2:$H35,H35) -> Edinburgh AC7 | J35: =VLOOKUP(L35,ClubNames,2,FALSE())&COUNTIF($L$2:$L35,L35) -> Lothian Running Club7 | L35: 3 | M35: Dawn Watson | O35: =1+O34 -> 34 | P35: =VLOOKUP(I35,J:M,4,FALSE())&IF(RIGHT(D35,1)="V"," (V)",IF(RIGHT(D35,1)="J"," (J)","")) -> Hazel MacCormick (V) | Q35: =VLOOKUP(H35,ClubNames,2,FALSE()) -> Edinburgh AC | R35: =TIME(A35,B35,C35) -> 0.017164352
B36: 24 | C36: 47 | D36: 32V | E36: 35 | F36: =Clubs!B37 -> St Andrews University CCC | G36: =COUNTIF($H:$H,E36) -> 0 | H36: =IF(OR(RIGHT(D36,1)="V",RIGHT(D36,1)="J"),VALUE(LEFT(D36,LEN(D36)-1)),D36) -> 32 | I36: =Q36&COUNTIF($H$2:$H36,H36) -> Lasswade AAC1 | J36: =VLOOKUP(L36,ClubNames,2,FALSE())&COUNTIF($L$2:$L36,L36) -> Lothian Running Club8 | L36: 3 | M36: Kirsten Paul | O36: =1+O35 -> 35 | P36: =VLOOKUP(I36,J:M,4,FALSE())&IF(RIGHT(D36,1)="V"," (V)",IF(RIGHT(D36,1)="J"," (J)","")) -> Claire Houston (V) | Q36: =VLOOKUP(H36,ClubNames,2,FALSE()) -> Lasswade AAC | R36: =TIME(A36,B36,C36) -> 0.017210648
B37: 24 | C37: 49 | D37: 38 | E37: 36 | F37: =Clubs!B38 -> Banchory Stonehaven AC | G37: =COUNTIF($H:$H,E37) -> 0 | H37: =IF(OR(RIGHT(D37,1)="V",RIGHT(D37,1)="J"),VALUE(LEFT(D37,LEN(D37)-1)),D37) -> 38 | I37: =Q37&COUNTIF($H$2:$H37,H37) -> West Edinburgh RC1 | J37: =VLOOKUP(L37,ClubNames,2,FALSE())&COUNTIF($L$2:$L37,L37) -> Lothian Running Club9 | L37: 3 | M37: Caroline Fraser | O37: =1+O36 -> 36 | P37: =VLOOKUP(I37,J:M,4,FALSE())&IF(RIGHT(D37,1)="V"," (V)",IF(RIGHT(D37,1)="J"," (J)","")) -> Claire Jellema | Q37: =VLOOKUP(H37,ClubNames,2,FALSE()) -> West Edinburgh RC | R37: =TIME(A37,B37,C37) -> 0.017233796
B38: 24 | C38: 50 | D38: 30J | E38: 37 | F38: =Clubs!B39 -> Dundee University AC | G38: =COUNTIF($H:$H,E38) -> 0 | H38: =IF(OR(RIGHT(D38,1)="V",RIGHT(D38,1)="J"),VALUE(LEFT(D38,LEN(D38)-1)),D38) -> 30 | I38: =Q38&COUNTIF($H$2:$H38,H38) -> Perth Strathtay Harriers1 | J38: =VLOOKUP(L38,ClubNames,2,FALSE())&COUNTIF($L$2:$L38,L38) -> Lothian Running Club10 | L38: 3 | M38: Liz Bondi | O38: =1+O37 -> 37 | P38: =VLOOKUP(I38,J:M,4,FALSE())&IF(RIGHT(D38,1)="V"," (V)",IF(RIGHT(D38,1)="J"," (J)","")) -> Eilidh Hearn (J) | Q38: =VLOOKUP(H38,ClubNames,2,FALSE()) -> Perth Strathtay Harriers | R38: =TIME(A38,B38,C38) -> 0.01724537
B39: 24 | C39: 53 | D39: 31 | E39: 38 | F39: =Clubs!B40 -> West Edinburgh RC | G39: =COUNTIF($H:$H,E39) -> 1 | H39: =IF(OR(RIGHT(D39,1)="V",RIGHT(D39,1)="J"),VALUE(LEFT(D39,LEN(D39)-1)),D39) -> 31 | I39: =Q39&COUNTIF($H$2:$H39,H39) -> Corstorphine AAC3 | J39: =VLOOKUP(L39,ClubNames,2,FALSE())&COUNTIF($L$2:$L39,L39) -> Lothian Running Club11 | L39: 3 | M39: Emma Purdie | O39: =1+O38 -> 38 | P39: =VLOOKUP(I39,J:M,4,FALSE())&IF(RIGHT(D39,1)="V"," (V)",IF(RIGHT(D39,1)="J"," (J)","")) -> Emily Crusher | Q39: =VLOOKUP(H39,ClubNames,2,FALSE()) -> Corstorphine AAC | R39: =TIME(A39,B39,C39) -> 0.017280093
B40: 24 | C40: 57 | D40: 13J | E40: 39 | F40: =Clubs!B41 -> Dunfermline Track & Field AC | G40: =COUNTIF($H:$H,E40) -> 0 | H40: =IF(OR(RIGHT(D40,1)="V",RIGHT(D40,1)="J"),VALUE(LEFT(D40,LEN(D40)-1)),D40) -> 13 | I40: =Q40&COUNTIF($H$2:$H40,H40) -> Gala Harriers1 | J40: =VLOOKUP(L40,ClubNames,2,FALSE())&COUNTIF($L$2:$L40,L40) -> Aberdeen AAC1 | L40: 6 | M40: Hania Czebreszuk | O40: =1+O39 -> 39 | P40: =VLOOKUP(I40,J:M,4,FALSE())&IF(RIGHT(D40,1)="V"," (V)",IF(RIGHT(D40,1)="J"," (J)","")) -> Poppy Lunn (J) | Q40: =VLOOKUP(H40,ClubNames,2,FALSE()) -> Gala Harriers | R40: =TIME(A40,B40,C40) -> 0.017326389
B41: 25 | C41: 1 | D41: 12V | E41: 40 | F41: =Clubs!B42 -> Team East Lothian | G41: =COUNTIF($H:$H,E41) -> 1 | H41: =IF(OR(RIGHT(D41,1)="V",RIGHT(D41,1)="J"),VALUE(LEFT(D41,LEN(D41)-1)),D41) -> 12 | I41: =Q41&COUNTIF($H$2:$H41,H41) -> Hunters Bog Trotters3 | J41: =VLOOKUP(L41,ClubNames,2,FALSE())&COUNTIF($L$2:$L41,L41) -> Aberdeen AAC2 | L41: 6 | M41: Emma Jenkins | O41: =1+O40 -> 40 | P41: =VLOOKUP(I41,J:M,4,FALSE())&IF(RIGHT(D41,1)="V"," (V)",IF(RIGHT(D41,1)="J"," (J)","")) -> Megan Mowbray (V) | Q41: =VLOOKUP(H41,ClubNames,2,FALSE()) -> Hunters Bog Trotters | R41: =TIME(A41,B41,C41) -> 0.017372685
B42: 25 | C42: 5 | D42: 27V | E42: 41 | F42: =Clubs!B43 -> Anster Haddies Running Club | G42: =COUNTIF($H:$H,E42) -> 0 | H42: =IF(OR(RIGHT(D42,1)="V",RIGHT(D42,1)="J"),VALUE(LEFT(D42,LEN(D42)-1)),D42) -> 27 | I42: =Q42&COUNTIF($H$2:$H42,H42) -> Linlithgow AC1 | J42: =VLOOKUP(L42,ClubNames,2,FALSE())&COUNTIF($L$2:$L42,L42) -> Aberdeen AAC3 | L42: 6 | M42: Jane Jones | O42: =1+O41 -> 41 | P42: =VLOOKUP(I42,J:M,4,FALSE())&IF(RIGHT(D42,1)="V"," (V)",IF(RIGHT(D42,1)="J"," (J)","")) -> Jenny MacLean (V) | Q42: =VLOOKUP(H42,ClubNames,2,FALSE()) -> Linlithgow AC | R42: =TIME(A42,B42,C42) -> 0.017418981
B43: 25 | C43: 8 | D43: 23 | E43: 42 | F43: =Clubs!B44 -> Falkland Trail Runners | G43: =COUNTIF($H:$H,E43) -> 0 | H43: =IF(OR(RIGHT(D43,1)="V",RIGHT(D43,1)="J"),VALUE(LEFT(D43,LEN(D43)-1)),D43) -> 23 | I43: =Q43&COUNTIF($H$2:$H43,H43) -> Dundee Road Runners AC4 | J43: =VLOOKUP(L43,ClubNames,2,FALSE())&COUNTIF($L$2:$L43,L43) -> Pitreavie AAC1 | L43: 7 | M43: Karyn Stewart | O43: =1+O42 -> 42 | P43: =VLOOKUP(I43,J:M,4,FALSE())&IF(RIGHT(D43,1)="V"," (V)",IF(RIGHT(D43,1)="J"," (J)","")) -> Fiona Callaghan | Q43: =VLOOKUP(H43,ClubNames,2,FALSE()) -> Dundee Road Runners AC | R43: =TIME(A43,B43,C43) -> 0.017453704
B44: 25 | C44: 13 | D44: 40J | E44: 43 | F44: =Clubs!B45 -> Musselburgh & District AC | G44: =COUNTIF($H:$H,E44) -> 1 | H44: =IF(OR(RIGHT(D44,1)="V",RIGHT(D44,1)="J"),VALUE(LEFT(D44,LEN(D44)-1)),D44) -> 40 | I44: =Q44&COUNTIF($H$2:$H44,H44) -> Team East Lothian1 | J44: =VLOOKUP(L44,ClubNames,2,FALSE())&COUNTIF($L$2:$L44,L44) -> Pitreavie AAC2 | L44: 7 | M44: Sarah Ross | O44: =1+O43 -> 43 | P44: =VLOOKUP(I44,J:M,4,FALSE())&IF(RIGHT(D44,1)="V"," (V)",IF(RIGHT(D44,1)="J"," (J)","")) -> Kirsty Roden (J) | Q44: =VLOOKUP(H44,ClubNames,2,FALSE()) -> Team East Lothian | R44: =TIME(A44,B44,C44) -> 0.017511574
B45: 25 | C45: 19 | D45: 1V | E45: 44 | F45: =Clubs!B46 -> Montrose and District AC | G45: =COUNTIF($H:$H,E45) -> 0 | H45: =IF(OR(RIGHT(D45,1)="V",RIGHT(D45,1)="J"),VALUE(LEFT(D45,LEN(D45)-1)),D45) -> 1 | I45: =Q45&COUNTIF($H$2:$H45,H45) -> Edinburgh AC8 | J45: =VLOOKUP(L45,ClubNames,2,FALSE())&COUNTIF($L$2:$L45,L45) -> Pitreavie AAC3 | L45: 7 | M45: Diane Stewart | O45: =1+O44 -> 44 | P45: =VLOOKUP(I45,J:M,4,FALSE())&IF(RIGHT(D45,1)="V"," (V)",IF(RIGHT(D45,1)="J"," (J)","")) -> Sheenagh MacLullich (V) | Q45: =VLOOKUP(H45,ClubNames,2,FALSE()) -> Edinburgh AC | R45: =TIME(A45,B45,C45) -> 0.017581019
B46: 25 | C46: 20 | D46: 31 | E46: 45 | F46: =Clubs!B47 -> PH Racing Club | G46: =COUNTIF($H:$H,E46) -> 2 | H46: =IF(OR(RIGHT(D46,1)="V",RIGHT(D46,1)="J"),VALUE(LEFT(D46,LEN(D46)-1)),D46) -> 31 | I46: =Q46&COUNTIF($H$2:$H46,H46) -> Corstorphine AAC4 | J46: =VLOOKUP(L46,ClubNames,2,FALSE())&COUNTIF($L$2:$L46,L46) -> Pitreavie AAC4 | L46: 7 | M46: Melanie Sinclair | O46: =1+O45 -> 45 | P46: =VLOOKUP(I46,J:M,4,FALSE())&IF(RIGHT(D46,1)="V"," (V)",IF(RIGHT(D46,1)="J"," (J)","")) -> Megan Smith | Q46: =VLOOKUP(H46,ClubNames,2,FALSE()) -> Corstorphine AAC | R46: =TIME(A46,B46,C46) -> 0.017592593
B47: 25 | C47: 31 | D47: 47V | E47: 46 | F47: =Clubs!B48 -> Deeside Runners | G47: =COUNTIF($H:$H,E47) -> 0 | H47: =IF(OR(RIGHT(D47,1)="V",RIGHT(D47,1)="J"),VALUE(LEFT(D47,LEN(D47)-1)),D47) -> 47 | I47: =Q47&COUNTIF($H$2:$H47,H47) -> Kinross Road Runners1 | J47: =VLOOKUP(L47,ClubNames,2,FALSE())&COUNTIF($L$2:$L47,L47) -> Pitreavie AAC5 | L47: 7 | M47: Morna Flemming | O47: =1+O46 -> 46 | P47: =VLOOKUP(I47,J:M,4,FALSE())&IF(RIGHT(D47,1)="V"," (V)",IF(RIGHT(D47,1)="J"," (J)","")) -> Caroline Jones (V) | Q47: =VLOOKUP(H47,ClubNames,2,FALSE()) -> Kinross Road Runners | R47: =TIME(A47,B47,C47) -> 0.017719907
B48: 25 | C48: 36 | D48: 31 | E48: 47 | F48: =Clubs!B49 -> Kinross Road Runners | G48: =COUNTIF($H:$H,E48) -> 2 | H48: =IF(OR(RIGHT(D48,1)="V",RIGHT(D48,1)="J"),VALUE(LEFT(D48,LEN(D48)-1)),D48) -> 31 | I48: =Q48&COUNTIF($H$2:$H48,H48) -> Corstorphine AAC5 | J48: =VLOOKUP(L48,ClubNames,2,FALSE())&COUNTIF($L$2:$L48,L48) -> Fife AC1 | L48: 8 | M48: Nellie Luxford | O48: =1+O47 -> 47 | P48: =VLOOKUP(I48,J:M,4,FALSE())&IF(RIGHT(D48,1)="V"," (V)",IF(RIGHT(D48,1)="J"," (J)","")) -> Ann Ewing | Q48: =VLOOKUP(H48,ClubNames,2,FALSE()) -> Corstorphine AAC | R48: =TIME(A48,B48,C48) -> 0.017777778
B49: 25 | C49: 40 | D49: 11 | E49: 48 | F49: =Clubs!B50 -> Dunbar Running Club | G49: =COUNTIF($H:$H,E49) -> 0 | H49: =IF(OR(RIGHT(D49,1)="V",RIGHT(D49,1)="J"),VALUE(LEFT(D49,LEN(D49)-1)),D49) -> 11 | I49: =Q49&COUNTIF($H$2:$H49,H49) -> Falkirk Victoria Harriers4 | J49: =VLOOKUP(L49,ClubNames,2,FALSE())&COUNTIF($L$2:$L49,L49) -> Fife AC2 | L49: 8 | M49: Eliza Konig | O49: =1+O48 -> 48 | P49: =VLOOKUP(I49,J:M,4,FALSE())&IF(RIGHT(D49,1)="V"," (V)",IF(RIGHT(D49,1)="J"," (J)","")) -> Eilidh McCallum | Q49: =VLOOKUP(H49,ClubNames,2,FALSE()) -> Falkirk Victoria Harriers | R49: =TIME(A49,B49,C49) -> 0.017824074
B50: 25 | C50: 44 | D50: 24J | E50: 49 | F50: =Clubs!B51 -> Lauderdale Limpers | G50: =COUNTIF($H:$H,E50) -> 0 | H50: =IF(OR(RIGHT(D50,1)="V",RIGHT(D50,1)="J"),VALUE(LEFT(D50,LEN(D50)-1)),D50) -> 24 | I50: =Q50&COUNTIF($H$2:$H50,H50) -> Strathearn Harriers2 | J50: =VLOOKUP(L50,ClubNames,2,FALSE())&COUNTIF($L$2:$L50,L50) -> Fife AC3 | L50: 8 | M50: Rhona van Rensberg | O50: =1+O49 -> 49 | P50: =VLOOKUP(I50,J:M,4,FALSE())&IF(RIGHT(D50,1)="V"," (V)",IF(RIGHT(D50,1)="J"," (J)","")) -> Wiktoria Kret (J) | Q50: =VLOOKUP(H50,ClubNames,2,FALSE()) -> Strathearn Harriers | R50: =TIME(A50,B50,C50) -> 0.01787037
B51: 25 | C51: 45 | D51: 13J | E51: 50 | F51: =Clubs!B52 -> Stirling University AC | G51: =COUNTIF($H:$H,E51) -> 2 | H51: =IF(OR(RIGHT(D51,1)="V",RIGHT(D51,1)="J"),VALUE(LEFT(D51,LEN(D51)-1)),D51) -> 13 | I51: =Q51&COUNTIF($H$2:$H51,H51) -> Gala Harriers2 | J51: =VLOOKUP(L51,ClubNames,2,FALSE())&COUNTIF($L$2:$L51,L51) -> Fife AC4 | L51: 8 | M51: Christine Wilson | O51: 50 | P51: =VLOOKUP(I51,J:M,4,FALSE())&IF(RIGHT(D51,1)="V"," (V)",IF(RIGHT(D51,1)="J"," (J)","")) -> Jessica Smith (J) | Q51: =VLOOKUP(H51,ClubNames,2,FALSE()) -> Gala Harriers | R51: =TIME(A51,B51,C51) -> 0.017881944
B52: 25 | C52: 45 | D52: 1V | E52: 51 | F52: =Clubs!B53 -> Haddington Running Club | G52: =COUNTIF($H:$H,E52) -> 0 | H52: =IF(OR(RIGHT(D52,1)="V",RIGHT(D52,1)="J"),VALUE(LEFT(D52,LEN(D52)-1)),D52) -> 1 | I52: =Q52&COUNTIF($H$2:$H52,H52) -> Edinburgh AC9 | J52: =VLOOKUP(L52,ClubNames,2,FALSE())&COUNTIF($L$2:$L52,L52) -> Fife AC5 | L52: 8 | M52: Margaret Martin | O52: 51 | P52: =VLOOKUP(I52,J:M,4,FALSE())&IF(RIGHT(D52,1)="V"," (V)",IF(RIGHT(D52,1)="J"," (J)","")) -> Karen Dobbie (V) | Q52: =VLOOKUP(H52,ClubNames,2,FALSE()) -> Edinburgh AC | R52: =TIME(A52,B52,C52) -> 0.017881944
B53: 26 | C53: 2 | D53: 31 | E53: 52 | F53: =Clubs!B54 -> Arbroath & District AAC | G53: =COUNTIF($H:$H,E53) -> 0 | H53: =IF(OR(RIGHT(D53,1)="V",RIGHT(D53,1)="J"),VALUE(LEFT(D53,LEN(D53)-1)),D53) -> 31 | I53: =Q53&COUNTIF($H$2:$H53,H53) -> Corstorphine AAC6 | J53: =VLOOKUP(L53,ClubNames,2,FALSE())&COUNTIF($L$2:$L53,L53) -> Fife AC6 | L53: 8 | M53: Innes Bracegirdle | O53: 52 | P53: =VLOOKUP(I53,J:M,4,FALSE())&IF(RIGHT(D53,1)="V"," (V)",IF(RIGHT(D53,1)="J"," (J)","")) -> Colette Revadillo | Q53: =VLOOKUP(H53,ClubNames,2,FALSE()) -> Corstorphine AAC | R53: =TIME(A53,B53,C53) -> 0.018078704
B54: 26 | C54: 2 | D54: 11J | E54: 53 | F54: =Clubs!B55 -> Run Livingston | G54: =COUNTIF($H:$H,E54) -> 0 | H54: =IF(OR(RIGHT(D54,1)="V",RIGHT(D54,1)="J"),VALUE(LEFT(D54,LEN(D54)-1)),D54) -> 11 | I54: =Q54&COUNTIF($H$2:$H54,H54) -> Falkirk Victoria Harriers5 | J54: =VLOOKUP(L54,ClubNames,2,FALSE())&COUNTIF($L$2:$L54,L54) -> Falkirk Victoria Harriers1 | L54: 11 | M54: Isabella Ogg | O54: 53 | P54: =VLOOKUP(I54,J:M,4,FALSE())&IF(RIGHT(D54,1)="V"," (V)",IF(RIGHT(D54,1)="J"," (J)","")) -> Chloe Davies (J) | Q54: =VLOOKUP(H54,ClubNames,2,FALSE()) -> Falkirk Victoria Harriers | R54: =TIME(A54,B54,C54) -> 0.018078704
B55: 26 | C55: 6 | D55: 20V | H55: =IF(OR(RIGHT(D55,1)="V",RIGHT(D55,1)="J"),VALUE(LEFT(D55,LEN(D55)-1)),D55) -> 20 | I55: =Q55&COUNTIF($H$2:$H55,H55) -> Harmeny AAC3 | J55: =VLOOKUP(L55,ClubNames,2,FALSE())&COUNTIF($L$2:$L55,L55) -> Falkirk Victoria Harriers2 | L55: 11 | M55: Lucie Gibson | O55: 54 | P55: =VLOOKUP(I55,J:M,4,FALSE())&IF(RIGHT(D55,1)="V"," (V)",IF(RIGHT(D55,1)="J"," (J)","")) -> Kirsty McBirnie (V) | Q55: =VLOOKUP(H55,ClubNames,2,FALSE()) -> Harmeny AAC | R55: =TIME(A55,B55,C55) -> 0.018125
B56: 26 | C56: 8 | D56: 23 | H56: =IF(OR(RIGHT(D56,1)="V",RIGHT(D56,1)="J"),VALUE(LEFT(D56,LEN(D56)-1)),D56) -> 23 | I56: =Q56&COUNTIF($H$2:$H56,H56) -> Dundee Road Runners AC5 | J56: =VLOOKUP(L56,ClubNames,2,FALSE())&COUNTIF($L$2:$L56,L56) -> Falkirk Victoria Harriers3 | L56: 11 | M56: Charlotte Horne | O56: 55 | P56: =VLOOKUP(I56,J:M,4,FALSE())&IF(RIGHT(D56,1)="V"," (V)",IF(RIGHT(D56,1)="J"," (J)","")) -> Fíona Canavan | Q56: =VLOOKUP(H56,ClubNames,2,FALSE()) -> Dundee Road Runners AC | R56: =TIME(A56,B56,C56) -> 0.018148148
B57: 26 | C57: 10 | D57: 27V | H57: =IF(OR(RIGHT(D57,1)="V",RIGHT(D57,1)="J"),VALUE(LEFT(D57,LEN(D57)-1)),D57) -> 27 | I57: =Q57&COUNTIF($H$2:$H57,H57) -> Linlithgow AC2 | J57: =VLOOKUP(L57,ClubNames,2,FALSE())&COUNTIF($L$2:$L57,L57) -> Falkirk Victoria Harriers4 | L57: 11 | M57: Eilidh McCallum | O57: 56 | P57: =VLOOKUP(I57,J:M,4,FALSE())&IF(RIGHT(D57,1)="V"," (V)",IF(RIGHT(D57,1)="J"," (J)","")) -> Christine Mulholland (V) | Q57: =VLOOKUP(H57,ClubNames,2,FALSE()) -> Linlithgow AC | R57: =TIME(A57,B57,C57) -> 0.018171296
B58: 26 | C58: 11 | D58: 23 | H58: =IF(OR(RIGHT(D58,1)="V",RIGHT(D58,1)="J"),VALUE(LEFT(D58,LEN(D58)-1)),D58) -> 23 | I58: =Q58&COUNTIF($H$2:$H58,H58) -> Dundee Road Runners AC6 | J58: =VLOOKUP(L58,ClubNames,2,FALSE())&COUNTIF($L$2:$L58,L58) -> Falkirk Victoria Harriers5 | L58: 11 | M58: Chloe Davies | O58: 57 | P58: =VLOOKUP(I58,J:M,4,FALSE())&IF(RIGHT(D58,1)="V"," (V)",IF(RIGHT(D58,1)="J"," (J)","")) -> India Arikan | Q58: =VLOOKUP(H58,ClubNames,2,FALSE()) -> Dundee Road Runners AC | R58: =TIME(A58,B58,C58) -> 0.01818287
B59: 26 | C59: 27 | D59: 28 | H59: =IF(OR(RIGHT(D59,1)="V",RIGHT(D59,1)="J"),VALUE(LEFT(D59,LEN(D59)-1)),D59) -> 28 | I59: =Q59&COUNTIF($H$2:$H59,H59) -> Carnegie Harriers1 | J59: =VLOOKUP(L59,ClubNames,2,FALSE())&COUNTIF($L$2:$L59,L59) -> Falkirk Victoria Harriers6 | L59: 11 | M59: Monica Anderson | O59: 58 | P59: =VLOOKUP(I59,J:M,4,FALSE())&IF(RIGHT(D59,1)="V"," (V)",IF(RIGHT(D59,1)="J"," (J)","")) -> Charlotte Briggs | Q59: =VLOOKUP(H59,ClubNames,2,FALSE()) -> Carnegie Harriers | R59: =TIME(A59,B59,C59) -> 0.018368056
B60: 26 | C60: 27 | D60: 27V | H60: =IF(OR(RIGHT(D60,1)="V",RIGHT(D60,1)="J"),VALUE(LEFT(D60,LEN(D60)-1)),D60) -> 27 | I60: =Q60&COUNTIF($H$2:$H60,H60) -> Linlithgow AC3 | J60: =VLOOKUP(L60,ClubNames,2,FALSE())&COUNTIF($L$2:$L60,L60) -> Falkirk Victoria Harriers7 | L60: 11 | M60: Janet Murray | O60: 59 | P60: =VLOOKUP(I60,J:M,4,FALSE())&IF(RIGHT(D60,1)="V"," (V)",IF(RIGHT(D60,1)="J"," (J)","")) -> Sarah Little (V) | Q60: =VLOOKUP(H60,ClubNames,2,FALSE()) -> Linlithgow AC | R60: =TIME(A60,B60,C60) -> 0.018368056
B61: 26 | C61: 32 | D61: 34 | H61: =IF(OR(RIGHT(D61,1)="V",RIGHT(D61,1)="J"),VALUE(LEFT(D61,LEN(D61)-1)),D61) -> 34 | I61: =Q61&COUNTIF($H$2:$H61,H61) -> Portobello Running Club1 | J61: =VLOOKUP(L61,ClubNames,2,FALSE())&COUNTIF($L$2:$L61,L61) -> Hunters Bog Trotters1 | L61: 12 | M61: Claire Gordon | O61: 60 | P61: =VLOOKUP(I61,J:M,4,FALSE())&IF(RIGHT(D61,1)="V"," (V)",IF(RIGHT(D61,1)="J"," (J)","")) -> Heather Darling | Q61: =VLOOKUP(H61,ClubNames,2,FALSE()) -> Portobello Running Club | R61: =TIME(A61,B61,C61) -> 0.018425926
B62: 26 | C62: 37 | D62: 26 | H62: =IF(OR(RIGHT(D62,1)="V",RIGHT(D62,1)="J"),VALUE(LEFT(D62,LEN(D62)-1)),D62) -> 26 | I62: =Q62&COUNTIF($H$2:$H62,H62) -> Wee County Harriers1 | J62: =VLOOKUP(L62,ClubNames,2,FALSE())&COUNTIF($L$2:$L62,L62) -> Hunters Bog Trotters2 | L62: 12 | M62: Morag McCelland | O62: 61 | P62: =VLOOKUP(I62,J:M,4,FALSE())&IF(RIGHT(D62,1)="V"," (V)",IF(RIGHT(D62,1)="J"," (J)","")) -> Lauren sadowski | Q62: =VLOOKUP(H62,ClubNames,2,FALSE()) -> Wee County Harriers | R62: =TIME(A62,B62,C62) -> 0.018483796
B63: 26 | C63: 38 | D63: 8V | H63: =IF(OR(RIGHT(D63,1)="V",RIGHT(D63,1)="J"),VALUE(LEFT(D63,LEN(D63)-1)),D63) -> 8 | I63: =Q63&COUNTIF($H$2:$H63,H63) -> Fife AC4 | J63: =VLOOKUP(L63,ClubNames,2,FALSE())&COUNTIF($L$2:$L63,L63) -> Hunters Bog Trotters3 | L63: 12 | M63: Megan Mowbray | O63: 62 | P63: =VLOOKUP(I63,J:M,4,FALSE())&IF(RIGHT(D63,1)="V"," (V)",IF(RIGHT(D63,1)="J"," (J)","")) -> Christine Wilson (V) | Q63: =VLOOKUP(H63,ClubNames,2,FALSE()) -> Fife AC | R63: =TIME(A63,B63,C63) -> 0.01849537
B64: 26 | C64: 38 | D64: 1V | H64: =IF(OR(RIGHT(D64,1)="V",RIGHT(D64,1)="J"),VALUE(LEFT(D64,LEN(D64)-1)),D64) -> 1 | I64: =Q64&COUNTIF($H$2:$H64,H64) -> Edinburgh AC10 | J64: =VLOOKUP(L64,ClubNames,2,FALSE())&COUNTIF($L$2:$L64,L64) -> Gala Harriers1 | L64: 13 | M64: Poppy Lunn | O64: 63 | P64: =VLOOKUP(I64,J:M,4,FALSE())&IF(RIGHT(D64,1)="V"," (V)",IF(RIGHT(D64,1)="J"," (J)","")) -> Martha Keith-Barnett (V) | Q64: =VLOOKUP(H64,ClubNames,2,FALSE()) -> Edinburgh AC | R64: =TIME(A64,B64,C64) -> 0.01849537
B65: 26 | C65: 40 | D65: 23V | H65: =IF(OR(RIGHT(D65,1)="V",RIGHT(D65,1)="J"),VALUE(LEFT(D65,LEN(D65)-1)),D65) -> 23 | I65: =Q65&COUNTIF($H$2:$H65,H65) -> Dundee Road Runners AC7 | J65: =VLOOKUP(L65,ClubNames,2,FALSE())&COUNTIF($L$2:$L65,L65) -> Gala Harriers2 | L65: 13 | M65: Jessica Smith | O65: 64 | P65: =VLOOKUP(I65,J:M,4,FALSE())&IF(RIGHT(D65,1)="V"," (V)",IF(RIGHT(D65,1)="J"," (J)","")) -> Louise Menzies (V) | Q65: =VLOOKUP(H65,ClubNames,2,FALSE()) -> Dundee Road Runners AC | R65: =TIME(A65,B65,C65) -> 0.018518519
B66: 26 | C66: 42 | D66: 2V | H66: =IF(OR(RIGHT(D66,1)="V",RIGHT(D66,1)="J"),VALUE(LEFT(D66,LEN(D66)-1)),D66) -> 2 | I66: =Q66&COUNTIF($H$2:$H66,H66) -> Perth Road Runners1 | J66: =VLOOKUP(L66,ClubNames,2,FALSE())&COUNTIF($L$2:$L66,L66) -> Gala Harriers3 | L66: 13 | M66: Lisa Dalgliesh | O66: 65 | P66: =VLOOKUP(I66,J:M,4,FALSE())&IF(RIGHT(D66,1)="V"," (V)",IF(RIGHT(D66,1)="J"," (J)","")) -> Fabienne Thompson (V) | Q66: =VLOOKUP(H66,ClubNames,2,FALSE()) -> Perth Road Runners | R66: =TIME(A66,B66,C66) -> 0.018541667
B67: 26 | C67: 49 | D67: 27 | H67: =IF(OR(RIGHT(D67,1)="V",RIGHT(D67,1)="J"),VALUE(LEFT(D67,LEN(D67)-1)),D67) -> 27 | I67: =Q67&COUNTIF($H$2:$H67,H67) -> Linlithgow AC4 | J67: =VLOOKUP(L67,ClubNames,2,FALSE())&COUNTIF($L$2:$L67,L67) -> Gala Harriers4 | L67: 13 | M67: Kate Darlow | O67: 66 | P67: =VLOOKUP(I67,J:M,4,FALSE())&IF(RIGHT(D67,1)="V"," (V)",IF(RIGHT(D67,1)="J"," (J)","")) -> Victoria Munday | Q67: =VLOOKUP(H67,ClubNames,2,FALSE()) -> Linlithgow AC | R67: =TIME(A67,B67,C67) -> 0.018622685
B68: 26 | C68: 58 | D68: 32J | H68: =IF(OR(RIGHT(D68,1)="V",RIGHT(D68,1)="J"),VALUE(LEFT(D68,LEN(D68)-1)),D68) -> 32 | I68: =Q68&COUNTIF($H$2:$H68,H68) -> Lasswade AAC2 | J68: =VLOOKUP(L68,ClubNames,2,FALSE())&COUNTIF($L$2:$L68,L68) -> Central AC1 | L68: 18 | M68: Morag Millar | O68: 67 | P68: =VLOOKUP(I68,J:M,4,FALSE())&IF(RIGHT(D68,1)="V"," (V)",IF(RIGHT(D68,1)="J"," (J)","")) -> Bethan Kitchin (J) | Q68: =VLOOKUP(H68,ClubNames,2,FALSE()) -> Lasswade AAC | R68: =TIME(A68,B68,C68) -> 0.018726852
B69: 27 | C69: 8 | D69: 20V | H69: =IF(OR(RIGHT(D69,1)="V",RIGHT(D69,1)="J"),VALUE(LEFT(D69,LEN(D69)-1)),D69) -> 20 | I69: =Q69&COUNTIF($H$2:$H69,H69) -> Harmeny AAC4 | J69: =VLOOKUP(L69,ClubNames,2,FALSE())&COUNTIF($L$2:$L69,L69) -> Central AC2 | L69: 18 | M69: Grace Whelan | O69: 68 | P69: =VLOOKUP(I69,J:M,4,FALSE())&IF(RIGHT(D69,1)="V"," (V)",IF(RIGHT(D69,1)="J"," (J)","")) -> Toni Clarke (V) | Q69: =VLOOKUP(H69,ClubNames,2,FALSE()) -> Harmeny AAC | R69: =TIME(A69,B69,C69) -> 0.018842593
B70: 27 | C70: 17 | D70: 18V | H70: =IF(OR(RIGHT(D70,1)="V",RIGHT(D70,1)="J"),VALUE(LEFT(D70,LEN(D70)-1)),D70) -> 18 | I70: =Q70&COUNTIF($H$2:$H70,H70) -> Central AC5 | J70: =VLOOKUP(L70,ClubNames,2,FALSE())&COUNTIF($L$2:$L70,L70) -> Central AC3 | L70: 18 | M70: Ellen Whyte | O70: 69 | P70: =VLOOKUP(I70,J:M,4,FALSE())&IF(RIGHT(D70,1)="V"," (V)",IF(RIGHT(D70,1)="J"," (J)","")) -> Liz Robertson (V) | Q70: =VLOOKUP(H70,ClubNames,2,FALSE()) -> Central AC | R70: =TIME(A70,B70,C70) -> 0.018946759
B71: 27 | C71: 29 | D71: 3 | H71: =IF(OR(RIGHT(D71,1)="V",RIGHT(D71,1)="J"),VALUE(LEFT(D71,LEN(D71)-1)),D71) -> 3 | I71: =Q71&COUNTIF($H$2:$H71,H71) -> Lothian Running Club1 | J71: =VLOOKUP(L71,ClubNames,2,FALSE())&COUNTIF($L$2:$L71,L71) -> Central AC4 | L71: 18 | M71: Amy Gough | O71: 70 | P71: =VLOOKUP(I71,J:M,4,FALSE())&IF(RIGHT(D71,1)="V"," (V)",IF(RIGHT(D71,1)="J"," (J)","")) -> Emma Thomson | Q71: =VLOOKUP(H71,ClubNames,2,FALSE()) -> Lothian Running Club | R71: =TIME(A71,B71,C71) -> 0.019085648
B72: 27 | C72: 30 | D72: 1V | H72: =IF(OR(RIGHT(D72,1)="V",RIGHT(D72,1)="J"),VALUE(LEFT(D72,LEN(D72)-1)),D72) -> 1 | I72: =Q72&COUNTIF($H$2:$H72,H72) -> Edinburgh AC11 | J72: =VLOOKUP(L72,ClubNames,2,FALSE())&COUNTIF($L$2:$L72,L72) -> Central AC5 | L72: 18 | M72: Liz Robertson | O72: 71 | P72: =VLOOKUP(I72,J:M,4,FALSE())&IF(RIGHT(D72,1)="V"," (V)",IF(RIGHT(D72,1)="J"," (J)","")) -> Isobel Joiner (V) | Q72: =VLOOKUP(H72,ClubNames,2,FALSE()) -> Edinburgh AC | R72: =TIME(A72,B72,C72) -> 0.019097222
B73: 27 | C73: 30 | D73: 28V | H73: =IF(OR(RIGHT(D73,1)="V",RIGHT(D73,1)="J"),VALUE(LEFT(D73,LEN(D73)-1)),D73) -> 28 | I73: =Q73&COUNTIF($H$2:$H73,H73) -> Carnegie Harriers2 | J73: =VLOOKUP(L73,ClubNames,2,FALSE())&COUNTIF($L$2:$L73,L73) -> Metro Aberdeen Running Club1 | L73: 19 | M73: Margarita Radeva | O73: 72 | P73: =VLOOKUP(I73,J:M,4,FALSE())&IF(RIGHT(D73,1)="V"," (V)",IF(RIGHT(D73,1)="J"," (J)","")) -> Joy Gudgin (V) | Q73: =VLOOKUP(H73,ClubNames,2,FALSE()) -> Carnegie Harriers | R73: =TIME(A73,B73,C73) -> 0.019097222
B74: 27 | C74: 33 | D74: 27V | H74: =IF(OR(RIGHT(D74,1)="V",RIGHT(D74,1)="J"),VALUE(LEFT(D74,LEN(D74)-1)),D74) -> 27 | I74: =Q74&COUNTIF($H$2:$H74,H74) -> Linlithgow AC5 | J74: =VLOOKUP(L74,ClubNames,2,FALSE())&COUNTIF($L$2:$L74,L74) -> Harmeny AAC1 | L74: 20 | M74: Natsai Nyabadza | O74: 73 | P74: =VLOOKUP(I74,J:M,4,FALSE())&IF(RIGHT(D74,1)="V"," (V)",IF(RIGHT(D74,1)="J"," (J)","")) -> Kathryn Holm (V) | Q74: =VLOOKUP(H74,ClubNames,2,FALSE()) -> Linlithgow AC | R74: =TIME(A74,B74,C74) -> 0.019131944
B75: 27 | C75: 35 | D75: 2V | H75: =IF(OR(RIGHT(D75,1)="V",RIGHT(D75,1)="J"),VALUE(LEFT(D75,LEN(D75)-1)),D75) -> 2 | I75: =Q75&COUNTIF($H$2:$H75,H75) -> Perth Road Runners2 | J75: =VLOOKUP(L75,ClubNames,2,FALSE())&COUNTIF($L$2:$L75,L75) -> Harmeny AAC2 | L75: 20 | M75: Skye Marshall | O75: 74 | P75: =VLOOKUP(I75,J:M,4,FALSE())&IF(RIGHT(D75,1)="V"," (V)",IF(RIGHT(D75,1)="J"," (J)","")) -> Rhona Younger (V) | Q75: =VLOOKUP(H75,ClubNames,2,FALSE()) -> Perth Road Runners | R75: =TIME(A75,B75,C75) -> 0.019155093
B76: 27 | C76: 39 | D76: 1V | H76: =IF(OR(RIGHT(D76,1)="V",RIGHT(D76,1)="J"),VALUE(LEFT(D76,LEN(D76)-1)),D76) -> 1 | I76: =Q76&COUNTIF($H$2:$H76,H76) -> Edinburgh AC12 | J76: =VLOOKUP(L76,ClubNames,2,FALSE())&COUNTIF($L$2:$L76,L76) -> Harmeny AAC3 | L76: 20 | M76: Kirsty McBirnie | O76: 75 | P76: =VLOOKUP(I76,J:M,4,FALSE())&IF(RIGHT(D76,1)="V"," (V)",IF(RIGHT(D76,1)="J"," (J)","")) -> Emma Laverie (V) | Q76: =VLOOKUP(H76,ClubNames,2,FALSE()) -> Edinburgh AC | R76: =TIME(A76,B76,C76) -> 0.019201389
B77: 27 | C77: 40 | D77: 1V | H77: =IF(OR(RIGHT(D77,1)="V",RIGHT(D77,1)="J"),VALUE(LEFT(D77,LEN(D77)-1)),D77) -> 1 | I77: =Q77&COUNTIF($H$2:$H77,H77) -> Edinburgh AC13 | J77: =VLOOKUP(L77,ClubNames,2,FALSE())&COUNTIF($L$2:$L77,L77) -> Harmeny AAC4 | L77: 20 | M77: Toni Clarke | O77: 76 | P77: =VLOOKUP(I77,J:M,4,FALSE())&IF(RIGHT(D77,1)="V"," (V)",IF(RIGHT(D77,1)="J"," (J)","")) -> Hannah Waugh (V) | Q77: =VLOOKUP(H77,ClubNames,2,FALSE()) -> Edinburgh AC | R77: =TIME(A77,B77,C77) -> 0.019212963
B78: 27 | C78: 42 | D78: 1 | H78: =IF(OR(RIGHT(D78,1)="V",RIGHT(D78,1)="J"),VALUE(LEFT(D78,LEN(D78)-1)),D78) -> 1 | I78: =Q78&COUNTIF($H$2:$H78,H78) -> Edinburgh AC14 | J78: =VLOOKUP(L78,ClubNames,2,FALSE())&COUNTIF($L$2:$L78,L78) -> Harmeny AAC5 | L78: 20 | M78: Seona Burnett | O78: 77 | P78: =VLOOKUP(I78,J:M,4,FALSE())&IF(RIGHT(D78,1)="V"," (V)",IF(RIGHT(D78,1)="J"," (J)","")) -> Rebecca Whyte | Q78: =VLOOKUP(H78,ClubNames,2,FALSE()) -> Edinburgh AC | R78: =TIME(A78,B78,C78) -> 0.019236111
B79: 27 | C79: 42 | D79: 24V | H79: =IF(OR(RIGHT(D79,1)="V",RIGHT(D79,1)="J"),VALUE(LEFT(D79,LEN(D79)-1)),D79) -> 24 | I79: =Q79&COUNTIF($H$2:$H79,H79) -> Strathearn Harriers3 | J79: =VLOOKUP(L79,ClubNames,2,FALSE())&COUNTIF($L$2:$L79,L79) -> Harmeny AAC6 | L79: 20 | M79: Jemma Murray | O79: 78 | P79: =VLOOKUP(I79,J:M,4,FALSE())&IF(RIGHT(D79,1)="V"," (V)",IF(RIGHT(D79,1)="J"," (J)","")) -> Jenny Dallas (V) | Q79: =VLOOKUP(H79,ClubNames,2,FALSE()) -> Strathearn Harriers | R79: =TIME(A79,B79,C79) -> 0.019236111
B80: 27 | C80: 42 | D80: 20V | H80: =IF(OR(RIGHT(D80,1)="V",RIGHT(D80,1)="J"),VALUE(LEFT(D80,LEN(D80)-1)),D80) -> 20 | I80: =Q80&COUNTIF($H$2:$H80,H80) -> Harmeny AAC5 | J80: =VLOOKUP(L80,ClubNames,2,FALSE())&COUNTIF($L$2:$L80,L80) -> Carnethy Hill Racing Club1 | L80: 21 | M80: Heidi Ross | O80: 79 | P80: =VLOOKUP(I80,J:M,4,FALSE())&IF(RIGHT(D80,1)="V"," (V)",IF(RIGHT(D80,1)="J"," (J)","")) -> Seona Burnett (V) | Q80: =VLOOKUP(H80,ClubNames,2,FALSE()) -> Harmeny AAC | R80: =TIME(A80,B80,C80) -> 0.019236111
B81: 27 | C81: 56 | D81: 50 | H81: =IF(OR(RIGHT(D81,1)="V",RIGHT(D81,1)="J"),VALUE(LEFT(D81,LEN(D81)-1)),D81) -> 50 | I81: =Q81&COUNTIF($H$2:$H81,H81) -> Stirling University AC2 | J81: =VLOOKUP(L81,ClubNames,2,FALSE())&COUNTIF($L$2:$L81,L81) -> Penicuik Harriers1 | L81: 22 | M81: Natalie Stewart | O81: 80 | P81: =VLOOKUP(I81,J:M,4,FALSE())&IF(RIGHT(D81,1)="V"," (V)",IF(RIGHT(D81,1)="J"," (J)","")) -> Katie Higgins | Q81: =VLOOKUP(H81,ClubNames,2,FALSE()) -> Stirling University AC | R81: =TIME(A81,B81,C81) -> 0.019398148
B82: 28 | C82: 1 | D82: 2V | H82: =IF(OR(RIGHT(D82,1)="V",RIGHT(D82,1)="J"),VALUE(LEFT(D82,LEN(D82)-1)),D82) -> 2 | I82: =Q82&COUNTIF($H$2:$H82,H82) -> Perth Road Runners3 | J82: =VLOOKUP(L82,ClubNames,2,FALSE())&COUNTIF($L$2:$L82,L82) -> Dundee Road Runners AC1 | L82: 23 | M82: Mairi Littleson | O82: 81 | P82: =VLOOKUP(I82,J:M,4,FALSE())&IF(RIGHT(D82,1)="V"," (V)",IF(RIGHT(D82,1)="J"," (J)","")) -> Eileen Cooper (V) | Q82: =VLOOKUP(H82,ClubNames,2,FALSE()) -> Perth Road Runners | R82: =TIME(A82,B82,C82) -> 0.019456019
B83: 28 | C83: 1 | D83: 3V | H83: =IF(OR(RIGHT(D83,1)="V",RIGHT(D83,1)="J"),VALUE(LEFT(D83,LEN(D83)-1)),D83) -> 3 | I83: =Q83&COUNTIF($H$2:$H83,H83) -> Lothian Running Club2 | J83: =VLOOKUP(L83,ClubNames,2,FALSE())&COUNTIF($L$2:$L83,L83) -> Dundee Road Runners AC2 | L83: 23 | M83: Laura Ogilvie | O83: 82 | P83: =VLOOKUP(I83,J:M,4,FALSE())&IF(RIGHT(D83,1)="V"," (V)",IF(RIGHT(D83,1)="J"," (J)","")) -> Lesley Redley (V) | Q83: =VLOOKUP(H83,ClubNames,2,FALSE()) -> Lothian Running Club | R83: =TIME(A83,B83,C83) -> 0.019456019
B84: 28 | C84: 7 | D84: 2V | H84: =IF(OR(RIGHT(D84,1)="V",RIGHT(D84,1)="J"),VALUE(LEFT(D84,LEN(D84)-1)),D84) -> 2 | I84: =Q84&COUNTIF($H$2:$H84,H84) -> Perth Road Runners4 | J84: =VLOOKUP(L84,ClubNames,2,FALSE())&COUNTIF($L$2:$L84,L84) -> Dundee Road Runners AC3 | L84: 23 | M84: Alison McNeilly | O84: 83 | P84: =VLOOKUP(I84,J:M,4,FALSE())&IF(RIGHT(D84,1)="V"," (V)",IF(RIGHT(D84,1)="J"," (J)","")) -> Lynn Gatherer (V) | Q84: =VLOOKUP(H84,ClubNames,2,FALSE()) -> Perth Road Runners | R84: =TIME(A84,B84,C84) -> 0.019525463
B85: 28 | C85: 8 | D85: 24V | H85: =IF(OR(RIGHT(D85,1)="V",RIGHT(D85,1)="J"),VALUE(LEFT(D85,LEN(D85)-1)),D85) -> 24 | I85: =Q85&COUNTIF($H$2:$H85,H85) -> Strathearn Harriers4 | J85: =VLOOKUP(L85,ClubNames,2,FALSE())&COUNTIF($L$2:$L85,L85) -> Dundee Road Runners AC4 | L85: 23 | M85: Fiona Callaghan | O85: 84 | P85: =VLOOKUP(I85,J:M,4,FALSE())&IF(RIGHT(D85,1)="V"," (V)",IF(RIGHT(D85,1)="J"," (J)","")) -> Ali Cunningham (V) | Q85: =VLOOKUP(H85,ClubNames,2,FALSE()) -> Strathearn Harriers | R85: =TIME(A85,B85,C85) -> 0.019537037
B86: 28 | C86: 18 | D86: 7 | H86: =IF(OR(RIGHT(D86,1)="V",RIGHT(D86,1)="J"),VALUE(LEFT(D86,LEN(D86)-1)),D86) -> 7 | I86: =Q86&COUNTIF($H$2:$H86,H86) -> Pitreavie AAC1 | J86: =VLOOKUP(L86,ClubNames,2,FALSE())&COUNTIF($L$2:$L86,L86) -> Dundee Road Runners AC5 | L86: 23 | M86: Fíona Canavan | O86: 85 | P86: =VLOOKUP(I86,J:M,4,FALSE())&IF(RIGHT(D86,1)="V"," (V)",IF(RIGHT(D86,1)="J"," (J)","")) -> Karyn Stewart | Q86: =VLOOKUP(H86,ClubNames,2,FALSE()) -> Pitreavie AAC | R86: =TIME(A86,B86,C86) -> 0.019652778
B87: 28 | C87: 21 | D87: 1 | H87: =IF(OR(RIGHT(D87,1)="V",RIGHT(D87,1)="J"),VALUE(LEFT(D87,LEN(D87)-1)),D87) -> 1 | I87: =Q87&COUNTIF($H$2:$H87,H87) -> Edinburgh AC15 | J87: =VLOOKUP(L87,ClubNames,2,FALSE())&COUNTIF($L$2:$L87,L87) -> Dundee Road Runners AC6 | L87: 23 | M87: India Arikan | O87: 86 | P87: =VLOOKUP(I87,J:M,4,FALSE())&IF(RIGHT(D87,1)="V"," (V)",IF(RIGHT(D87,1)="J"," (J)","")) -> Heather White | Q87: =VLOOKUP(H87,ClubNames,2,FALSE()) -> Edinburgh AC | R87: =TIME(A87,B87,C87) -> 0.0196875
B88: 28 | C88: 21 | D88: 1V | H88: =IF(OR(RIGHT(D88,1)="V",RIGHT(D88,1)="J"),VALUE(LEFT(D88,LEN(D88)-1)),D88) -> 1 | I88: =Q88&COUNTIF($H$2:$H88,H88) -> Edinburgh AC16 | J88: =VLOOKUP(L88,ClubNames,2,FALSE())&COUNTIF($L$2:$L88,L88) -> Dundee Road Runners AC7 | L88: 23 | M88: Louise Menzies | O88: 87 | P88: =VLOOKUP(I88,J:M,4,FALSE())&IF(RIGHT(D88,1)="V"," (V)",IF(RIGHT(D88,1)="J"," (J)","")) -> Anne Duncan (V) | Q88: =VLOOKUP(H88,ClubNames,2,FALSE()) -> Edinburgh AC | R88: =TIME(A88,B88,C88) -> 0.0196875
B89: 28 | C89: 21 | D89: 2V | H89: =IF(OR(RIGHT(D89,1)="V",RIGHT(D89,1)="J"),VALUE(LEFT(D89,LEN(D89)-1)),D89) -> 2 | I89: =Q89&COUNTIF($H$2:$H89,H89) -> Perth Road Runners5 | J89: =VLOOKUP(L89,ClubNames,2,FALSE())&COUNTIF($L$2:$L89,L89) -> Dundee Road Runners AC8 | L89: 23 | M89: Alison Gelly | O89: 88 | P89: =VLOOKUP(I89,J:M,4,FALSE())&IF(RIGHT(D89,1)="V"," (V)",IF(RIGHT(D89,1)="J"," (J)","")) -> Gillian McGuire (V) | Q89: =VLOOKUP(H89,ClubNames,2,FALSE()) -> Perth Road Runners | R89: =TIME(A89,B89,C89) -> 0.0196875
B90: 28 | C90: 21 | D90: 25V | H90: =IF(OR(RIGHT(D90,1)="V",RIGHT(D90,1)="J"),VALUE(LEFT(D90,LEN(D90)-1)),D90) -> 25 | I90: =Q90&COUNTIF($H$2:$H90,H90) -> Ochil Hill Runners1 | J90: =VLOOKUP(L90,ClubNames,2,FALSE())&COUNTIF($L$2:$L90,L90) -> Strathearn Harriers1 | L90: 24 | M90: Hanna McInally | O90: 89 | P90: =VLOOKUP(I90,J:M,4,FALSE())&IF(RIGHT(D90,1)="V"," (V)",IF(RIGHT(D90,1)="J"," (J)","")) -> Hazel Dean (V) | Q90: =VLOOKUP(H90,ClubNames,2,FALSE()) -> Ochil Hill Runners | R90: =TIME(A90,B90,C90) -> 0.0196875
B91: 28 | C91: 32 | D91: 32V | H91: =IF(OR(RIGHT(D91,1)="V",RIGHT(D91,1)="J"),VALUE(LEFT(D91,LEN(D91)-1)),D91) -> 32 | I91: =Q91&COUNTIF($H$2:$H91,H91) -> Lasswade AAC3 | J91: =VLOOKUP(L91,ClubNames,2,FALSE())&COUNTIF($L$2:$L91,L91) -> Strathearn Harriers2 | L91: 24 | M91: Wiktoria Kret | O91: 90 | P91: =VLOOKUP(I91,J:M,4,FALSE())&IF(RIGHT(D91,1)="V"," (V)",IF(RIGHT(D91,1)="J"," (J)","")) -> Rachel Fagan (V) | Q91: =VLOOKUP(H91,ClubNames,2,FALSE()) -> Lasswade AAC | R91: =TIME(A91,B91,C91) -> 0.019814815
B92: 28 | C92: 47 | D92: 13V | H92: =IF(OR(RIGHT(D92,1)="V",RIGHT(D92,1)="J"),VALUE(LEFT(D92,LEN(D92)-1)),D92) -> 13 | I92: =Q92&COUNTIF($H$2:$H92,H92) -> Gala Harriers3 | J92: =VLOOKUP(L92,ClubNames,2,FALSE())&COUNTIF($L$2:$L92,L92) -> Strathearn Harriers3 | L92: 24 | M92: Jenny Dallas | O92: 91 | P92: =VLOOKUP(I92,J:M,4,FALSE())&IF(RIGHT(D92,1)="V"," (V)",IF(RIGHT(D92,1)="J"," (J)","")) -> Lisa Dalgliesh (V) | Q92: =VLOOKUP(H92,ClubNames,2,FALSE()) -> Gala Harriers | R92: =TIME(A92,B92,C92) -> 0.019988426
B93: 28 | C93: 53 | D93: 28V | H93: =IF(OR(RIGHT(D93,1)="V",RIGHT(D93,1)="J"),VALUE(LEFT(D93,LEN(D93)-1)),D93) -> 28 | I93: =Q93&COUNTIF($H$2:$H93,H93) -> Carnegie Harriers3 | J93: =VLOOKUP(L93,ClubNames,2,FALSE())&COUNTIF($L$2:$L93,L93) -> Strathearn Harriers4 | L93: 24 | M93: Ali Cunningham | O93: 92 | P93: =VLOOKUP(I93,J:M,4,FALSE())&IF(RIGHT(D93,1)="V"," (V)",IF(RIGHT(D93,1)="J"," (J)","")) -> Isobel Burnett (V) | Q93: =VLOOKUP(H93,ClubNames,2,FALSE()) -> Carnegie Harriers | R93: =TIME(A93,B93,C93) -> 0.02005787
B94: 29 | C94: 13 | D94: 31 | H94: =IF(OR(RIGHT(D94,1)="V",RIGHT(D94,1)="J"),VALUE(LEFT(D94,LEN(D94)-1)),D94) -> 31 | I94: =Q94&COUNTIF($H$2:$H94,H94) -> Corstorphine AAC7 | J94: =VLOOKUP(L94,ClubNames,2,FALSE())&COUNTIF($L$2:$L94,L94) -> Strathearn Harriers5 | L94: 24 | M94: Gill Dowse | O94: 93 | P94: =VLOOKUP(I94,J:M,4,FALSE())&IF(RIGHT(D94,1)="V"," (V)",IF(RIGHT(D94,1)="J"," (J)","")) -> Rachel Butcher | Q94: =VLOOKUP(H94,ClubNames,2,FALSE()) -> Corstorphine AAC | R94: =TIME(A94,B94,C94) -> 0.020289352
B95: 29 | C95: 16 | D95: 7 | H95: =IF(OR(RIGHT(D95,1)="V",RIGHT(D95,1)="J"),VALUE(LEFT(D95,LEN(D95)-1)),D95) -> 7 | I95: =Q95&COUNTIF($H$2:$H95,H95) -> Pitreavie AAC2 | J95: =VLOOKUP(L95,ClubNames,2,FALSE())&COUNTIF($L$2:$L95,L95) -> Strathearn Harriers6 | L95: 24 | M95: Monica Warren | O95: 94 | P95: =VLOOKUP(I95,J:M,4,FALSE())&IF(RIGHT(D95,1)="V"," (V)",IF(RIGHT(D95,1)="J"," (J)","")) -> Sarah Ross | Q95: =VLOOKUP(H95,ClubNames,2,FALSE()) -> Pitreavie AAC | R95: =TIME(A95,B95,C95) -> 0.020324074
B96: 29 | C96: 28 | D96: 2V | H96: =IF(OR(RIGHT(D96,1)="V",RIGHT(D96,1)="J"),VALUE(LEFT(D96,LEN(D96)-1)),D96) -> 2 | I96: =Q96&COUNTIF($H$2:$H96,H96) -> Perth Road Runners6 | J96: =VLOOKUP(L96,ClubNames,2,FALSE())&COUNTIF($L$2:$L96,L96) -> Ochil Hill Runners1 | L96: 25 | M96: Hazel Dean | O96: 95 | P96: =VLOOKUP(I96,J:M,4,FALSE())&IF(RIGHT(D96,1)="V"," (V)",IF(RIGHT(D96,1)="J"," (J)","")) -> Joan Wilson (V) | Q96: =VLOOKUP(H96,ClubNames,2,FALSE()) -> Perth Road Runners | R96: =TIME(A96,B96,C96) -> 0.020462963
B97: 29 | C97: 32 | D97: 13V | H97: =IF(OR(RIGHT(D97,1)="V",RIGHT(D97,1)="J"),VALUE(LEFT(D97,LEN(D97)-1)),D97) -> 13 | I97: =Q97&COUNTIF($H$2:$H97,H97) -> Gala Harriers4 | J97: =VLOOKUP(L97,ClubNames,2,FALSE())&COUNTIF($L$2:$L97,L97) -> Wee County Harriers1 | L97: 26 | M97: Lauren sadowski | O97: 96 | P97: =VLOOKUP(I97,J:M,4,FALSE())&IF(RIGHT(D97,1)="V"," (V)",IF(RIGHT(D97,1)="J"," (J)","")) -> Kate Darlow (V) | Q97: =VLOOKUP(H97,ClubNames,2,FALSE()) -> Gala Harriers | R97: =TIME(A97,B97,C97) -> 0.020509259
B98: 29 | C98: 32 | D98: 32 | H98: =IF(OR(RIGHT(D98,1)="V",RIGHT(D98,1)="J"),VALUE(LEFT(D98,LEN(D98)-1)),D98) -> 32 | I98: =Q98&COUNTIF($H$2:$H98,H98) -> Lasswade AAC4 | J98: =VLOOKUP(L98,ClubNames,2,FALSE())&COUNTIF($L$2:$L98,L98) -> Wee County Harriers2 | L98: 26 | M98: Kerri Hutchison | O98: 97 | P98: =VLOOKUP(I98,J:M,4,FALSE())&IF(RIGHT(D98,1)="V"," (V)",IF(RIGHT(D98,1)="J"," (J)","")) -> Chloe Esson | Q98: =VLOOKUP(H98,ClubNames,2,FALSE()) -> Lasswade AAC | R98: =TIME(A98,B98,C98) -> 0.020509259
B99: 29 | C99: 38 | D99: 24V | H99: =IF(OR(RIGHT(D99,1)="V",RIGHT(D99,1)="J"),VALUE(LEFT(D99,LEN(D99)-1)),D99) -> 24 | I99: =Q99&COUNTIF($H$2:$H99,H99) -> Strathearn Harriers5 | J99: =VLOOKUP(L99,ClubNames,2,FALSE())&COUNTIF($L$2:$L99,L99) -> Wee County Harriers3 | L99: 26 | M99: Jen Ure | O99: 98 | P99: =VLOOKUP(I99,J:M,4,FALSE())&IF(RIGHT(D99,1)="V"," (V)",IF(RIGHT(D99,1)="J"," (J)","")) -> Gill Dowse (V) | Q99: =VLOOKUP(H99,ClubNames,2,FALSE()) -> Strathearn Harriers | R99: =TIME(A99,B99,C99) -> 0.020578704
B100: 29 | C100: 41 | D100: 20J | H100: =IF(OR(RIGHT(D100,1)="V",RIGHT(D100,1)="J"),VALUE(LEFT(D100,LEN(D100)-1)),D100) -> 20 | I100: =Q100&COUNTIF($H$2:$H100,H100) -> Harmeny AAC6 | J100: =VLOOKUP(L100,ClubNames,2,FALSE())&COUNTIF($L$2:$L100,L100) -> Linlithgow AC1 | L100: 27 | M100: Jenny MacLean | O100: 99 | P100: =VLOOKUP(I100,J:M,4,FALSE())&IF(RIGHT(D100,1)="V"," (V)",IF(RIGHT(D100,1)="J"," (J)","")) -> Jemma Murray (J) | Q100: =VLOOKUP(H100,ClubNames,2,FALSE()) -> Harmeny AAC | R100: =TIME(A100,B100,C100) -> 0.020613426
...

Sheet U11 Boys
A1: Hr | B1: Min | C1: Sec | D1: Bib No | F1: Club | G1: Finishers | H1: Team No | I1: Race Finish | J1: Team Finish | L1: Team No | M1: Name | O1: Pos | P1: Name | Q1: Club | R1: Time
B2: 6 | C2: 10 | D2: 44 | E2: 1 | F2: =Clubs!B3 -> Edinburgh AC | G2: =COUNTIF($H:$H,E2) -> 9 | H2: =IF(OR(RIGHT(D2,1)="V",RIGHT(D2,1)="J"),VALUE(LEFT(D2,LEN(D2)-1)),D2) -> 44 | I2: =Q2&COUNTIF($H$2:$H2,H2) -> Montrose and District AC1 | J2: =VLOOKUP(L2,ClubNames,2,FALSE())&COUNTIF($L$2:$L2,L2) -> Edinburgh AC1 | L2: 1 | M2: Joshuua Brinkman | O2: 1 | P2: =VLOOKUP(I2,J:M,4,FALSE())&IF(RIGHT(D2,1)="V"," (V)",IF(RIGHT(D2,1)="J"," (J)","")) -> Hamish Burnett | Q2: =VLOOKUP(H2,ClubNames,2,FALSE()) -> Montrose and District AC | R2: =TIME(A2,B2,C2) -> 0.0042824074
B3: 6 | C3: 12 | D3: 4 | E3: 2 | F3: =Clubs!B4 -> Perth Road Runners | G3: =COUNTIF($H:$H,E3) -> 0 | H3: =IF(OR(RIGHT(D3,1)="V",RIGHT(D3,1)="J"),VALUE(LEFT(D3,LEN(D3)-1)),D3) -> 4 | I3: =Q3&COUNTIF($H$2:$H3,H3) -> Teviotdale Harriers1 | J3: =VLOOKUP(L3,ClubNames,2,FALSE())&COUNTIF($L$2:$L3,L3) -> Edinburgh AC2 | L3: 1 | M3: James Mossop | O3: =1+O2 -> 2 | P3: =VLOOKUP(I3,J:M,4,FALSE())&IF(RIGHT(D3,1)="V"," (V)",IF(RIGHT(D3,1)="J"," (J)","")) -> Connor Davidson | Q3: =VLOOKUP(H3,ClubNames,2,FALSE()) -> Teviotdale Harriers | R3: =TIME(A3,B3,C3) -> 0.0043055556
B4: 6 | C4: 18 | D4: 1 | E4: 3 | F4: =Clubs!B5 -> Lothian Running Club | G4: =COUNTIF($H:$H,E4) -> 1 | H4: =IF(OR(RIGHT(D4,1)="V",RIGHT(D4,1)="J"),VALUE(LEFT(D4,LEN(D4)-1)),D4) -> 1 | I4: =Q4&COUNTIF($H$2:$H4,H4) -> Edinburgh AC1 | J4: =VLOOKUP(L4,ClubNames,2,FALSE())&COUNTIF($L$2:$L4,L4) -> Edinburgh AC3 | L4: 1 | M4: Hudson Brown | O4: =1+O3 -> 3 | P4: =VLOOKUP(I4,J:M,4,FALSE())&IF(RIGHT(D4,1)="V"," (V)",IF(RIGHT(D4,1)="J"," (J)","")) -> Joshuua Brinkman | Q4: =VLOOKUP(H4,ClubNames,2,FALSE()) -> Edinburgh AC | R4: =TIME(A4,B4,C4) -> 0.004375
B5: 6 | C5: 20 | D5: 18 | E5: 4 | F5: =Clubs!B6 -> Teviotdale Harriers | G5: =COUNTIF($H:$H,E5) -> 1 | H5: =IF(OR(RIGHT(D5,1)="V",RIGHT(D5,1)="J"),VALUE(LEFT(D5,LEN(D5)-1)),D5) -> 18 | I5: =Q5&COUNTIF($H$2:$H5,H5) -> Central AC1 | J5: =VLOOKUP(L5,ClubNames,2,FALSE())&COUNTIF($L$2:$L5,L5) -> Edinburgh AC4 | L5: 1 | M5: Lachlan Battistini | O5: =1+O4 -> 4 | P5: =VLOOKUP(I5,J:M,4,FALSE())&IF(RIGHT(D5,1)="V"," (V)",IF(RIGHT(D5,1)="J"," (J)","")) -> Harris Robertson | Q5: =VLOOKUP(H5,ClubNames,2,FALSE()) -> Central AC | R5: =TIME(A5,B5,C5) -> 0.0043981481
B6: 6 | C6: 22 | D6: 24 | E6: 5 | F6: =Clubs!B7 -> Moorfoot Runners | G6: =COUNTIF($H:$H,E6) -> 0 | H6: =IF(OR(RIGHT(D6,1)="V",RIGHT(D6,1)="J"),VALUE(LEFT(D6,LEN(D6)-1)),D6) -> 24 | I6: =Q6&COUNTIF($H$2:$H6,H6) -> Strathearn Harriers1 | J6: =VLOOKUP(L6,ClubNames,2,FALSE())&COUNTIF($L$2:$L6,L6) -> Edinburgh AC5 | L6: 1 | M6: Senan O'Hara-Kelly | O6: =1+O5 -> 5 | P6: =VLOOKUP(I6,J:M,4,FALSE())&IF(RIGHT(D6,1)="V"," (V)",IF(RIGHT(D6,1)="J"," (J)","")) -> Quinn McInally | Q6: =VLOOKUP(H6,ClubNames,2,FALSE()) -> Strathearn Harriers | R6: =TIME(A6,B6,C6) -> 0.0044212963
B7: 6 | C7: 24 | D7: 20 | E7: 6 | F7: =Clubs!B8 -> Aberdeen AAC | G7: =COUNTIF($H:$H,E7) -> 0 | H7: =IF(OR(RIGHT(D7,1)="V",RIGHT(D7,1)="J"),VALUE(LEFT(D7,LEN(D7)-1)),D7) -> 20 | I7: =Q7&COUNTIF($H$2:$H7,H7) -> Harmeny AAC1 | J7: =VLOOKUP(L7,ClubNames,2,FALSE())&COUNTIF($L$2:$L7,L7) -> Edinburgh AC6 | L7: 1 | M7: Tommy Nemec | O7: =1+O6 -> 6 | P7: =VLOOKUP(I7,J:M,4,FALSE())&IF(RIGHT(D7,1)="V"," (V)",IF(RIGHT(D7,1)="J"," (J)","")) -> Max Jellema | Q7: =VLOOKUP(H7,ClubNames,2,FALSE()) -> Harmeny AAC | R7: =TIME(A7,B7,C7) -> 0.0044444444
B8: 6 | C8: 32 | D8: 19 | E8: 7 | F8: =Clubs!B9 -> Pitreavie AAC | G8: =COUNTIF($H:$H,E8) -> 4 | H8: =IF(OR(RIGHT(D8,1)="V",RIGHT(D8,1)="J"),VALUE(LEFT(D8,LEN(D8)-1)),D8) -> 19 | I8: =Q8&COUNTIF($H$2:$H8,H8) -> Metro Aberdeen Running Club1 | J8: =VLOOKUP(L8,ClubNames,2,FALSE())&COUNTIF($L$2:$L8,L8) -> Edinburgh AC7 | L8: 1 | M8: Thomas Beckford | O8: =1+O7 -> 7 | P8: =VLOOKUP(I8,J:M,4,FALSE())&IF(RIGHT(D8,1)="V"," (V)",IF(RIGHT(D8,1)="J"," (J)","")) -> Thomas Knowlton | Q8: =VLOOKUP(H8,ClubNames,2,FALSE()) -> Metro Aberdeen Running Club | R8: =TIME(A8,B8,C8) -> 0.004537037
B9: 6 | C9: 33 | D9: 1 | E9: 8 | F9: =Clubs!B10 -> Fife AC | G9: =COUNTIF($H:$H,E9) -> 0 | H9: =IF(OR(RIGHT(D9,1)="V",RIGHT(D9,1)="J"),VALUE(LEFT(D9,LEN(D9)-1)),D9) -> 1 | I9: =Q9&COUNTIF($H$2:$H9,H9) -> Edinburgh AC2 | J9: =VLOOKUP(L9,ClubNames,2,FALSE())&COUNTIF($L$2:$L9,L9) -> Edinburgh AC8 | L9: 1 | M9: Rory Macpherson | O9: =1+O8 -> 8 | P9: =VLOOKUP(I9,J:M,4,FALSE())&IF(RIGHT(D9,1)="V"," (V)",IF(RIGHT(D9,1)="J"," (J)","")) -> James Mossop | Q9: =VLOOKUP(H9,ClubNames,2,FALSE()) -> Edinburgh AC | R9: =TIME(A9,B9,C9) -> 0.0045486111
B10: 6 | C10: 35 | D10: 20 | E10: 9 | F10: =Clubs!B11 -> Not Used | G10: =COUNTIF($H:$H,E10) -> 0 | H10: =IF(OR(RIGHT(D10,1)="V",RIGHT(D10,1)="J"),VALUE(LEFT(D10,LEN(D10)-1)),D10) -> 20 | I10: =Q10&COUNTIF($H$2:$H10,H10) -> Harmeny AAC2 | J10: =VLOOKUP(L10,ClubNames,2,FALSE())&COUNTIF($L$2:$L10,L10) -> Edinburgh AC9 | L10: 1 | M10: Ross Leighton | O10: =1+O9 -> 9 | P10: =VLOOKUP(I10,J:M,4,FALSE())&IF(RIGHT(D10,1)="V"," (V)",IF(RIGHT(D10,1)="J"," (J)","")) -> Jack Downie | Q10: =VLOOKUP(H10,ClubNames,2,FALSE()) -> Harmeny AAC | R10: =TIME(A10,B10,C10) -> 0.0045717593
B11: 6 | C11: 44 | D11: 44 | E11: 10 | F11: =Clubs!B12 -> Edinburgh Univ Hare & Hounds | G11: =COUNTIF($H:$H,E11) -> 0 | H11: =IF(OR(RIGHT(D11,1)="V",RIGHT(D11,1)="J"),VALUE(LEFT(D11,LEN(D11)-1)),D11) -> 44 | I11: =Q11&COUNTIF($H$2:$H11,H11) -> Montrose and District AC2 | J11: =VLOOKUP(L11,ClubNames,2,FALSE())&COUNTIF($L$2:$L11,L11) -> Lothian Running Club1 | L11: 3 | M11: Hunter Stewart | O11: =1+O10 -> 10 | P11: =VLOOKUP(I11,J:M,4,FALSE())&IF(RIGHT(D11,1)="V"," (V)",IF(RIGHT(D11,1)="J"," (J)","")) -> Cameron Maiden | Q11: =VLOOKUP(H11,ClubNames,2,FALSE()) -> Montrose and District AC | R11: =TIME(A11,B11,C11) -> 0.0046759259
B12: 6 | C12: 44 | D12: 24 | E12: 11 | F12: =Clubs!B13 -> Falkirk Victoria Harriers | G12: =COUNTIF($H:$H,E12) -> 3 | H12: =IF(OR(RIGHT(D12,1)="V",RIGHT(D12,1)="J"),VALUE(LEFT(D12,LEN(D12)-1)),D12) -> 24 | I12: =Q12&COUNTIF($H$2:$H12,H12) -> Strathearn Harriers2 | J12: =VLOOKUP(L12,ClubNames,2,FALSE())&COUNTIF($L$2:$L12,L12) -> Teviotdale Harriers1 | L12: 4 | M12: Connor Davidson | O12: =1+O11 -> 11 | P12: =VLOOKUP(I12,J:M,4,FALSE())&IF(RIGHT(D12,1)="V"," (V)",IF(RIGHT(D12,1)="J"," (J)","")) -> Finlay McInally | Q12: =VLOOKUP(H12,ClubNames,2,FALSE()) -> Strathearn Harriers | R12: =TIME(A12,B12,C12) -> 0.0046759259
B13: 6 | C13: 44 | D13: 32 | E13: 12 | F13: =Clubs!B14 -> Hunters Bog Trotters | G13: =COUNTIF($H:$H,E13) -> 0 | H13: =IF(OR(RIGHT(D13,1)="V",RIGHT(D13,1)="J"),VALUE(LEFT(D13,LEN(D13)-1)),D13) -> 32 | I13: =Q13&COUNTIF($H$2:$H13,H13) -> Lasswade AAC1 | J13: =VLOOKUP(L13,ClubNames,2,FALSE())&COUNTIF($L$2:$L13,L13) -> Pitreavie AAC1 | L13: 7 | M13: Arran Bowers | O13: =1+O12 -> 12 | P13: =VLOOKUP(I13,J:M,4,FALSE())&IF(RIGHT(D13,1)="V"," (V)",IF(RIGHT(D13,1)="J"," (J)","")) -> Nathan Glass | Q13: =VLOOKUP(H13,ClubNames,2,FALSE()) -> Lasswade AAC | R13: =TIME(A13,B13,C13) -> 0.0046759259
B14: 6 | C14: 47 | D14: 11 | E14: 13 | F14: =Clubs!B15 -> Gala Harriers | G14: =COUNTIF($H:$H,E14) -> 0 | H14: =IF(OR(RIGHT(D14,1)="V",RIGHT(D14,1)="J"),VALUE(LEFT(D14,LEN(D14)-1)),D14) -> 11 | I14: =Q14&COUNTIF($H$2:$H14,H14) -> Falkirk Victoria Harriers1 | J14: =VLOOKUP(L14,ClubNames,2,FALSE())&COUNTIF($L$2:$L14,L14) -> Pitreavie AAC2 | L14: 7 | M14: Brodie Steedman | O14: =1+O13 -> 13 | P14: =VLOOKUP(I14,J:M,4,FALSE())&IF(RIGHT(D14,1)="V"," (V)",IF(RIGHT(D14,1)="J"," (J)","")) -> Conal Rooney | Q14: =VLOOKUP(H14,ClubNames,2,FALSE()) -> Falkirk Victoria Harriers | R14: =TIME(A14,B14,C14) -> 0.0047106481
... B50: 7 | C50: 41 | D50: 3 | E50: 49 | F50: =Clubs!B51 -> Lauderdale Limpers | G50: =COUNTIF($H:$H,E50) -> 0 | H50: =IF(OR(RIGHT(D50,1)="V",RIGHT(D50,1)="J"),VALUE(LEFT(D50,LEN(D50)-1)),D50) -> 3 | I50: =Q50&COUNTIF($H$2:$H50,H50) -> Lothian Running Club1 | J50: =VLOOKUP(L50,ClubNames,2,FALSE())&COUNTIF($L$2:$L50,L50) -> Linlithgow AC4 | L50: 27 | M50: James Ferrario | O50: =1+O49 -> 49 | P50: =VLOOKUP(I50,J:M,4,FALSE())&IF(RIGHT(D50,1)="V"," (V)",IF(RIGHT(D50,1)="J"," (J)","")) -> Hunter Stewart | Q50: =VLOOKUP(H50,ClubNames,2,FALSE()) -> Lothian Running Club | R50: =TIME(A50,B50,C50) -> 0.0053356481
B51: 7 | C51: 44 | D51: 1 | E51: 50 | F51: =Clubs!B52 -> Stirling University AC | G51: =COUNTIF($H:$H,E51) -> 0 | H51: =IF(OR(RIGHT(D51,1)="V",RIGHT(D51,1)="J"),VALUE(LEFT(D51,LEN(D51)-1)),D51) -> 1 | I51: =Q51&COUNTIF($H$2:$H51,H51) -> Edinburgh AC8 | J51: =VLOOKUP(L51,ClubNames,2,FALSE())&COUNTIF($L$2:$L51,L51) -> Linlithgow AC5 | L51: 27 | M51: Lewis Bogle | O51: 50 | P51: =VLOOKUP(I51,J:M,4,FALSE())&IF(RIGHT(D51,1)="V"," (V)",IF(RIGHT(D51,1)="J"," (J)","")) -> Rory Macpherson | Q51: =VLOOKUP(H51,ClubNames,2,FALSE()) -> Edinburgh AC | R51: =TIME(A51,B51,C51) -> 0.0053703704
B52: 7 | C52: 47 | D52: 19 | E52: 51 | F52: =Clubs!B53 -> Haddington Running Club | G52: =COUNTIF($H:$H,E52) -> 2 | H52: =IF(OR(RIGHT(D52,1)="V",RIGHT(D52,1)="J"),VALUE(LEFT(D52,LEN(D52)-1)),D52) -> 19 | I52: =Q52&COUNTIF($H$2:$H52,H52) -> Metro Aberdeen Running Club3 | J52: =VLOOKUP(L52,ClubNames,2,FALSE())&COUNTIF($L$2:$L52,L52) -> Team Borders1 | L52: 29 | M52: Ben McGeoch | O52: 51 | P52: =VLOOKUP(I52,J:M,4,FALSE())&IF(RIGHT(D52,1)="V"," (V)",IF(RIGHT(D52,1)="J"," (J)","")) -> Nico Maciocia | Q52: =VLOOKUP(H52,ClubNames,2,FALSE()) -> Metro Aberdeen Running Club | R52: =TIME(A52,B52,C52) -> 0.0054050926
B53: 7 | C53: 49 | D53: 16 | E53: 52 | F53: =Clubs!B54 -> Arbroath & District AAC | G53: =COUNTIF($H:$H,E53) -> 0 | H53: =IF(OR(RIGHT(D53,1)="V",RIGHT(D53,1)="J"),VALUE(LEFT(D53,LEN(D53)-1)),D53) -> 16 | I53: =Q53&COUNTIF($H$2:$H53,H53) -> Dundee Hawkhill Harriers5 | J53: =VLOOKUP(L53,ClubNames,2,FALSE())&COUNTIF($L$2:$L53,L53) -> Team Borders2 | L53: 29 | M53: Elliot Baxter | O53: 52 | P53: =VLOOKUP(I53,J:M,4,FALSE())&IF(RIGHT(D53,1)="V"," (V)",IF(RIGHT(D53,1)="J"," (J)","")) -> Cole Gilmartin | Q53: =VLOOKUP(H53,ClubNames,2,FALSE()) -> Dundee Hawkhill Harriers | R53: =TIME(A53,B53,C53) -> 0.0054282407
B54: 7 | C54: 51 | D54: 7 | E54: 53 | F54: =Clubs!B55 -> Run Livingston | G54: =COUNTIF($H:$H,E54) -> 0 | H54: =IF(OR(RIGHT(D54,1)="V",RIGHT(D54,1)="J"),VALUE(LEFT(D54,LEN(D54)-1)),D54) -> 7 | I54: =Q54&COUNTIF($H$2:$H54,H54) -> Pitreavie AAC4 | J54: =VLOOKUP(L54,ClubNames,2,FALSE())&COUNTIF($L$2:$L54,L54) -> Team Borders3 | L54: 29 | M54: Noah Wilson | O54: 53 | P54: =VLOOKUP(I54,J:M,4,FALSE())&IF(RIGHT(D54,1)="V"," (V)",IF(RIGHT(D54,1)="J"," (J)","")) -> Campbell Nairn | Q54: =VLOOKUP(H54,ClubNames,2,FALSE()) -> Pitreavie AAC | R54: =TIME(A54,B54,C54) -> 0.0054513889
B55: 7 | C55: 51 | D55: 20 | H55: =IF(OR(RIGHT(D55,1)="V",RIGHT(D55,1)="J"),VALUE(LEFT(D55,LEN(D55)-1)),D55) -> 20 | I55: =Q55&COUNTIF($H$2:$H55,H55) -> Harmeny AAC7 | J55: =VLOOKUP(L55,ClubNames,2,FALSE())&COUNTIF($L$2:$L55,L55) -> Team Borders4 | L55: 29 | M55: Jack Hastie | O55: 54 | P55: =VLOOKUP(I55,J:M,4,FALSE())&IF(RIGHT(D55,1)="V"," (V)",IF(RIGHT(D55,1)="J"," (J)","")) -> Angus McClelland | Q55: =VLOOKUP(H55,ClubNames,2,FALSE()) -> Harmeny AAC | R55: =TIME(A55,B55,C55) -> 0.0054513889
B56: 7 | C56: 54 | D56: 24 | H56: =IF(OR(RIGHT(D56,1)="V",RIGHT(D56,1)="J"),VALUE(LEFT(D56,LEN(D56)-1)),D56) -> 24 | I56: =Q56&COUNTIF($H$2:$H56,H56) -> Strathearn Harriers4 | J56: =VLOOKUP(L56,ClubNames,2,FALSE())&COUNTIF($L$2:$L56,L56) -> Perth Strathtay Harriers1 | L56: 30 | M56: Andrew Brunton | O56: 55 | P56: =VLOOKUP(I56,J:M,4,FALSE())&IF(RIGHT(D56,1)="V"," (V)",IF(RIGHT(D56,1)="J"," (J)","")) -> Ruaridh Yates | Q56: =VLOOKUP(H56,ClubNames,2,FALSE()) -> Strathearn Harriers | R56: =TIME(A56,B56,C56) -> 0.0054861111
B57: 7 | C57: 54 | D57: 24 | H57: =IF(OR(RIGHT(D57,1)="V",RIGHT(D57,1)="J"),VALUE(LEFT(D57,LEN(D57)-1)),D57) -> 24 | I57: =Q57&COUNTIF($H$2:$H57,H57) -> Strathearn Harriers5 | J57: =VLOOKUP(L57,ClubNames,2,FALSE())&COUNTIF($L$2:$L57,L57) -> Perth Strathtay Harriers2 | L57: 30 | M57: Thorfi Timoney | O57: 56 | P57: =VLOOKUP(I57,J:M,4,FALSE())&IF(RIGHT(D57,1)="V"," (V)",IF(RIGHT(D57,1)="J"," (J)","")) -> Zachary White | Q57: =VLOOKUP(H57,ClubNames,2,FALSE()) -> Strathearn Harriers | R57: =TIME(A57,B57,C57) -> 0.0054861111
B58: 7 | C58: 57 | D58: 32 | H58: =IF(OR(RIGHT(D58,1)="V",RIGHT(D58,1)="J"),VALUE(LEFT(D58,LEN(D58)-1)),D58) -> 32 | I58: =Q58&COUNTIF($H$2:$H58,H58) -> Lasswade AAC2 | J58: =VLOOKUP(L58,ClubNames,2,FALSE())&COUNTIF($L$2:$L58,L58) -> Perth Strathtay Harriers3 | L58: 30 | M58: Christopher Cooper | O58: 57 | P58: =VLOOKUP(I58,J:M,4,FALSE())&IF(RIGHT(D58,1)="V"," (V)",IF(RIGHT(D58,1)="J"," (J)","")) -> Innes Milne | Q58: =VLOOKUP(H58,ClubNames,2,FALSE()) -> Lasswade AAC | R58: =TIME(A58,B58,C58) -> 0.0055208333
B59: 7 | C59: 57 | D59: 27 | H59: =IF(OR(RIGHT(D59,1)="V",RIGHT(D59,1)="J"),VALUE(LEFT(D59,LEN(D59)-1)),D59) -> 27 | I59: =Q59&COUNTIF($H$2:$H59,H59) -> Linlithgow AC4 | J59: =VLOOKUP(L59,ClubNames,2,FALSE())&COUNTIF($L$2:$L59,L59) -> Corstorphine AAC1 | L59: 31 | M59: Joseph O'Brien | O59: 58 | P59: =VLOOKUP(I59,J:M,4,FALSE())&IF(RIGHT(D59,1)="V"," (V)",IF(RIGHT(D59,1)="J"," (J)","")) -> James Ferrario | Q59: =VLOOKUP(H59,ClubNames,2,FALSE()) -> Linlithgow AC | R59: =TIME(A59,B59,C59) -> 0.0055208333
B60: 7 | C60: 57 | D60: 27 | H60: =IF(OR(RIGHT(D60,1)="V",RIGHT(D60,1)="J"),VALUE(LEFT(D60,LEN(D60)-1)),D60) -> 27 | I60: =Q60&COUNTIF($H$2:$H60,H60) -> Linlithgow AC5 | J60: =VLOOKUP(L60,ClubNames,2,FALSE())&COUNTIF($L$2:$L60,L60) -> Corstorphine AAC2 | L60: 31 | M60: Oran Breen | O60: 59 | P60: =VLOOKUP(I60,J:M,4,FALSE())&IF(RIGHT(D60,1)="V"," (V)",IF(RIGHT(D60,1)="J"," (J)","")) -> Lewis Bogle | Q60: =VLOOKUP(H60,ClubNames,2,FALSE()) -> Linlithgow AC | R60: =TIME(A60,B60,C60) -> 0.0055208333
B61: 8 | C61: 1 | D61: 36 | H61: =IF(OR(RIGHT(D61,1)="V",RIGHT(D61,1)="J"),VALUE(LEFT(D61,LEN(D61)-1)),D61) -> 36 | I61: =Q61&COUNTIF($H$2:$H61,H61) -> Banchory Stonehaven AC1 | J61: =VLOOKUP(L61,ClubNames,2,FALSE())&COUNTIF($L$2:$L61,L61) -> Corstorphine AAC3 | L61: 31 | M61: Finlay MacDonald | O61: 60 | P61: =VLOOKUP(I61,J:M,4,FALSE())&IF(RIGHT(D61,1)="V"," (V)",IF(RIGHT(D61,1)="J"," (J)","")) -> Hamish Thom | Q61: =VLOOKUP(H61,ClubNames,2,FALSE()) -> Banchory Stonehaven AC | R61: =TIME(A61,B61,C61) -> 0.0055671296
B62: 8 | C62: 6 | D62: 51 | H62: =IF(OR(RIGHT(D62,1)="V",RIGHT(D62,1)="J"),VALUE(LEFT(D62,LEN(D62)-1)),D62) -> 51 | I62: =Q62&COUNTIF($H$2:$H62,H62) -> Haddington Running Club2 | J62: =VLOOKUP(L62,ClubNames,2,FALSE())&COUNTIF($L$2:$L62,L62) -> Corstorphine AAC4 | L62: 31 | M62: Gari Anderson | O62: 61 | P62: =VLOOKUP(I62,J:M,4,FALSE())&IF(RIGHT(D62,1)="V"," (V)",IF(RIGHT(D62,1)="J"," (J)","")) -> Theo Pegg | Q62: =VLOOKUP(H62,ClubNames,2,FALSE()) -> Haddington Running Club | R62: =TIME(A62,B62,C62) -> 0.005625
B63: 8 | C63: 10 | D63: 41 | H63: =IF(OR(RIGHT(D63,1)="V",RIGHT(D63,1)="J"),VALUE(LEFT(D63,LEN(D63)-1)),D63) -> 41 | I63: =Q63&COUNTIF($H$2:$H63,H63) -> Anster Haddies Running Club1 | J63: =VLOOKUP(L63,ClubNames,2,FALSE())&COUNTIF($L$2:$L63,L63) -> Lasswade AAC1 | L63: 32 | M63: Nathan Glass | O63: 62 | P63: =VLOOKUP(I63,J:M,4,FALSE())&IF(RIGHT(D63,1)="V"," (V)",IF(RIGHT(D63,1)="J"," (J)","")) -> Sam Rainey | Q63: =VLOOKUP(H63,ClubNames,2,FALSE()) -> Anster Haddies Running Club | R63: =TIME(A63,B63,C63) -> 0.0056712963
B64: 8 | C64: 10 | D64: 31 | H64: =IF(OR(RIGHT(D64,1)="V",RIGHT(D64,1)="J"),VALUE(LEFT(D64,LEN(D64)-1)),D64) -> 31 | I64: =Q64&COUNTIF($H$2:$H64,H64) -> Corstorphine AAC4 | J64: =VLOOKUP(L64,ClubNames,2,FALSE())&COUNTIF($L$2:$L64,L64) -> Lasswade AAC2 | L64: 32 | M64: Innes Milne | O64: 63 | P64: =VLOOKUP(I64,J:M,4,FALSE())&IF(RIGHT(D64,1)="V"," (V)",IF(RIGHT(D64,1)="J"," (J)","")) -> Gari Anderson | Q64: =VLOOKUP(H64,ClubNames,2,FALSE()) -> Corstorphine AAC | R64: =TIME(A64,B64,C64) -> 0.0056712963
B65: 8 | C65: 13 | D65: 44 | H65: =IF(OR(RIGHT(D65,1)="V",RIGHT(D65,1)="J"),VALUE(LEFT(D65,LEN(D65)-1)),D65) -> 44 | I65: =Q65&COUNTIF($H$2:$H65,H65) -> Montrose and District AC4 | J65: =VLOOKUP(L65,ClubNames,2,FALSE())&COUNTIF($L$2:$L65,L65) -> Banchory Stonehaven AC1 | L65: 36 | M65: Hamish Thom | O65: 64 | P65: =VLOOKUP(I65,J:M,4,FALSE())&IF(RIGHT(D65,1)="V"," (V)",IF(RIGHT(D65,1)="J"," (J)","")) -> Olly Gibbons | Q65: =VLOOKUP(H65,ClubNames,2,FALSE()) -> Montrose and District AC | R65: =TIME(A65,B65,C65) -> 0.0057060185
B66: 8 | C66: 16 | D66: 11 | H66: =IF(OR(RIGHT(D66,1)="V",RIGHT(D66,1)="J"),VALUE(LEFT(D66,LEN(D66)-1)),D66) -> 11 | I66: =Q66&COUNTIF($H$2:$H66,H66) -> Falkirk Victoria Harriers3 | J66: =VLOOKUP(L66,ClubNames,2,FALSE())&COUNTIF($L$2:$L66,L66) -> Dunfermline Track & Field AC1 | L66: 39 | M66: Cathal Rowan | O66: 65 | P66: =VLOOKUP(I66,J:M,4,FALSE())&IF(RIGHT(D66,1)="V"," (V)",IF(RIGHT(D66,1)="J"," (J)","")) -> Max Alexander | Q66: =VLOOKUP(H66,ClubNames,2,FALSE()) -> Falkirk Victoria Harriers | R66: =TIME(A66,B66,C66) -> 0.0057407407
... B73: 8 | C73: 57 | D73: 15 | H73: =IF(OR(RIGHT(D73,1)="V",RIGHT(D73,1)="J"),VALUE(LEFT(D73,LEN(D73)-1)),D73) -> 15 | I73: =Q73&COUNTIF($H$2:$H73,H73) -> Livingston AC2 | J73: =VLOOKUP(L73,ClubNames,2,FALSE())&COUNTIF($L$2:$L73,L73) -> Haddington Running Club2 | L73: 51 | M73: Theo Pegg | O73: 72 | P73: =VLOOKUP(I73,J:M,4,FALSE())&IF(RIGHT(D73,1)="V"," (V)",IF(RIGHT(D73,1)="J"," (J)","")) -> Struan Sutherland | Q73: =VLOOKUP(H73,ClubNames,2,FALSE()) -> Livingston AC | R73: =TIME(A73,B73,C73) -> 0.0062152778
H74: =IF(OR(RIGHT(D74,1)="V",RIGHT(D74,1)="J"),VALUE(LEFT(D74,LEN(D74)-1)),D74) -> 0 | I74: =Q74&COUNTIF($H$2:$H74,H74) -> #N/A | J74: =VLOOKUP(L74,ClubNames,2,FALSE())&COUNTIF($L$2:$L74,L74) -> #N/A | O74: 73 | P74: =VLOOKUP(I74,J:M,4,FALSE())&IF(RIGHT(D74,1)="V"," (V)",IF(RIGHT(D74,1)="J"," (J)","")) -> #N/A | Q74: =VLOOKUP(H74,ClubNames,2,FALSE()) -> #N/A | R74: =TIME(A74,B74,C74) -> 0
H75: =IF(OR(RIGHT(D75,1)="V",RIGHT(D75,1)="J"),VALUE(LEFT(D75,LEN(D75)-1)),D75) -> 0 | I75: =Q75&COUNTIF($H$2:$H75,H75) -> #N/A | J75: =VLOOKUP(L75,ClubNames,2,FALSE())&COUNTIF($L$2:$L75,L75) -> #N/A | O75: 74 | P75: =VLOOKUP(I75,J:M,4,FALSE())&IF(RIGHT(D75,1)="V"," (V)",IF(RIGHT(D75,1)="J"," (J)","")) -> #N/A | Q75: =VLOOKUP(H75,ClubNames,2,FALSE()) -> #N/A | R75: =TIME(A75,B75,C75) -> 0
H76: =IF(OR(RIGHT(D76,1)="V",RIGHT(D76,1)="J"),VALUE(LEFT(D76,LEN(D76)-1)),D76) -> 0 | I76: =Q76&COUNTIF($H$2:$H76,H76) -> #N/A | J76: =VLOOKUP(L76,ClubNames,2,FALSE())&COUNTIF($L$2:$L76,L76) -> #N/A | O76: 75 | P76: =VLOOKUP(I76,J:M,4,FALSE())&IF(RIGHT(D76,1)="V"," (V)",IF(RIGHT(D76,1)="J"," (J)","")) -> #N/A | Q76: =VLOOKUP(H76,ClubNames,2,FALSE()) -> #N/A | R76: =TIME(A76,B76,C76) -> 0
H77: =IF(OR(RIGHT(D77,1)="V",RIGHT(D77,1)="J"),VALUE(LEFT(D77,LEN(D77)-1)),D77) -> 0 | I77: =Q77&COUNTIF($H$2:$H77,H77) -> #N/A | J77: =VLOOKUP(L77,ClubNames,2,FALSE())&COUNTIF($L$2:$L77,L77) -> #N/A | O77: 76 | P77: =VLOOKUP(I77,J:M,4,FALSE())&IF(RIGHT(D77,1)="V"," (V)",IF(RIGHT(D77,1)="J"," (J)","")) -> #N/A | Q77: =VLOOKUP(H77,ClubNames,2,FALSE()) -> #N/A | R77: =TIME(A77,B77,C77) -> 0
H78: =IF(OR(RIGHT(D78,1)="V",RIGHT(D78,1)="J"),VALUE(LEFT(D78,LEN(D78)-1)),D78) -> 0 | I78: =Q78&COUNTIF($H$2:$H78,H78) -> #N/A | J78: =VLOOKUP(L78,ClubNames,2,FALSE())&COUNTIF($L$2:$L78,L78) -> #N/A | O78: 77 | P78: =VLOOKUP(I78,J:M,4,FALSE())&IF(RIGHT(D78,1)="V"," (V)",IF(RIGHT(D78,1)="J"," (J)","")) -> #N/A | Q78: =VLOOKUP(H78,ClubNames,2,FALSE()) -> #N/A | R78: =TIME(A78,B78,C78) -> 0
H79: =IF(OR(RIGHT(D79,1)="V",RIGHT(D79,1)="J"),VALUE(LEFT(D79,LEN(D79)-1)),D79) -> 0 | I79: =Q79&COUNTIF($H$2:$H79,H79) -> #N/A | J79: =VLOOKUP(L79,ClubNames,2,FALSE())&COUNTIF($L$2:$L79,L79) -> #N/A | O79: 78 | P79: =VLOOKUP(I79,J:M,4,FALSE())&IF(RIGHT(D79,1)="V"," (V)",IF(RIGHT(D79,1)="J"," (J)","")) -> #N/A | Q79: =VLOOKUP(H79,ClubNames,2,FALSE()) -> #N/A | R79: =TIME(A79,B79,C79) -> 0
H80: =IF(OR(RIGHT(D80,1)="V",RIGHT(D80,1)="J"),VALUE(LEFT(D80,LEN(D80)-1)),D80) -> 0 | I80: =Q80&COUNTIF($H$2:$H80,H80) -> #N/A | J80: =VLOOKUP(L80,ClubNames,2,FALSE())&COUNTIF($L$2:$L80,L80) -> #N/A | O80: 79 | P80: =VLOOKUP(I80,J:M,4,FALSE())&IF(RIGHT(D80,1)="V"," (V)",IF(RIGHT(D80,1)="J"," (J)","")) -> #N/A | Q80: =VLOOKUP(H80,ClubNames,2,FALSE()) -> #N/A | R80: =TIME(A80,B80,C80) -> 0
H81: =IF(OR(RIGHT(D81,1)="V",RIGHT(D81,1)="J"),VALUE(LEFT(D81,LEN(D81)-1)),D81) -> 0 | I81: =Q81&COUNTIF($H$2:$H81,H81) -> #N/A | J81: =VLOOKUP(L81,ClubNames,2,FALSE())&COUNTIF($L$2:$L81,L81) -> #N/A | O81: 80 | P81: =VLOOKUP(I81,J:M,4,FALSE())&IF(RIGHT(D81,1)="V"," (V)",IF(RIGHT(D81,1)="J"," (J)","")) -> #N/A | Q81: =VLOOKUP(H81,ClubNames,2,FALSE()) -> #N/A | R81: =TIME(A81,B81,C81) -> 0
H82: =IF(OR(RIGHT(D82,1)="V",RIGHT(D82,1)="J"),VALUE(LEFT(D82,LEN(D82)-1)),D82) -> 0 | I82: =Q82&COUNTIF($H$2:$H82,H82) -> #N/A | J82: =VLOOKUP(L82,ClubNames,2,FALSE())&COUNTIF($L$2:$L82,L82) -> #N/A | O82: 81 | P82: =VLOOKUP(I82,J:M,4,FALSE())&IF(RIGHT(D82,1)="V"," (V)",IF(RIGHT(D82,1)="J"," (J)","")) -> #N/A | Q82: =VLOOKUP(H82,ClubNames,2,FALSE()) -> #N/A | R82: =TIME(A82,B82,C82) -> 0
H83: =IF(OR(RIGHT(D83,1)="V",RIGHT(D83,1)="J"),VALUE(LEFT(D83,LEN(D83)-1)),D83) -> 0 | I83: =Q83&COUNTIF($H$2:$H83,H83) -> #N/A | J83: =VLOOKUP(L83,ClubNames,2,FALSE())&COUNTIF($L$2:$L83,L83) -> #N/A | O83: 82 | P83: =VLOOKUP(I83,J:M,4,FALSE())&IF(RIGHT(D83,1)="V"," (V)",IF(RIGHT(D83,1)="J"," (J)","")) -> #N/A | Q83: =VLOOKUP(H83,ClubNames,2,FALSE()) -> #N/A | R83: =TIME(A83,B83,C83) -> 0
H84: =IF(OR(RIGHT(D84,1)="V",RIGHT(D84,1)="J"),VALUE(LEFT(D84,LEN(D84)-1)),D84) -> 0 | I84: =Q84&COUNTIF($H$2:$H84,H84) -> #N/A | J84: =VLOOKUP(L84,ClubNames,2,FALSE())&COUNTIF($L$2:$L84,L84) -> #N/A | O84: 83 | P84: =VLOOKUP(I84,J:M,4,FALSE())&IF(RIGHT(D84,1)="V"," (V)",IF(RIGHT(D84,1)="J"," (J)","")) -> #N/A | Q84: =VLOOKUP(H84,ClubNames,2,FALSE()) -> #N/A | R84: =TIME(A84,B84,C84) -> 0
H85: =IF(OR(RIGHT(D85,1)="V",RIGHT(D85,1)="J"),VALUE(LEFT(D85,LEN(D85)-1)),D85) -> 0 | I85: =Q85&COUNTIF($H$2:$H85,H85) -> #N/A | J85: =VLOOKUP(L85,ClubNames,2,FALSE())&COUNTIF($L$2:$L85,L85) -> #N/A | O85: 84 | P85: =VLOOKUP(I85,J:M,4,FALSE())&IF(RIGHT(D85,1)="V"," (V)",IF(RIGHT(D85,1)="J"," (J)","")) -> #N/A | Q85: =VLOOKUP(H85,ClubNames,2,FALSE()) -> #N/A | R85: =TIME(A85,B85,C85) -> 0
... H142: =IF(OR(RIGHT(D142,1)="V",RIGHT(D142,1)="J"),VALUE(LEFT(D142,LEN(D142)-1)),D142) -> 0 | I142: =Q142&COUNTIF($H$2:$H142,H142) -> #N/A | J142: =VLOOKUP(L142,ClubNames,2,FALSE())&COUNTIF($L$2:$L142,L142) -> #N/A | O142: 141 | P142: =VLOOKUP(I142,J:M,4,FALSE())&IF(RIGHT(D142,1)="V"," (V)",IF(RIGHT(D142,1)="J"," (J)","")) -> #N/A | Q142: =VLOOKUP(H142,ClubNames,2,FALSE()) -> #N/A | R142: =TIME(A142,B142,C142) -> 0
H143: =IF(OR(RIGHT(D143,1)="V",RIGHT(D143,1)="J"),VALUE(LEFT(D143,LEN(D143)-1)),D143) -> 0 | I143: =Q143&COUNTIF($H$2:$H143,H143) -> #N/A | J143: =VLOOKUP(L143,ClubNames,2,FALSE())&COUNTIF($L$2:$L143,L143) -> #N/A | O143: 142 | P143: =VLOOKUP(I143,J:M,4,FALSE()) -> #N/A | Q143: =VLOOKUP(H143,ClubNames,2,FALSE()) -> #N/A | R143: =TIME(A143,B143,C143) -> 0
H144: =IF(OR(RIGHT(D144,1)="V",RIGHT(D144,1)="J"),VALUE(LEFT(D144,LEN(D144)-1)),D144) -> 0 | I144: =Q144&COUNTIF($H$2:$H144,H144) -> #N/A | J144: =VLOOKUP(L144,ClubNames,2,FALSE())&COUNTIF($L$2:$L144,L144) -> #N/A | O144: 143 | P144: =VLOOKUP(I144,J:M,4,FALSE()) -> #N/A | Q144: =VLOOKUP(H144,ClubNames,2,FALSE()) -> #N/A | R144: =TIME(A144,B144,C144) -> 0
H145: =IF(OR(RIGHT(D145,1)="V",RIGHT(D145,1)="J"),VALUE(LEFT(D145,LEN(D145)-1)),D145) -> 0 | I145: =Q145&COUNTIF($H$2:$H145,H145) -> #N/A | J145: =VLOOKUP(L145,ClubNames,2,FALSE())&COUNTIF($L$2:$L145,L145) -> #N/A | O145: 144 | P145: =VLOOKUP(I145,J:M,4,FALSE()) -> #N/A | Q145: =VLOOKUP(H145,ClubNames,2,FALSE()) -> #N/A | R145: =TIME(A145,B145,C145) -> 0
H146: =IF(OR(RIGHT(D146,1)="V",RIGHT(D146,1)="J"),VALUE(LEFT(D146,LEN(D146)-1)),D146) -> 0 | I146: =Q146&COUNTIF($H$2:$H146,H146) -> #N/A | J146: =VLOOKUP(L146,ClubNames,2,FALSE())&COUNTIF($L$2:$L146,L146) -> #N/A | O146: 145 | P146: =VLOOKUP(I146,J:M,4,FALSE()) -> #N/A | Q146: =VLOOKUP(H146,ClubNames,2,FALSE()) -> #N/A | R146: =TIME(A146,B146,C146) -> 0
H147: =IF(OR(RIGHT(D147,1)="V",RIGHT(D147,1)="J"),VALUE(LEFT(D147,LEN(D147)-1)),D147) -> 0 | I147: =Q147&COUNTIF($H$2:$H147,H147) -> #N/A | J147: =VLOOKUP(L147,ClubNames,2,FALSE())&COUNTIF($L$2:$L147,L147) -> #N/A | O147: 146 | P147: =VLOOKUP(I147,J:M,4,FALSE()) -> #N/A | Q147: =VLOOKUP(H147,ClubNames,2,FALSE()) -> #N/A | R147: =TIME(A147,B147,C147) -> 0
H148: =IF(OR(RIGHT(D148,1)="V",RIGHT(D148,1)="J"),VALUE(LEFT(D148,LEN(D148)-1)),D148) -> 0 | I148: =Q148&COUNTIF($H$2:$H148,H148) -> #N/A | J148: =VLOOKUP(L148,ClubNames,2,FALSE())&COUNTIF($L$2:$L148,L148) -> #N/A | O148: 147 | P148: =VLOOKUP(I148,J:M,4,FALSE()) -> #N/A | Q148: =VLOOKUP(H148,ClubNames,2,FALSE()) -> #N/A | R148: =TIME(A148,B148,C148) -> 0
H149: =IF(OR(RIGHT(D149,1)="V",RIGHT(D149,1)="J"),VALUE(LEFT(D149,LEN(D149)-1)),D149) -> 0 | I149: =Q149&COUNTIF($H$2:$H149,H149) -> #N/A | J149: =VLOOKUP(L149,ClubNames,2,FALSE())&COUNTIF($L$2:$L149,L149) -> #N/A | O149: 148 | P149: =VLOOKUP(I149,J:M,4,FALSE()) -> #N/A | Q149: =VLOOKUP(H149,ClubNames,2,FALSE()) -> #N/A | R149: =TIME(A149,B149,C149) -> 0
H150: =IF(OR(RIGHT(D150,1)="V",RIGHT(D150,1)="J"),VALUE(LEFT(D150,LEN(D150)-1)),D150) -> 0 | I150: =Q150&COUNTIF($H$2:$H150,H150) -> #N/A | J150: =VLOOKUP(L150,ClubNames,2,FALSE())&COUNTIF($L$2:$L150,L150) -> #N/A | O150: 149 | P150: =VLOOKUP(I150,J:M,4,FALSE()) -> #N/A | Q150: =VLOOKUP(H150,ClubNames,2,FALSE()) -> #N/A | R150: =TIME(A150,B150,C150) -> 0
H151: =IF(OR(RIGHT(D151,1)="V",RIGHT(D151,1)="J"),VALUE(LEFT(D151,LEN(D151)-1)),D151) -> 0 | I151: =Q151&COUNTIF($H$2:$H151,H151) -> #N/A | J151: =VLOOKUP(L151,ClubNames,2,FALSE())&COUNTIF($L$2:$L151,L151) -> #N/A | O151: 150 | P151: =VLOOKUP(I151,J:M,4,FALSE()) -> #N/A | Q151: =VLOOKUP(H151,ClubNames,2,FALSE()) -> #N/A | R151: =TIME(A151,B151,C151) -> 0
H152: =IF(OR(RIGHT(D152,1)="V",RIGHT(D152,1)="J"),VALUE(LEFT(D152,LEN(D152)-1)),D152) -> 0 | I152: =Q152&COUNTIF($H$2:$H152,H152) -> #N/A | J152: =VLOOKUP(L152,ClubNames,2,FALSE())&COUNTIF($L$2:$L152,L152) -> #N/A | O152: 151 | P152: =VLOOKUP(I152,J:M,4,FALSE()) -> #N/A | Q152: =VLOOKUP(H152,ClubNames,2,FALSE()) -> #N/A | R152: =TIME(A152,B152,C152) -> 0
H153: =IF(OR(RIGHT(D153,1)="V",RIGHT(D153,1)="J"),VALUE(LEFT(D153,LEN(D153)-1)),D153) -> 0 | I153: =Q153&COUNTIF($H$2:$H153,H153) -> #N/A | J153: =VLOOKUP(L153,ClubNames,2,FALSE())&COUNTIF($L$2:$L153,L153) -> #N/A | O153: 152 | P153: =VLOOKUP(I153,J:M,4,FALSE()) -> #N/A | Q153: =VLOOKUP(H153,ClubNames,2,FALSE()) -> #N/A | R153: =TIME(A153,B153,C153) -> 0
H154: =IF(OR(RIGHT(D154,1)="V",RIGHT(D154,1)="J"),VALUE(LEFT(D154,LEN(D154)-1)),D154) -> 0 | I154: =Q154&COUNTIF($H$2:$H154,H154) -> #N/A | J154: =VLOOKUP(L154,ClubNames,2,FALSE())&COUNTIF($L$2:$L154,L154) -> #N/A | O154: 153 | P154: =VLOOKUP(I154,J:M,4,FALSE()) -> #N/A | Q154: =VLOOKUP(H154,ClubNames,2,FALSE()) -> #N/A | R154: =TIME(A154,B154,C154) -> 0
... H300: =IF(OR(RIGHT(D300,1)="V",RIGHT(D300,1)="J"),VALUE(LEFT(D300,LEN(D300)-1)),D300) -> 0 | I300: =Q300&COUNTIF($H$2:$H300,H300) -> #N/A | J300: =VLOOKUP(L300,ClubNames,2,FALSE())&COUNTIF($L$2:$L300,L300) -> #N/A | O300: 299 | P300: =VLOOKUP(I300,J:M,4,FALSE()) -> #N/A | Q300: =VLOOKUP(H300,ClubNames,2,FALSE()) -> #N/A | R300: =TIME(A300,B300,C300) -> 0
O301: 300 | P301: =VLOOKUP(I301,J:M,4,FALSE()) -> #N/A | Q301: =VLOOKUP(H301,ClubNames,2,FALSE()) -> #N/A | R301: =TIME(A301,B301,C301) -> 0

Sheet U13 Boys
A1: Hr | B1: Min | C1: Sec | D1: Bib No | F1: Club | G1: Finishers | H1: Team No | I1: Race Finish | J1: Team Finish | L1: Team No | M1: Name | O1: Pos | P1: Name | Q1: Club | R1: Time
B2: 10 | C2: 16 | D2: 39 | E2: 1 | F2: =Clubs!B3 -> Edinburgh AC | G2: =COUNTIF($H:$H,E2) -> 6 | H2: =IF(OR(RIGHT(D2,1)="V",RIGHT(D2,1)="J"),VALUE(LEFT(D2,LEN(D2)-1)),D2) -> 39 | I2: =Q2&COUNTIF($H$2:$H2,H2) -> Dunfermline Track & Field AC1 | J2: =VLOOKUP(L2,ClubNames,2,FALSE())&COUNTIF($L$2:$L2,L2) -> Edinburgh AC1 | L2: 1 | M2: Victor Gil-Garcia | O2: 1 | P2: =VLOOKUP(I2,J:M,4,FALSE())&IF(RIGHT(D2,1)="V"," (V)",IF(RIGHT(D2,1)="J"," (J)","")) -> Alfie Whyte | Q2: =VLOOKUP(H2,ClubNames,2,FALSE()) -> Dunfermline Track & Field AC | R2: =TIME(A2,B2,C2) -> 0.0071296296
B3: 10 | C3: 32 | D3: 30 | E3: 2 | F3: =Clubs!B4 -> Perth Road Runners | G3: =COUNTIF($H:$H,E3) -> 0 | H3: =IF(OR(RIGHT(D3,1)="V",RIGHT(D3,1)="J"),VALUE(LEFT(D3,LEN(D3)-1)),D3) -> 30 | I3: =Q3&COUNTIF($H$2:$H3,H3) -> Perth Strathtay Harriers1 | J3: =VLOOKUP(L3,ClubNames,2,FALSE())&COUNTIF($L$2:$L3,L3) -> Edinburgh AC2 | L3: 1 | M3: Arlo Wignall | O3: =1+O2 -> 2 | P3: =VLOOKUP(I3,J:M,4,FALSE())&IF(RIGHT(D3,1)="V"," (V)",IF(RIGHT(D3,1)="J"," (J)","")) -> Alex Hilton | Q3: =VLOOKUP(H3,ClubNames,2,FALSE()) -> Perth Strathtay Harriers | R3: =TIME(A3,B3,C3) -> 0.0073148148
B4: 10 | C4: 47 | D4: 20 | E4: 3 | F4: =Clubs!B5 -> Lothian Running Club | G4: =COUNTIF($H:$H,E4) -> 0 | H4: =IF(OR(RIGHT(D4,1)="V",RIGHT(D4,1)="J"),VALUE(LEFT(D4,LEN(D4)-1)),D4) -> 20 | I4: =Q4&COUNTIF($H$2:$H4,H4) -> Harmeny AAC1 | J4: =VLOOKUP(L4,ClubNames,2,FALSE())&COUNTIF($L$2:$L4,L4) -> Edinburgh AC3 | L4: 1 | M4: Ruaridh Ranyard | O4: =1+O3 -> 3 | P4: =VLOOKUP(I4,J:M,4,FALSE())&IF(RIGHT(D4,1)="V"," (V)",IF(RIGHT(D4,1)="J"," (J)","")) -> Fynlay McVey | Q4: =VLOOKUP(H4,ClubNames,2,FALSE()) -> Harmeny AAC | R4: =TIME(A4,B4,C4) -> 0.0074884259
B5: 10 | C5: 48 | D5: 39 | E5: 4 | F5: =Clubs!B6 -> Teviotdale Harriers | G5: =COUNTIF($H:$H,E5) -> 1 | H5: =IF(OR(RIGHT(D5,1)="V",RIGHT(D5,1)="J"),VALUE(LEFT(D5,LEN(D5)-1)),D5) -> 39 | I5: =Q5&COUNTIF($H$2:$H5,H5) -> Dunfermline Track & Field AC2 | J5: =VLOOKUP(L5,ClubNames,2,FALSE())&COUNTIF($L$2:$L5,L5) -> Edinburgh AC4 | L5: 1 | M5: Archie Crawley | O5: =1+O4 -> 4 | P5: =VLOOKUP(I5,J:M,4,FALSE())&IF(RIGHT(D5,1)="V"," (V)",IF(RIGHT(D5,1)="J"," (J)","")) -> Cole Gray | Q5: =VLOOKUP(H5,ClubNames,2,FALSE()) -> Dunfermline Track & Field AC | R5: =TIME(A5,B5,C5) -> 0.0075
B6: 10 | C6: 59 | D6: 24 | E6: 5 | F6: =Clubs!B7 -> Moorfoot Runners | G6: =COUNTIF($H:$H,E6) -> 0 | H6: =IF(OR(RIGHT(D6,1)="V",RIGHT(D6,1)="J"),VALUE(LEFT(D6,LEN(D6)-1)),D6) -> 24 | I6: =Q6&COUNTIF($H$2:$H6,H6) -> Strathearn Harriers1 | J6: =VLOOKUP(L6,ClubNames,2,FALSE())&COUNTIF($L$2:$L6,L6) -> Edinburgh AC5 | L6: 1 | M6: Marko Masic | O6: =1+O5 -> 5 | P6: =VLOOKUP(I6,J:M,4,FALSE())&IF(RIGHT(D6,1)="V"," (V)",IF(RIGHT(D6,1)="J"," (J)","")) -> Ethan McLeod | Q6: =VLOOKUP(H6,ClubNames,2,FALSE()) -> Strathearn Harriers | R6: =TIME(A6,B6,C6) -> 0.0076273148
B7: 11 | C7: 6 | D7: 32 | E7: 6 | F7: =Clubs!B8 -> Aberdeen AAC | G7: =COUNTIF($H:$H,E7) -> 3 | H7: =IF(OR(RIGHT(D7,1)="V",RIGHT(D7,1)="J"),VALUE(LEFT(D7,LEN(D7)-1)),D7) -> 32 | I7: =Q7&COUNTIF($H$2:$H7,H7) -> Lasswade AAC1 | J7: =VLOOKUP(L7,ClubNames,2,FALSE())&COUNTIF($L$2:$L7,L7) -> Edinburgh AC6 | L7: 1 | M7: Angus Phillimore | O7: =1+O6 -> 6 | P7: =VLOOKUP(I7,J:M,4,FALSE())&IF(RIGHT(D7,1)="V"," (V)",IF(RIGHT(D7,1)="J"," (J)","")) -> Gregor Wright | Q7: =VLOOKUP(H7,ClubNames,2,FALSE()) -> Lasswade AAC | R7: =TIME(A7,B7,C7) -> 0.0077083333
B8: 11 | C8: 8 | D8: 36 | E8: 7 | F8: =Clubs!B9 -> Pitreavie AAC | G8: =COUNTIF($H:$H,E8) -> 4 | H8: =IF(OR(RIGHT(D8,1)="V",RIGHT(D8,1)="J"),VALUE(LEFT(D8,LEN(D8)-1)),D8) -> 36 | I8: =Q8&COUNTIF($H$2:$H8,H8) -> Banchory Stonehaven AC1 | J8: =VLOOKUP(L8,ClubNames,2,FALSE())&COUNTIF($L$2:$L8,L8) -> Teviotdale Harriers1 | L8: 4 | M8: Callan Michie | O8: =1+O7 -> 7 | P8: =VLOOKUP(I8,J:M,4,FALSE())&IF(RIGHT(D8,1)="V"," (V)",IF(RIGHT(D8,1)="J"," (J)","")) -> Harry Lever | Q8: =VLOOKUP(H8,ClubNames,2,FALSE()) -> Banchory Stonehaven AC | R8: =TIME(A8,B8,C8) -> 0.0077314815
B9: 11 | C9: 9 | D9: 6 | E9: 8 | F9: =Clubs!B10 -> Fife AC | G9: =COUNTIF($H:$H,E9) -> 3 | H9: =IF(OR(RIGHT(D9,1)="V",RIGHT(D9,1)="J"),VALUE(LEFT(D9,LEN(D9)-1)),D9) -> 6 | I9: =Q9&COUNTIF($H$2:$H9,H9) -> Aberdeen AAC1 | J9: =VLOOKUP(L9,ClubNames,2,FALSE())&COUNTIF($L$2:$L9,L9) -> Aberdeen AAC1 | L9: 6 | M9: Euan Ramsay | O9: =1+O8 -> 8 | P9: =VLOOKUP(I9,J:M,4,FALSE())&IF(RIGHT(D9,1)="V"," (V)",IF(RIGHT(D9,1)="J"," (J)","")) -> Euan Ramsay | Q9: =VLOOKUP(H9,ClubNames,2,FALSE()) -> Aberdeen AAC | R9: =TIME(A9,B9,C9) -> 0.0077430556
B10: 11 | C10: 9 | D10: 20 | E10: 9 | F10: =Clubs!B11 -> Not Used | G10: =COUNTIF($H:$H,E10) -> 0 | H10: =IF(OR(RIGHT(D10,1)="V",RIGHT(D10,1)="J"),VALUE(LEFT(D10,LEN(D10)-1)),D10) -> 20 | I10: =Q10&COUNTIF($H$2:$H10,H10) -> Harmeny AAC2 | J10: =VLOOKUP(L10,ClubNames,2,FALSE())&COUNTIF($L$2:$L10,L10) -> Aberdeen AAC2 | L10: 6 | M10: Lawson Bowie | O10: =1+O9 -> 9 | P10: =VLOOKUP(I10,J:M,4,FALSE())&IF(RIGHT(D10,1)="V"," (V)",IF(RIGHT(D10,1)="J"," (J)","")) -> Stuart Knowles | Q10: =VLOOKUP(H10,ClubNames,2,FALSE()) -> Harmeny AAC | R10: =TIME(A10,B10,C10) -> 0.0077430556
B11: 11 | C11: 11 | D11: 24 | E11: 10 | F11: =Clubs!B12 -> Edinburgh Univ Hare & Hounds | G11: =COUNTIF($H:$H,E11) -> 0 | H11: =IF(OR(RIGHT(D11,1)="V",RIGHT(D11,1)="J"),VALUE(LEFT(D11,LEN(D11)-1)),D11) -> 24 | I11: =Q11&COUNTIF($H$2:$H11,H11) -> Strathearn Harriers2 | J11: =VLOOKUP(L11,ClubNames,2,FALSE())&COUNTIF($L$2:$L11,L11) -> Aberdeen AAC3 | L11: 6 | M11: Ruaridh Drummond | O11: =1+O10 -> 10 | P11: =VLOOKUP(I11,J:M,4,FALSE())&IF(RIGHT(D11,1)="V"," (V)",IF(RIGHT(D11,1)="J"," (J)","")) -> Harris Turnbull | Q11: =VLOOKUP(H11,ClubNames,2,FALSE()) -> Strathearn Harriers | R11: =TIME(A11,B11,C11) -> 0.0077662037
B12: 11 | C12: 16 | D12: 16 | E12: 11 | F12: =Clubs!B13 -> Falkirk Victoria Harriers | G12: =COUNTIF($H:$H,E12) -> 1 | H12: =IF(OR(RIGHT(D12,1)="V",RIGHT(D12,1)="J"),VALUE(LEFT(D12,LEN(D12)-1)),D12) -> 16 | I12: =Q12&COUNTIF($H$2:$H12,H12) -> Dundee Hawkhill Harriers1 | J12: =VLOOKUP(L12,ClubNames,2,FALSE())&COUNTIF($L$2:$L12,L12) -> Pitreavie AAC1 | L12: 7 | M12: Ellis Bowers | O12: =1+O11 -> 11 | P12: =VLOOKUP(I12,J:M,4,FALSE())&IF(RIGHT(D12,1)="V"," (V)",IF(RIGHT(D12,1)="J"," (J)","")) -> James Conroy | Q12: =VLOOKUP(H12,ClubNames,2,FALSE()) -> Dundee Hawkhill Harriers | R12: =TIME(A12,B12,C12) -> 0.0078240741
B13: 11 | C13: 18 | D13: 17 | E13: 12 | F13: =Clubs!B14 -> Hunters Bog Trotters | G13: =COUNTIF($H:$H,E13) -> 0 | H13: =IF(OR(RIGHT(D13,1)="V",RIGHT(D13,1)="J"),VALUE(LEFT(D13,LEN(D13)-1)),D13) -> 17 | I13: =Q13&COUNTIF($H$2:$H13,H13) -> George Heriots School1 | J13: =VLOOKUP(L13,ClubNames,2,FALSE())&COUNTIF($L$2:$L13,L13) -> Pitreavie AAC2 | L13: 7 | M13: Evan Fenner | O13: =1+O12 -> 12 | P13: =VLOOKUP(I13,J:M,4,FALSE())&IF(RIGHT(D13,1)="V"," (V)",IF(RIGHT(D13,1)="J"," (J)","")) -> Magnus Di Rollo | Q13: =VLOOKUP(H13,ClubNames,2,FALSE()) -> George Heriots School | R13: =TIME(A13,B13,C13) -> 0.0078472222
B14: 11 | C14: 31 | D14: 29 | E14: 13 | F14: =Clubs!B15 -> Gala Harriers | G14: =COUNTIF($H:$H,E14) -> 0 | H14: =IF(OR(RIGHT(D14,1)="V",RIGHT(D14,1)="J"),VALUE(LEFT(D14,LEN(D14)-1)),D14) -> 29 | I14: =Q14&COUNTIF($H$2:$H14,H14) -> Team Borders1 | J14: =VLOOKUP(L14,ClubNames,2,FALSE())&COUNTIF($L$2:$L14,L14) -> Pitreavie AAC3 | L14: 7 | M14: Daniel Manson | O14: =1+O13 -> 13 | P14: =VLOOKUP(I14,J:M,4,FALSE())&IF(RIGHT(D14,1)="V"," (V)",IF(RIGHT(D14,1)="J"," (J)","")) -> Isaac Hastie | Q14: =VLOOKUP(H14,ClubNames,2,FALSE()) -> Team Borders | R14: =TIME(A14,B14,C14) -> 0.0079976852
... B50: 13 | C50: 38 | D50: 20 | E50: 49 | F50: =Clubs!B51 -> Lauderdale Limpers | G50: =COUNTIF($H:$H,E50) -> 0 | H50: =IF(OR(RIGHT(D50,1)="V",RIGHT(D50,1)="J"),VALUE(LEFT(D50,LEN(D50)-1)),D50) -> 20 | I50: =Q50&COUNTIF($H$2:$H50,H50) -> Harmeny AAC4 | J50: =VLOOKUP(L50,ClubNames,2,FALSE())&COUNTIF($L$2:$L50,L50) -> Dunfermline Track & Field AC1 | L50: 39 | M50: Alfie Whyte | O50: =1+O49 -> 49 | P50: =VLOOKUP(I50,J:M,4,FALSE())&IF(RIGHT(D50,1)="V"," (V)",IF(RIGHT(D50,1)="J"," (J)","")) -> Finlay McGuigan | Q50: =VLOOKUP(H50,ClubNames,2,FALSE()) -> Harmeny AAC | R50: =TIME(A50,B50,C50) -> 0.0094675926
B51: 13 | C51: 47 | D51: 1 | E51: 50 | F51: =Clubs!B52 -> Stirling University AC | G51: =COUNTIF($H:$H,E51) -> 0 | H51: =IF(OR(RIGHT(D51,1)="V",RIGHT(D51,1)="J"),VALUE(LEFT(D51,LEN(D51)-1)),D51) -> 1 | I51: =Q51&COUNTIF($H$2:$H51,H51) -> Edinburgh AC6 | J51: =VLOOKUP(L51,ClubNames,2,FALSE())&COUNTIF($L$2:$L51,L51) -> Dunfermline Track & Field AC2 | L51: 39 | M51: Cole Gray | O51: 50 | P51: =VLOOKUP(I51,J:M,4,FALSE())&IF(RIGHT(D51,1)="V"," (V)",IF(RIGHT(D51,1)="J"," (J)","")) -> Angus Phillimore | Q51: =VLOOKUP(H51,ClubNames,2,FALSE()) -> Edinburgh AC | R51: =TIME(A51,B51,C51) -> 0.0095717593
B52: 14 | C52: 0 | D52: 30 | E52: 51 | F52: =Clubs!B53 -> Haddington Running Club | G52: =COUNTIF($H:$H,E52) -> 0 | H52: =IF(OR(RIGHT(D52,1)="V",RIGHT(D52,1)="J"),VALUE(LEFT(D52,LEN(D52)-1)),D52) -> 30 | I52: =Q52&COUNTIF($H$2:$H52,H52) -> Perth Strathtay Harriers6 | J52: =VLOOKUP(L52,ClubNames,2,FALSE())&COUNTIF($L$2:$L52,L52) -> Dunfermline Track & Field AC3 | L52: 39 | M52: Cameron Trueman | O52: 51 | P52: =VLOOKUP(I52,J:M,4,FALSE())&IF(RIGHT(D52,1)="V"," (V)",IF(RIGHT(D52,1)="J"," (J)","")) -> Magnus Timoney | Q52: =VLOOKUP(H52,ClubNames,2,FALSE()) -> Perth Strathtay Harriers | R52: =TIME(A52,B52,C52) -> 0.0097222222
B53: 14 | C53: 19 | D53: 24 | E53: 52 | F53: =Clubs!B54 -> Arbroath & District AAC | G53: =COUNTIF($H:$H,E53) -> 0 | H53: =IF(OR(RIGHT(D53,1)="V",RIGHT(D53,1)="J"),VALUE(LEFT(D53,LEN(D53)-1)),D53) -> 24 | I53: =Q53&COUNTIF($H$2:$H53,H53) -> Strathearn Harriers5 | J53: =VLOOKUP(L53,ClubNames,2,FALSE())&COUNTIF($L$2:$L53,L53) -> Team East Lothian1 | L53: 40 | M53: Fergus McKenzie | O53: 52 | P53: =VLOOKUP(I53,J:M,4,FALSE())&IF(RIGHT(D53,1)="V"," (V)",IF(RIGHT(D53,1)="J"," (J)","")) -> Harry Gough | Q53: =VLOOKUP(H53,ClubNames,2,FALSE()) -> Strathearn Harriers | R53: =TIME(A53,B53,C53) -> 0.0099421296
B54: 14 | C54: 28 | D54: 29 | E54: 53 | F54: =Clubs!B55 -> Run Livingston | G54: =COUNTIF($H:$H,E54) -> 0 | H54: =IF(OR(RIGHT(D54,1)="V",RIGHT(D54,1)="J"),VALUE(LEFT(D54,LEN(D54)-1)),D54) -> 29 | I54: =Q54&COUNTIF($H$2:$H54,H54) -> Team Borders2 | J54: =VLOOKUP(L54,ClubNames,2,FALSE())&COUNTIF($L$2:$L54,L54) -> Montrose and District AC1 | L54: 44 | M54: Logan Adams | O54: 53 | P54: =VLOOKUP(I54,J:M,4,FALSE())&IF(RIGHT(D54,1)="V"," (V)",IF(RIGHT(D54,1)="J"," (J)","")) -> Cullen Baxter | Q54: =VLOOKUP(H54,ClubNames,2,FALSE()) -> Team Borders | R54: =TIME(A54,B54,C54) -> 0.010046296
H55: =IF(OR(RIGHT(D55,1)="V",RIGHT(D55,1)="J"),VALUE(LEFT(D55,LEN(D55)-1)),D55) -> 0 | I55: =Q55&COUNTIF($H$2:$H55,H55) -> #N/A | J55: =VLOOKUP(L55,ClubNames,2,FALSE())&COUNTIF($L$2:$L55,L55) -> #N/A | O55: 54 | P55: =VLOOKUP(I55,J:M,4,FALSE())&IF(RIGHT(D55,1)="V"," (V)",IF(RIGHT(D55,1)="J"," (J)","")) -> #N/A | Q55: =VLOOKUP(H55,ClubNames,2,FALSE()) -> #N/A | R55: =TIME(A55,B55,C55) -> 0
H56: =IF(OR(RIGHT(D56,1)="V",RIGHT(D56,1)="J"),VALUE(LEFT(D56,LEN(D56)-1)),D56) -> 0 | I56: =Q56&COUNTIF($H$2:$H56,H56) -> #N/A | J56: =VLOOKUP(L56,ClubNames,2,FALSE())&COUNTIF($L$2:$L56,L56) -> #N/A | O56: 55 | P56: =VLOOKUP(I56,J:M,4,FALSE())&IF(RIGHT(D56,1)="V"," (V)",IF(RIGHT(D56,1)="J"," (J)","")) -> #N/A | Q56: =VLOOKUP(H56,ClubNames,2,FALSE()) -> #N/A | R56: =TIME(A56,B56,C56) -> 0
H57: =IF(OR(RIGHT(D57,1)="V",RIGHT(D57,1)="J"),VALUE(LEFT(D57,LEN(D57)-1)),D57) -> 0 | I57: =Q57&COUNTIF($H$2:$H57,H57) -> #N/A | J57: =VLOOKUP(L57,ClubNames,2,FALSE())&COUNTIF($L$2:$L57,L57) -> #N/A | O57: 56 | P57: =VLOOKUP(I57,J:M,4,FALSE())&IF(RIGHT(D57,1)="V"," (V)",IF(RIGHT(D57,1)="J"," (J)","")) -> #N/A | Q57: =VLOOKUP(H57,ClubNames,2,FALSE()) -> #N/A | R57: =TIME(A57,B57,C57) -> 0
H58: =IF(OR(RIGHT(D58,1)="V",RIGHT(D58,1)="J"),VALUE(LEFT(D58,LEN(D58)-1)),D58) -> 0 | I58: =Q58&COUNTIF($H$2:$H58,H58) -> #N/A | J58: =VLOOKUP(L58,ClubNames,2,FALSE())&COUNTIF($L$2:$L58,L58) -> #N/A | O58: 57 | P58: =VLOOKUP(I58,J:M,4,FALSE())&IF(RIGHT(D58,1)="V"," (V)",IF(RIGHT(D58,1)="J"," (J)","")) -> #N/A | Q58: =VLOOKUP(H58,ClubNames,2,FALSE()) -> #N/A | R58: =TIME(A58,B58,C58) -> 0
H59: =IF(OR(RIGHT(D59,1)="V",RIGHT(D59,1)="J"),VALUE(LEFT(D59,LEN(D59)-1)),D59) -> 0 | I59: =Q59&COUNTIF($H$2:$H59,H59) -> #N/A | J59: =VLOOKUP(L59,ClubNames,2,FALSE())&COUNTIF($L$2:$L59,L59) -> #N/A | O59: 58 | P59: =VLOOKUP(I59,J:M,4,FALSE())&IF(RIGHT(D59,1)="V"," (V)",IF(RIGHT(D59,1)="J"," (J)","")) -> #N/A | Q59: =VLOOKUP(H59,ClubNames,2,FALSE()) -> #N/A | R59: =TIME(A59,B59,C59) -> 0
H60: =IF(OR(RIGHT(D60,1)="V",RIGHT(D60,1)="J"),VALUE(LEFT(D60,LEN(D60)-1)),D60) -> 0 | I60: =Q60&COUNTIF($H$2:$H60,H60) -> #N/A | J60: =VLOOKUP(L60,ClubNames,2,FALSE())&COUNTIF($L$2:$L60,L60) -> #N/A | O60: 59 | P60: =VLOOKUP(I60,J:M,4,FALSE())&IF(RIGHT(D60,1)="V"," (V)",IF(RIGHT(D60,1)="J"," (J)","")) -> #N/A | Q60: =VLOOKUP(H60,ClubNames,2,FALSE()) -> #N/A | R60: =TIME(A60,B60,C60) -> 0
H61: =IF(OR(RIGHT(D61,1)="V",RIGHT(D61,1)="J"),VALUE(LEFT(D61,LEN(D61)-1)),D61) -> 0 | I61: =Q61&COUNTIF($H$2:$H61,H61) -> #N/A | J61: =VLOOKUP(L61,ClubNames,2,FALSE())&COUNTIF($L$2:$L61,L61) -> #N/A | O61: 60 | P61: =VLOOKUP(I61,J:M,4,FALSE())&IF(RIGHT(D61,1)="V"," (V)",IF(RIGHT(D61,1)="J"," (J)","")) -> #N/A | Q61: =VLOOKUP(H61,ClubNames,2,FALSE()) -> #N/A | R61: =TIME(A61,B61,C61) -> 0
H62: =IF(OR(RIGHT(D62,1)="V",RIGHT(D62,1)="J"),VALUE(LEFT(D62,LEN(D62)-1)),D62) -> 0 | I62: =Q62&COUNTIF($H$2:$H62,H62) -> #N/A | J62: =VLOOKUP(L62,ClubNames,2,FALSE())&COUNTIF($L$2:$L62,L62) -> #N/A | O62: 61 | P62: =VLOOKUP(I62,J:M,4,FALSE())&IF(RIGHT(D62,1)="V"," (V)",IF(RIGHT(D62,1)="J"," (J)","")) -> #N/A | Q62: =VLOOKUP(H62,ClubNames,2,FALSE()) -> #N/A | R62: =TIME(A62,B62,C62) -> 0
H63: =IF(OR(RIGHT(D63,1)="V",RIGHT(D63,1)="J"),VALUE(LEFT(D63,LEN(D63)-1)),D63) -> 0 | I63: =Q63&COUNTIF($H$2:$H63,H63) -> #N/A | J63: =VLOOKUP(L63,ClubNames,2,FALSE())&COUNTIF($L$2:$L63,L63) -> #N/A | O63: 62 | P63: =VLOOKUP(I63,J:M,4,FALSE())&IF(RIGHT(D63,1)="V"," (V)",IF(RIGHT(D63,1)="J"," (J)","")) -> #N/A | Q63: =VLOOKUP(H63,ClubNames,2,FALSE()) -> #N/A | R63: =TIME(A63,B63,C63) -> 0
H64: =IF(OR(RIGHT(D64,1)="V",RIGHT(D64,1)="J"),VALUE(LEFT(D64,LEN(D64)-1)),D64) -> 0 | I64: =Q64&COUNTIF($H$2:$H64,H64) -> #N/A | J64: =VLOOKUP(L64,ClubNames,2,FALSE())&COUNTIF($L$2:$L64,L64) -> #N/A | O64: 63 | P64: =VLOOKUP(I64,J:M,4,FALSE())&IF(RIGHT(D64,1)="V"," (V)",IF(RIGHT(D64,1)="J"," (J)","")) -> #N/A | Q64: =VLOOKUP(H64,ClubNames,2,FALSE()) -> #N/A | R64: =TIME(A64,B64,C64) -> 0
H65: =IF(OR(RIGHT(D65,1)="V",RIGHT(D65,1)="J"),VALUE(LEFT(D65,LEN(D65)-1)),D65) -> 0 | I65: =Q65&COUNTIF($H$2:$H65,H65) -> #N/A | J65: =VLOOKUP(L65,ClubNames,2,FALSE())&COUNTIF($L$2:$L65,L65) -> #N/A | O65: 64 | P65: =VLOOKUP(I65,J:M,4,FALSE())&IF(RIGHT(D65,1)="V"," (V)",IF(RIGHT(D65,1)="J"," (J)","")) -> #N/A | Q65: =VLOOKUP(H65,ClubNames,2,FALSE()) -> #N/A | R65: =TIME(A65,B65,C65) -> 0
H66: =IF(OR(RIGHT(D66,1)="V",RIGHT(D66,1)="J"),VALUE(LEFT(D66,LEN(D66)-1)),D66) -> 0 | I66: =Q66&COUNTIF($H$2:$H66,H66) -> #N/A | J66: =VLOOKUP(L66,ClubNames,2,FALSE())&COUNTIF($L$2:$L66,L66) -> #N/A | O66: 65 | P66: =VLOOKUP(I66,J:M,4,FALSE())&IF(RIGHT(D66,1)="V"," (V)",IF(RIGHT(D66,1)="J"," (J)","")) -> #N/A | Q66: =VLOOKUP(H66,ClubNames,2,FALSE()) -> #N/A | R66: =TIME(A66,B66,C66) -> 0
... H142: =IF(OR(RIGHT(D142,1)="V",RIGHT(D142,1)="J"),VALUE(LEFT(D142,LEN(D142)-1)),D142) -> 0 | I142: =Q142&COUNTIF($H$2:$H142,H142) -> #N/A | J142: =VLOOKUP(L142,ClubNames,2,FALSE())&COUNTIF($L$2:$L142,L142) -> #N/A | O142: 141 | P142: =VLOOKUP(I142,J:M,4,FALSE())&IF(RIGHT(D142,1)="V"," (V)",IF(RIGHT(D142,1)="J"," (J)","")) -> #N/A | Q142: =VLOOKUP(H142,ClubNames,2,FALSE()) -> #N/A | R142: =TIME(A142,B142,C142) -> 0
H143: =IF(OR(RIGHT(D143,1)="V",RIGHT(D143,1)="J"),VALUE(LEFT(D143,LEN(D143)-1)),D143) -> 0 | I143: =Q143&COUNTIF($H$2:$H143,H143) -> #N/A | J143: =VLOOKUP(L143,ClubNames,2,FALSE())&COUNTIF($L$2:$L143,L143) -> #N/A | O143: 142 | P143: =VLOOKUP(I143,J:M,4,FALSE()) -> #N/A | Q143: =VLOOKUP(H143,ClubNames,2,FALSE()) -> #N/A | R143: =TIME(A143,B143,C143) -> 0
H144: =IF(OR(RIGHT(D144,1)="V",RIGHT(D144,1)="J"),VALUE(LEFT(D144,LEN(D144)-1)),D144) -> 0 | I144: =Q144&COUNTIF($H$2:$H144,H144) -> #N/A | J144: =VLOOKUP(L144,ClubNames,2,FALSE())&COUNTIF($L$2:$L144,L144) -> #N/A | O144: 143 | P144: =VLOOKUP(I144,J:M,4,FALSE()) -> #N/A | Q144: =VLOOKUP(H144,ClubNames,2,FALSE()) -> #N/A | R144: =TIME(A144,B144,C144) -> 0
H145: =IF(OR(RIGHT(D145,1)="V",RIGHT(D145,1)="J"),VALUE(LEFT(D145,LEN(D145)-1)),D145) -> 0 | I145: =Q145&COUNTIF($H$2:$H145,H145) -> #N/A | J145: =VLOOKUP(L145,ClubNames,2,FALSE())&COUNTIF($L$2:$L145,L145) -> #N/A | O145: 144 | P145: =VLOOKUP(I145,J:M,4,FALSE()) -> #N/A | Q145: =VLOOKUP(H145,ClubNames,2,FALSE()) -> #N/A | R145: =TIME(A145,B145,C145) -> 0
H146: =IF(OR(RIGHT(D146,1)="V",RIGHT(D146,1)="J"),VALUE(LEFT(D146,LEN(D146)-1)),D146) -> 0 | I146: =Q146&COUNTIF($H$2:$H146,H146) -> #N/A | J146: =VLOOKUP(L146,ClubNames,2,FALSE())&COUNTIF($L$2:$L146,L146) -> #N/A | O146: 145 | P146: =VLOOKUP(I146,J:M,4,FALSE()) -> #N/A | Q146: =VLOOKUP(H146,ClubNames,2,FALSE()) -> #N/A | R146: =TIME(A146,B146,C146) -> 0
H147: =IF(OR(RIGHT(D147,1)="V",RIGHT(D147,1)="J"),VALUE(LEFT(D147,LEN(D147)-1)),D147) -> 0 | I147: =Q147&COUNTIF($H$2:$H147,H147) -> #N/A | J147: =VLOOKUP(L147,ClubNames,2,FALSE())&COUNTIF($L$2:$L147,L147) -> #N/A | O147: 146 | P147: =VLOOKUP(I147,J:M,4,FALSE()) -> #N/A | Q147: =VLOOKUP(H147,ClubNames,2,FALSE()) -> #N/A | R147: =TIME(A147,B147,C147) -> 0
H148: =IF(OR(RIGHT(D148,1)="V",RIGHT(D148,1)="J"),VALUE(LEFT(D148,LEN(D148)-1)),D148) -> 0 | I148: =Q148&COUNTIF($H$2:$H148,H148) -> #N/A | J148: =VLOOKUP(L148,ClubNames,2,FALSE())&COUNTIF($L$2:$L148,L148) -> #N/A | O148: 147 | P148: =VLOOKUP(I148,J:M,4,FALSE()) -> #N/A | Q148: =VLOOKUP(H148,ClubNames,2,FALSE()) -> #N/A | R148: =TIME(A148,B148,C148) -> 0
H149: =IF(OR(RIGHT(D149,1)="V",RIGHT(D149,1)="J"),VALUE(LEFT(D149,LEN(D149)-1)),D149) -> 0 | I149: =Q149&COUNTIF($H$2:$H149,H149) -> #N/A | J149: =VLOOKUP(L149,ClubNames,2,FALSE())&COUNTIF($L$2:$L149,L149) -> #N/A | O149: 148 | P149: =VLOOKUP(I149,J:M,4,FALSE()) -> #N/A | Q149: =VLOOKUP(H149,ClubNames,2,FALSE()) -> #N/A | R149: =TIME(A149,B149,C149) -> 0
H150: =IF(OR(RIGHT(D150,1)="V",RIGHT(D150,1)="J"),VALUE(LEFT(D150,LEN(D150)-1)),D150) -> 0 | I150: =Q150&COUNTIF($H$2:$H150,H150) -> #N/A | J150: =VLOOKUP(L150,ClubNames,2,FALSE())&COUNTIF($L$2:$L150,L150) -> #N/A | O150: 149 | P150: =VLOOKUP(I150,J:M,4,FALSE()) -> #N/A | Q150: =VLOOKUP(H150,ClubNames,2,FALSE()) -> #N/A | R150: =TIME(A150,B150,C150) -> 0
H151: =IF(OR(RIGHT(D151,1)="V",RIGHT(D151,1)="J"),VALUE(LEFT(D151,LEN(D151)-1)),D151) -> 0 | I151: =Q151&COUNTIF($H$2:$H151,H151) -> #N/A | J151: =VLOOKUP(L151,ClubNames,2,FALSE())&COUNTIF($L$2:$L151,L151) -> #N/A | O151: 150 | P151: =VLOOKUP(I151,J:M,4,FALSE()) -> #N/A | Q151: =VLOOKUP(H151,ClubNames,2,FALSE()) -> #N/A | R151: =TIME(A151,B151,C151) -> 0
H152: =IF(OR(RIGHT(D152,1)="V",RIGHT(D152,1)="J"),VALUE(LEFT(D152,LEN(D152)-1)),D152) -> 0 | I152: =Q152&COUNTIF($H$2:$H152,H152) -> #N/A | J152: =VLOOKUP(L152,ClubNames,2,FALSE())&COUNTIF($L$2:$L152,L152) -> #N/A | O152: 151 | P152: =VLOOKUP(I152,J:M,4,FALSE()) -> #N/A | Q152: =VLOOKUP(H152,ClubNames,2,FALSE()) -> #N/A | R152: =TIME(A152,B152,C152) -> 0
H153: =IF(OR(RIGHT(D153,1)="V",RIGHT(D153,1)="J"),VALUE(LEFT(D153,LEN(D153)-1)),D153) -> 0 | I153: =Q153&COUNTIF($H$2:$H153,H153) -> #N/A | J153: =VLOOKUP(L153,ClubNames,2,FALSE())&COUNTIF($L$2:$L153,L153) -> #N/A | O153: 152 | P153: =VLOOKUP(I153,J:M,4,FALSE()) -> #N/A | Q153: =VLOOKUP(H153,ClubNames,2,FALSE()) -> #N/A | R153: =TIME(A153,B153,C153) -> 0
H154: =IF(OR(RIGHT(D154,1)="V",RIGHT(D154,1)="J"),VALUE(LEFT(D154,LEN(D154)-1)),D154) -> 0 | I154: =Q154&COUNTIF($H$2:$H154,H154) -> #N/A | J154: =VLOOKUP(L154,ClubNames,2,FALSE())&COUNTIF($L$2:$L154,L154) -> #N/A | O154: 153 | P154: =VLOOKUP(I154,J:M,4,FALSE()) -> #N/A | Q154: =VLOOKUP(H154,ClubNames,2,FALSE()) -> #N/A | R154: =TIME(A154,B154,C154) -> 0
... H300: =IF(OR(RIGHT(D300,1)="V",RIGHT(D300,1)="J"),VALUE(LEFT(D300,LEN(D300)-1)),D300) -> 0 | I300: =Q300&COUNTIF($H$2:$H300,H300) -> #N/A | J300: =VLOOKUP(L300,ClubNames,2,FALSE())&COUNTIF($L$2:$L300,L300) -> #N/A | O300: 299 | P300: =VLOOKUP(I300,J:M,4,FALSE()) -> #N/A | Q300: =VLOOKUP(H300,ClubNames,2,FALSE()) -> #N/A | R300: =TIME(A300,B300,C300) -> 0
O301: 300 | P301: =VLOOKUP(I301,J:M,4,FALSE()) -> #N/A | Q301: =VLOOKUP(H301,ClubNames,2,FALSE()) -> #N/A | R301: =TIME(A301,B301,C301) -> 0

Sheet U15 Boys
A1: Hr | B1: Min | C1: Sec | D1: Bib No | F1: Club | G1: Finishers | H1: Team No | I1: Race Finish | J1: Team Finish | L1: Team No | M1: Name | O1: Pos | P1: Name | Q1: Club | R1: Time
B2: 15 | C2: 16 | D2: 11 | E2: 1 | F2: =Clubs!B3 -> Edinburgh AC | G2: =COUNTIF($H:$H,E2) -> 5 | H2: =IF(OR(RIGHT(D2,1)="V",RIGHT(D2,1)="J"),VALUE(LEFT(D2,LEN(D2)-1)),D2) -> 11 | I2: =Q2&COUNTIF($H$2:$H2,H2) -> Falkirk Victoria Harriers1 | J2: =VLOOKUP(L2,ClubNames,2,FALSE())&COUNTIF($L$2:$L2,L2) -> Edinburgh AC1 | L2: 1 | M2: Conor McNab | O2: 1 | P2: =VLOOKUP(I2,J:M,4,FALSE())&IF(RIGHT(D2,1)="V"," (V)",IF(RIGHT(D2,1)="J"," (J)","")) -> Ben Upfold | Q2: =VLOOKUP(H2,ClubNames,2,FALSE()) -> Falkirk Victoria Harriers | R2: =TIME(A2,B2,C2) -> 0.010601852
B3: 15 | C3: 24 | D3: 1 | E3: 2 | F3: =Clubs!B4 -> Perth Road Runners | G3: =COUNTIF($H:$H,E3) -> 0 | H3: =IF(OR(RIGHT(D3,1)="V",RIGHT(D3,1)="J"),VALUE(LEFT(D3,LEN(D3)-1)),D3) -> 1 | I3: =Q3&COUNTIF($H$2:$H3,H3) -> Edinburgh AC1 | J3: =VLOOKUP(L3,ClubNames,2,FALSE())&COUNTIF($L$2:$L3,L3) -> Edinburgh AC2 | L3: 1 | M3: Toby Comer | O3: =1+O2 -> 2 | P3: =VLOOKUP(I3,J:M,4,FALSE())&IF(RIGHT(D3,1)="V"," (V)",IF(RIGHT(D3,1)="J"," (J)","")) -> Conor McNab | Q3: =VLOOKUP(H3,ClubNames,2,FALSE()) -> Edinburgh AC | R3: =TIME(A3,B3,C3) -> 0.010694444
B4: 15 | C4: 30 | D4: 11 | E4: 3 | F4: =Clubs!B5 -> Lothian Running Club | G4: =COUNTIF($H:$H,E4) -> 0 | H4: =IF(OR(RIGHT(D4,1)="V",RIGHT(D4,1)="J"),VALUE(LEFT(D4,LEN(D4)-1)),D4) -> 11 | I4: =Q4&COUNTIF($H$2:$H4,H4) -> Falkirk Victoria Harriers2 | J4: =VLOOKUP(L4,ClubNames,2,FALSE())&COUNTIF($L$2:$L4,L4) -> Edinburgh AC3 | L4: 1 | M4: Murray Kirkhope | O4: =1+O3 -> 3 | P4: =VLOOKUP(I4,J:M,4,FALSE())&IF(RIGHT(D4,1)="V"," (V)",IF(RIGHT(D4,1)="J"," (J)","")) -> Adam Kinghorn | Q4: =VLOOKUP(H4,ClubNames,2,FALSE()) -> Falkirk Victoria Harriers | R4: =TIME(A4,B4,C4) -> 0.010763889
B5: 15 | C5: 38 | D5: 30 | E5: 4 | F5: =Clubs!B6 -> Teviotdale Harriers | G5: =COUNTIF($H:$H,E5) -> 1 | H5: =IF(OR(RIGHT(D5,1)="V",RIGHT(D5,1)="J"),VALUE(LEFT(D5,LEN(D5)-1)),D5) -> 30 | I5: =Q5&COUNTIF($H$2:$H5,H5) -> Perth Strathtay Harriers1 | J5: =VLOOKUP(L5,ClubNames,2,FALSE())&COUNTIF($L$2:$L5,L5) -> Edinburgh AC4 | L5: 1 | M5: Isaac Wells | O5: =1+O4 -> 4 | P5: =VLOOKUP(I5,J:M,4,FALSE())&IF(RIGHT(D5,1)="V"," (V)",IF(RIGHT(D5,1)="J"," (J)","")) -> Tom Hilton | Q5: =VLOOKUP(H5,ClubNames,2,FALSE()) -> Perth Strathtay Harriers | R5: =TIME(A5,B5,C5) -> 0.010856481
B6: 15 | C6: 47 | D6: 1 | E6: 5 | F6: =Clubs!B7 -> Moorfoot Runners | G6: =COUNTIF($H:$H,E6) -> 0 | H6: =IF(OR(RIGHT(D6,1)="V",RIGHT(D6,1)="J"),VALUE(LEFT(D6,LEN(D6)-1)),D6) -> 1 | I6: =Q6&COUNTIF($H$2:$H6,H6) -> Edinburgh AC2 | J6: =VLOOKUP(L6,ClubNames,2,FALSE())&COUNTIF($L$2:$L6,L6) -> Edinburgh AC5 | L6: 1 | M6: Finlay Knamiller | O6: =1+O5 -> 5 | P6: =VLOOKUP(I6,J:M,4,FALSE())&IF(RIGHT(D6,1)="V"," (V)",IF(RIGHT(D6,1)="J"," (J)","")) -> Toby Comer | Q6: =VLOOKUP(H6,ClubNames,2,FALSE()) -> Edinburgh AC | R6: =TIME(A6,B6,C6) -> 0.010960648
B7: 15 | C7: 56 | D7: 20 | E7: 6 | F7: =Clubs!B8 -> Aberdeen AAC | G7: =COUNTIF($H:$H,E7) -> 5 | H7: =IF(OR(RIGHT(D7,1)="V",RIGHT(D7,1)="J"),VALUE(LEFT(D7,LEN(D7)-1)),D7) -> 20 | I7: =Q7&COUNTIF($H$2:$H7,H7) -> Harmeny AAC1 | J7: =VLOOKUP(L7,ClubNames,2,FALSE())&COUNTIF($L$2:$L7,L7) -> Teviotdale Harriers1 | L7: 4 | M7: Alfie Walker | O7: =1+O6 -> 6 | P7: =VLOOKUP(I7,J:M,4,FALSE())&IF(RIGHT(D7,1)="V"," (V)",IF(RIGHT(D7,1)="J"," (J)","")) -> Rory Beattie | Q7: =VLOOKUP(H7,ClubNames,2,FALSE()) -> Harmeny AAC | R7: =TIME(A7,B7,C7) -> 0.011064815
B8: 16 | C8: 3 | D8: 4 | E8: 7 | F8: =Clubs!B9 -> Pitreavie AAC | G8: =COUNTIF($H:$H,E8) -> 0 | H8: =IF(OR(RIGHT(D8,1)="V",RIGHT(D8,1)="J"),VALUE(LEFT(D8,LEN(D8)-1)),D8) -> 4 | I8: =Q8&COUNTIF($H$2:$H8,H8) -> Teviotdale Harriers1 | J8: =VLOOKUP(L8,ClubNames,2,FALSE())&COUNTIF($L$2:$L8,L8) -> Aberdeen AAC1 | L8: 6 | M8: Alex Hendry | O8: =1+O7 -> 7 | P8: =VLOOKUP(I8,J:M,4,FALSE())&IF(RIGHT(D8,1)="V"," (V)",IF(RIGHT(D8,1)="J"," (J)","")) -> Alfie Walker | Q8: =VLOOKUP(H8,ClubNames,2,FALSE()) -> Teviotdale Harriers | R8: =TIME(A8,B8,C8) -> 0.011145833
B9: 16 | C9: 3 | D9: 32 | E9: 8 | F9: =Clubs!B10 -> Fife AC | G9: =COUNTIF($H:$H,E9) -> 0 | H9: =IF(OR(RIGHT(D9,1)="V",RIGHT(D9,1)="J"),VALUE(LEFT(D9,LEN(D9)-1)),D9) -> 32 | I9: =Q9&COUNTIF($H$2:$H9,H9) -> Lasswade AAC1 | J9: =VLOOKUP(L9,ClubNames,2,FALSE())&COUNTIF($L$2:$L9,L9) -> Aberdeen AAC2 | L9: 6 | M9: Cullen Bowie | O9: =1+O8 -> 8 | P9: =VLOOKUP(I9,J:M,4,FALSE())&IF(RIGHT(D9,1)="V"," (V)",IF(RIGHT(D9,1)="J"," (J)","")) -> Francis Ovanni Finnegan | Q9: =VLOOKUP(H9,ClubNames,2,FALSE()) -> Lasswade AAC | R9: =TIME(A9,B9,C9) -> 0.011145833
B10: 16 | C10: 5 | D10: 31 | E10: 9 | F10: =Clubs!B11 -> Not Used | G10: =COUNTIF($H:$H,E10) -> 0 | H10: =IF(OR(RIGHT(D10,1)="V",RIGHT(D10,1)="J"),VALUE(LEFT(D10,LEN(D10)-1)),D10) -> 31 | I10: =Q10&COUNTIF($H$2:$H10,H10) -> Corstorphine AAC1 | J10: =VLOOKUP(L10,ClubNames,2,FALSE())&COUNTIF($L$2:$L10,L10) -> Aberdeen AAC3 | L10: 6 | M10: Harry Chalmers | O10: =1+O9 -> 9 | P10: =VLOOKUP(I10,J:M,4,FALSE())&IF(RIGHT(D10,1)="V"," (V)",IF(RIGHT(D10,1)="J"," (J)","")) -> Fraser Shaw | Q10: =VLOOKUP(H10,ClubNames,2,FALSE()) -> Corstorphine AAC | R10: =TIME(A10,B10,C10) -> 0.011168981
B11: 16 | C11: 12 | D11: 15 | E11: 10 | F11: =Clubs!B12 -> Edinburgh Univ Hare & Hounds | G11: =COUNTIF($H:$H,E11) -> 0 | H11: =IF(OR(RIGHT(D11,1)="V",RIGHT(D11,1)="J"),VALUE(LEFT(D11,LEN(D11)-1)),D11) -> 15 | I11: =Q11&COUNTIF($H$2:$H11,H11) -> Livingston AC1 | J11: =VLOOKUP(L11,ClubNames,2,FALSE())&COUNTIF($L$2:$L11,L11) -> Aberdeen AAC4 | L11: 6 | M11: Liam Miller | O11: =1+O10 -> 10 | P11: =VLOOKUP(I11,J:M,4,FALSE())&IF(RIGHT(D11,1)="V"," (V)",IF(RIGHT(D11,1)="J"," (J)","")) -> Finlay Sharp | Q11: =VLOOKUP(H11,ClubNames,2,FALSE()) -> Livingston AC | R11: =TIME(A11,B11,C11) -> 0.01125
B12: 16 | C12: 13 | D12: 30 | E12: 11 | F12: =Clubs!B13 -> Falkirk Victoria Harriers | G12: =COUNTIF($H:$H,E12) -> 5 | H12: =IF(OR(RIGHT(D12,1)="V",RIGHT(D12,1)="J"),VALUE(LEFT(D12,LEN(D12)-1)),D12) -> 30 | I12: =Q12&COUNTIF($H$2:$H12,H12) -> Perth Strathtay Harriers2 | J12: =VLOOKUP(L12,ClubNames,2,FALSE())&COUNTIF($L$2:$L12,L12) -> Aberdeen AAC5 | L12: 6 | M12: Dylan Gillespie | O12: =1+O11 -> 11 | P12: =VLOOKUP(I12,J:M,4,FALSE())&IF(RIGHT(D12,1)="V"," (V)",IF(RIGHT(D12,1)="J"," (J)","")) -> Ruairidh Hood | Q12: =VLOOKUP(H12,ClubNames,2,FALSE()) -> Perth Strathtay Harriers | R12: =TIME(A12,B12,C12) -> 0.011261574
B13: 16 | C13: 13 | D13: 11 | E13: 12 | F13: =Clubs!B14 -> Hunters Bog Trotters | G13: =COUNTIF($H:$H,E13) -> 0 | H13: =IF(OR(RIGHT(D13,1)="V",RIGHT(D13,1)="J"),VALUE(LEFT(D13,LEN(D13)-1)),D13) -> 11 | I13: =Q13&COUNTIF($H$2:$H13,H13) -> Falkirk Victoria Harriers3 | J13: =VLOOKUP(L13,ClubNames,2,FALSE())&COUNTIF($L$2:$L13,L13) -> Falkirk Victoria Harriers1 | L13: 11 | M13: Ben Upfold | O13: =1+O12 -> 12 | P13: =VLOOKUP(I13,J:M,4,FALSE())&IF(RIGHT(D13,1)="V"," (V)",IF(RIGHT(D13,1)="J"," (J)","")) -> Thomas Mitchell | Q13: =VLOOKUP(H13,ClubNames,2,FALSE()) -> Falkirk Victoria Harriers | R13: =TIME(A13,B13,C13) -> 0.011261574
B14: 16 | C14: 46 | D14: 29 | E14: 13 | F14: =Clubs!B15 -> Gala Harriers | G14: =COUNTIF($H:$H,E14) -> 0 | H14: =IF(OR(RIGHT(D14,1)="V",RIGHT(D14,1)="J"),VALUE(LEFT(D14,LEN(D14)-1)),D14) -> 29 | I14: =Q14&COUNTIF($H$2:$H14,H14) -> Team Borders1 | J14: =VLOOKUP(L14,ClubNames,2,FALSE())&COUNTIF($L$2:$L14,L14) -> Falkirk Victoria Harriers2 | L14: 11 | M14: Adam Kinghorn | O14: =1+O13 -> 13 | P14: =VLOOKUP(I14,J:M,4,FALSE())&IF(RIGHT(D14,1)="V"," (V)",IF(RIGHT(D14,1)="J"," (J)","")) -> Angus McCarthy | Q14: =VLOOKUP(H14,ClubNames,2,FALSE()) -> Team Borders | R14: =TIME(A14,B14,C14) -> 0.011643519
... B40: 19 | C40: 45 | D40: 17 | E40: 39 | F40: =Clubs!B41 -> Dunfermline Track & Field AC | G40: =COUNTIF($H:$H,E40) -> 0 | H40: =IF(OR(RIGHT(D40,1)="V",RIGHT(D40,1)="J"),VALUE(LEFT(D40,LEN(D40)-1)),D40) -> 17 | I40: =Q40&COUNTIF($H$2:$H40,H40) -> George Heriots School1 | J40: =VLOOKUP(L40,ClubNames,2,FALSE())&COUNTIF($L$2:$L40,L40) -> Lasswade AAC1 | L40: 32 | M40: Francis Ovanni Finnegan | O40: =1+O39 -> 39 | P40: =VLOOKUP(I40,J:M,4,FALSE())&IF(RIGHT(D40,1)="V"," (V)",IF(RIGHT(D40,1)="J"," (J)","")) -> James Noake | Q40: =VLOOKUP(H40,ClubNames,2,FALSE()) -> George Heriots School | R40: =TIME(A40,B40,C40) -> 0.013715278
E41: 40 | F41: =Clubs!B42 -> Team East Lothian | G41: =COUNTIF($H:$H,E41) -> 0 | H41: =IF(OR(RIGHT(D41,1)="V",RIGHT(D41,1)="J"),VALUE(LEFT(D41,LEN(D41)-1)),D41) -> 0 | I41: =Q41&COUNTIF($H$2:$H41,H41) -> #N/A | J41: =VLOOKUP(L41,ClubNames,2,FALSE())&COUNTIF($L$2:$L41,L41) -> #N/A | O41: =1+O40 -> 40 | P41: =VLOOKUP(I41,J:M,4,FALSE())&IF(RIGHT(D41,1)="V"," (V)",IF(RIGHT(D41,1)="J"," (J)","")) -> #N/A | Q41: =VLOOKUP(H41,ClubNames,2,FALSE()) -> #N/A | R41: =TIME(A41,B41,C41) -> 0
E42: 41 | F42: =Clubs!B43 -> Anster Haddies Running Club | G42: =COUNTIF($H:$H,E42) -> 0 | H42: =IF(OR(RIGHT(D42,1)="V",RIGHT(D42,1)="J"),VALUE(LEFT(D42,LEN(D42)-1)),D42) -> 0 | I42: =Q42&COUNTIF($H$2:$H42,H42) -> #N/A | J42: =VLOOKUP(L42,ClubNames,2,FALSE())&COUNTIF($L$2:$L42,L42) -> #N/A | O42: =1+O41 -> 41 | P42: =VLOOKUP(I42,J:M,4,FALSE())&IF(RIGHT(D42,1)="V"," (V)",IF(RIGHT(D42,1)="J"," (J)","")) -> #N/A | Q42: =VLOOKUP(H42,ClubNames,2,FALSE()) -> #N/A | R42: =TIME(A42,B42,C42) -> 0
E43: 42 | F43: =Clubs!B44 -> Falkland Trail Runners | G43: =COUNTIF($H:$H,E43) -> 0 | H43: =IF(OR(RIGHT(D43,1)="V",RIGHT(D43,1)="J"),VALUE(LEFT(D43,LEN(D43)-1)),D43) -> 0 | I43: =Q43&COUNTIF($H$2:$H43,H43) -> #N/A | J43: =VLOOKUP(L43,ClubNames,2,FALSE())&COUNTIF($L$2:$L43,L43) -> #N/A | O43: =1+O42 -> 42 | P43: =VLOOKUP(I43,J:M,4,FALSE())&IF(RIGHT(D43,1)="V"," (V)",IF(RIGHT(D43,1)="J"," (J)","")) -> #N/A | Q43: =VLOOKUP(H43,ClubNames,2,FALSE()) -> #N/A | R43: =TIME(A43,B43,C43) -> 0
E44: 43 | F44: =Clubs!B45 -> Musselburgh & District AC | G44: =COUNTIF($H:$H,E44) -> 0 | H44: =IF(OR(RIGHT(D44,1)="V",RIGHT(D44,1)="J"),VALUE(LEFT(D44,LEN(D44)-1)),D44) -> 0 | I44: =Q44&COUNTIF($H$2:$H44,H44) -> #N/A | J44: =VLOOKUP(L44,ClubNames,2,FALSE())&COUNTIF($L$2:$L44,L44) -> #N/A | O44: =1+O43 -> 43 | P44: =VLOOKUP(I44,J:M,4,FALSE())&IF(RIGHT(D44,1)="V"," (V)",IF(RIGHT(D44,1)="J"," (J)","")) -> #N/A | Q44: =VLOOKUP(H44,ClubNames,2,FALSE()) -> #N/A | R44: =TIME(A44,B44,C44) -> 0
E45: 44 | F45: =Clubs!B46 -> Montrose and District AC | G45: =COUNTIF($H:$H,E45) -> 0 | H45: =IF(OR(RIGHT(D45,1)="V",RIGHT(D45,1)="J"),VALUE(LEFT(D45,LEN(D45)-1)),D45) -> 0 | I45: =Q45&COUNTIF($H$2:$H45,H45) -> #N/A | J45: =VLOOKUP(L45,ClubNames,2,FALSE())&COUNTIF($L$2:$L45,L45) -> #N/A | O45: =1+O44 -> 44 | P45: =VLOOKUP(I45,J:M,4,FALSE())&IF(RIGHT(D45,1)="V"," (V)",IF(RIGHT(D45,1)="J"," (J)","")) -> #N/A | Q45: =VLOOKUP(H45,ClubNames,2,FALSE()) -> #N/A | R45: =TIME(A45,B45,C45) -> 0
E46: 45 | F46: =Clubs!B47 -> PH Racing Club | G46: =COUNTIF($H:$H,E46) -> 0 | H46: =IF(OR(RIGHT(D46,1)="V",RIGHT(D46,1)="J"),VALUE(LEFT(D46,LEN(D46)-1)),D46) -> 0 | I46: =Q46&COUNTIF($H$2:$H46,H46) -> #N/A | J46: =VLOOKUP(L46,ClubNames,2,FALSE())&COUNTIF($L$2:$L46,L46) -> #N/A | O46: =1+O45 -> 45 | P46: =VLOOKUP(I46,J:M,4,FALSE())&IF(RIGHT(D46,1)="V"," (V)",IF(RIGHT(D46,1)="J"," (J)","")) -> #N/A | Q46: =VLOOKUP(H46,ClubNames,2,FALSE()) -> #N/A | R46: =TIME(A46,B46,C46) -> 0
E47: 46 | F47: =Clubs!B48 -> Deeside Runners | G47: =COUNTIF($H:$H,E47) -> 0 | H47: =IF(OR(RIGHT(D47,1)="V",RIGHT(D47,1)="J"),VALUE(LEFT(D47,LEN(D47)-1)),D47) -> 0 | I47: =Q47&COUNTIF($H$2:$H47,H47) -> #N/A | J47: =VLOOKUP(L47,ClubNames,2,FALSE())&COUNTIF($L$2:$L47,L47) -> #N/A | O47: =1+O46 -> 46 | P47: =VLOOKUP(I47,J:M,4,FALSE())&IF(RIGHT(D47,1)="V"," (V)",IF(RIGHT(D47,1)="J"," (J)","")) -> #N/A | Q47: =VLOOKUP(H47,ClubNames,2,FALSE()) -> #N/A | R47: =TIME(A47,B47,C47) -> 0
E48: 47 | F48: =Clubs!B49 -> Kinross Road Runners | G48: =COUNTIF($H:$H,E48) -> 0 | H48: =IF(OR(RIGHT(D48,1)="V",RIGHT(D48,1)="J"),VALUE(LEFT(D48,LEN(D48)-1)),D48) -> 0 | I48: =Q48&COUNTIF($H$2:$H48,H48) -> #N/A | J48: =VLOOKUP(L48,ClubNames,2,FALSE())&COUNTIF($L$2:$L48,L48) -> #N/A | O48: =1+O47 -> 47 | P48: =VLOOKUP(I48,J:M,4,FALSE())&IF(RIGHT(D48,1)="V"," (V)",IF(RIGHT(D48,1)="J"," (J)","")) -> #N/A | Q48: =VLOOKUP(H48,ClubNames,2,FALSE()) -> #N/A | R48: =TIME(A48,B48,C48) -> 0
E49: 48 | F49: =Clubs!B50 -> Dunbar Running Club | G49: =COUNTIF($H:$H,E49) -> 0 | H49: =IF(OR(RIGHT(D49,1)="V",RIGHT(D49,1)="J"),VALUE(LEFT(D49,LEN(D49)-1)),D49) -> 0 | I49: =Q49&COUNTIF($H$2:$H49,H49) -> #N/A | J49: =VLOOKUP(L49,ClubNames,2,FALSE())&COUNTIF($L$2:$L49,L49) -> #N/A | O49: =1+O48 -> 48 | P49: =VLOOKUP(I49,J:M,4,FALSE())&IF(RIGHT(D49,1)="V"," (V)",IF(RIGHT(D49,1)="J"," (J)","")) -> #N/A | Q49: =VLOOKUP(H49,ClubNames,2,FALSE()) -> #N/A | R49: =TIME(A49,B49,C49) -> 0
E50: 49 | F50: =Clubs!B51 -> Lauderdale Limpers | G50: =COUNTIF($H:$H,E50) -> 0 | H50: =IF(OR(RIGHT(D50,1)="V",RIGHT(D50,1)="J"),VALUE(LEFT(D50,LEN(D50)-1)),D50) -> 0 | I50: =Q50&COUNTIF($H$2:$H50,H50) -> #N/A | J50: =VLOOKUP(L50,ClubNames,2,FALSE())&COUNTIF($L$2:$L50,L50) -> #N/A | O50: =1+O49 -> 49 | P50: =VLOOKUP(I50,J:M,4,FALSE())&IF(RIGHT(D50,1)="V"," (V)",IF(RIGHT(D50,1)="J"," (J)","")) -> #N/A | Q50: =VLOOKUP(H50,ClubNames,2,FALSE()) -> #N/A | R50: =TIME(A50,B50,C50) -> 0
E51: 50 | F51: =Clubs!B52 -> Stirling University AC | G51: =COUNTIF($H:$H,E51) -> 0 | H51: =IF(OR(RIGHT(D51,1)="V",RIGHT(D51,1)="J"),VALUE(LEFT(D51,LEN(D51)-1)),D51) -> 0 | I51: =Q51&COUNTIF($H$2:$H51,H51) -> #N/A | J51: =VLOOKUP(L51,ClubNames,2,FALSE())&COUNTIF($L$2:$L51,L51) -> #N/A | O51: 50 | P51: =VLOOKUP(I51,J:M,4,FALSE())&IF(RIGHT(D51,1)="V"," (V)",IF(RIGHT(D51,1)="J"," (J)","")) -> #N/A | Q51: =VLOOKUP(H51,ClubNames,2,FALSE()) -> #N/A | R51: =TIME(A51,B51,C51) -> 0
E52: 51 | F52: =Clubs!B53 -> Haddington Running Club | G52: =COUNTIF($H:$H,E52) -> 0 | H52: =IF(OR(RIGHT(D52,1)="V",RIGHT(D52,1)="J"),VALUE(LEFT(D52,LEN(D52)-1)),D52) -> 0 | I52: =Q52&COUNTIF($H$2:$H52,H52) -> #N/A | J52: =VLOOKUP(L52,ClubNames,2,FALSE())&COUNTIF($L$2:$L52,L52) -> #N/A | O52: 51 | P52: =VLOOKUP(I52,J:M,4,FALSE())&IF(RIGHT(D52,1)="V"," (V)",IF(RIGHT(D52,1)="J"," (J)","")) -> #N/A | Q52: =VLOOKUP(H52,ClubNames,2,FALSE()) -> #N/A | R52: =TIME(A52,B52,C52) -> 0
E53: 52 | F53: =Clubs!B54 -> Arbroath & District AAC | G53: =COUNTIF($H:$H,E53) -> 0 | H53: =IF(OR(RIGHT(D53,1)="V",RIGHT(D53,1)="J"),VALUE(LEFT(D53,LEN(D53)-1)),D53) -> 0 | I53: =Q53&COUNTIF($H$2:$H53,H53) -> #N/A | J53: =VLOOKUP(L53,ClubNames,2,FALSE())&COUNTIF($L$2:$L53,L53) -> #N/A | O53: 52 | P53: =VLOOKUP(I53,J:M,4,FALSE())&IF(RIGHT(D53,1)="V"," (V)",IF(RIGHT(D53,1)="J"," (J)","")) -> #N/A | Q53: =VLOOKUP(H53,ClubNames,2,FALSE()) -> #N/A | R53: =TIME(A53,B53,C53) -> 0
E54: 53 | F54: =Clubs!B55 -> Run Livingston | H54: =IF(OR(RIGHT(D54,1)="V",RIGHT(D54,1)="J"),VALUE(LEFT(D54,LEN(D54)-1)),D54) -> 0 | I54: =Q54&COUNTIF($H$2:$H54,H54) -> #N/A | J54: =VLOOKUP(L54,ClubNames,2,FALSE())&COUNTIF($L$2:$L54,L54) -> #N/A | O54: 53 | P54: =VLOOKUP(I54,J:M,4,FALSE())&IF(RIGHT(D54,1)="V"," (V)",IF(RIGHT(D54,1)="J"," (J)","")) -> #N/A | Q54: =VLOOKUP(H54,ClubNames,2,FALSE()) -> #N/A | R54: =TIME(A54,B54,C54) -> 0
H55: =IF(OR(RIGHT(D55,1)="V",RIGHT(D55,1)="J"),VALUE(LEFT(D55,LEN(D55)-1)),D55) -> 0 | I55: =Q55&COUNTIF($H$2:$H55,H55) -> #N/A | J55: =VLOOKUP(L55,ClubNames,2,FALSE())&COUNTIF($L$2:$L55,L55) -> #N/A | O55: 54 | P55: =VLOOKUP(I55,J:M,4,FALSE())&IF(RIGHT(D55,1)="V"," (V)",IF(RIGHT(D55,1)="J"," (J)","")) -> #N/A | Q55: =VLOOKUP(H55,ClubNames,2,FALSE()) -> #N/A | R55: =TIME(A55,B55,C55) -> 0
H56: =IF(OR(RIGHT(D56,1)="V",RIGHT(D56,1)="J"),VALUE(LEFT(D56,LEN(D56)-1)),D56) -> 0 | I56: =Q56&COUNTIF($H$2:$H56,H56) -> #N/A | J56: =VLOOKUP(L56,ClubNames,2,FALSE())&COUNTIF($L$2:$L56,L56) -> #N/A | O56: 55 | P56: =VLOOKUP(I56,J:M,4,FALSE())&IF(RIGHT(D56,1)="V"," (V)",IF(RIGHT(D56,1)="J"," (J)","")) -> #N/A | Q56: =VLOOKUP(H56,ClubNames,2,FALSE()) -> #N/A | R56: =TIME(A56,B56,C56) -> 0
H57: =IF(OR(RIGHT(D57,1)="V",RIGHT(D57,1)="J"),VALUE(LEFT(D57,LEN(D57)-1)),D57) -> 0 | I57: =Q57&COUNTIF($H$2:$H57,H57) -> #N/A | J57: =VLOOKUP(L57,ClubNames,2,FALSE())&COUNTIF($L$2:$L57,L57) -> #N/A | O57: 56 | P57: =VLOOKUP(I57,J:M,4,FALSE())&IF(RIGHT(D57,1)="V"," (V)",IF(RIGHT(D57,1)="J"," (J)","")) -> #N/A | Q57: =VLOOKUP(H57,ClubNames,2,FALSE()) -> #N/A | R57: =TIME(A57,B57,C57) -> 0
H58: =IF(OR(RIGHT(D58,1)="V",RIGHT(D58,1)="J"),VALUE(LEFT(D58,LEN(D58)-1)),D58) -> 0 | I58: =Q58&COUNTIF($H$2:$H58,H58) -> #N/A | J58: =VLOOKUP(L58,ClubNames,2,FALSE())&COUNTIF($L$2:$L58,L58) -> #N/A | O58: 57 | P58: =VLOOKUP(I58,J:M,4,FALSE())&IF(RIGHT(D58,1)="V"," (V)",IF(RIGHT(D58,1)="J"," (J)","")) -> #N/A | Q58: =VLOOKUP(H58,ClubNames,2,FALSE()) -> #N/A | R58: =TIME(A58,B58,C58) -> 0
H59: =IF(OR(RIGHT(D59,1)="V",RIGHT(D59,1)="J"),VALUE(LEFT(D59,LEN(D59)-1)),D59) -> 0 | I59: =Q59&COUNTIF($H$2:$H59,H59) -> #N/A | J59: =VLOOKUP(L59,ClubNames,2,FALSE())&COUNTIF($L$2:$L59,L59) -> #N/A | O59: 58 | P59: =VLOOKUP(I59,J:M,4,FALSE())&IF(RIGHT(D59,1)="V"," (V)",IF(RIGHT(D59,1)="J"," (J)","")) -> #N/A | Q59: =VLOOKUP(H59,ClubNames,2,FALSE()) -> #N/A | R59: =TIME(A59,B59,C59) -> 0
H60: =IF(OR(RIGHT(D60,1)="V",RIGHT(D60,1)="J"),VALUE(LEFT(D60,LEN(D60)-1)),D60) -> 0 | I60: =Q60&COUNTIF($H$2:$H60,H60) -> #N/A | J60: =VLOOKUP(L60,ClubNames,2,FALSE())&COUNTIF($L$2:$L60,L60) -> #N/A | O60: 59 | P60: =VLOOKUP(I60,J:M,4,FALSE())&IF(RIGHT(D60,1)="V"," (V)",IF(RIGHT(D60,1)="J"," (J)","")) -> #N/A | Q60: =VLOOKUP(H60,ClubNames,2,FALSE()) -> #N/A | R60: =TIME(A60,B60,C60) -> 0
H61: =IF(OR(RIGHT(D61,1)="V",RIGHT(D61,1)="J"),VALUE(LEFT(D61,LEN(D61)-1)),D61) -> 0 | I61: =Q61&COUNTIF($H$2:$H61,H61) -> #N/A | J61: =VLOOKUP(L61,ClubNames,2,FALSE())&COUNTIF($L$2:$L61,L61) -> #N/A | O61: 60 | P61: =VLOOKUP(I61,J:M,4,FALSE())&IF(RIGHT(D61,1)="V"," (V)",IF(RIGHT(D61,1)="J"," (J)","")) -> #N/A | Q61: =VLOOKUP(H61,ClubNames,2,FALSE()) -> #N/A | R61: =TIME(A61,B61,C61) -> 0
H62: =IF(OR(RIGHT(D62,1)="V",RIGHT(D62,1)="J"),VALUE(LEFT(D62,LEN(D62)-1)),D62) -> 0 | I62: =Q62&COUNTIF($H$2:$H62,H62) -> #N/A | J62: =VLOOKUP(L62,ClubNames,2,FALSE())&COUNTIF($L$2:$L62,L62) -> #N/A | O62: 61 | P62: =VLOOKUP(I62,J:M,4,FALSE())&IF(RIGHT(D62,1)="V"," (V)",IF(RIGHT(D62,1)="J"," (J)","")) -> #N/A | Q62: =VLOOKUP(H62,ClubNames,2,FALSE()) -> #N/A | R62: =TIME(A62,B62,C62) -> 0
H63: =IF(OR(RIGHT(D63,1)="V",RIGHT(D63,1)="J"),VALUE(LEFT(D63,LEN(D63)-1)),D63) -> 0 | I63: =Q63&COUNTIF($H$2:$H63,H63) -> #N/A | J63: =VLOOKUP(L63,ClubNames,2,FALSE())&COUNTIF($L$2:$L63,L63) -> #N/A | O63: 62 | P63: =VLOOKUP(I63,J:M,4,FALSE())&IF(RIGHT(D63,1)="V"," (V)",IF(RIGHT(D63,1)="J"," (J)","")) -> #N/A | Q63: =VLOOKUP(H63,ClubNames,2,FALSE()) -> #N/A | R63: =TIME(A63,B63,C63) -> 0
H64: =IF(OR(RIGHT(D64,1)="V",RIGHT(D64,1)="J"),VALUE(LEFT(D64,LEN(D64)-1)),D64) -> 0 | I64: =Q64&COUNTIF($H$2:$H64,H64) -> #N/A | J64: =VLOOKUP(L64,ClubNames,2,FALSE())&COUNTIF($L$2:$L64,L64) -> #N/A | O64: 63 | P64: =VLOOKUP(I64,J:M,4,FALSE())&IF(RIGHT(D64,1)="V"," (V)",IF(RIGHT(D64,1)="J"," (J)","")) -> #N/A | Q64: =VLOOKUP(H64,ClubNames,2,FALSE()) -> #N/A | R64: =TIME(A64,B64,C64) -> 0
H65: =IF(OR(RIGHT(D65,1)="V",RIGHT(D65,1)="J"),VALUE(LEFT(D65,LEN(D65)-1)),D65) -> 0 | I65: =Q65&COUNTIF($H$2:$H65,H65) -> #N/A | J65: =VLOOKUP(L65,ClubNames,2,FALSE())&COUNTIF($L$2:$L65,L65) -> #N/A | O65: 64 | P65: =VLOOKUP(I65,J:M,4,FALSE())&IF(RIGHT(D65,1)="V"," (V)",IF(RIGHT(D65,1)="J"," (J)","")) -> #N/A | Q65: =VLOOKUP(H65,ClubNames,2,FALSE()) -> #N/A | R65: =TIME(A65,B65,C65) -> 0
H66: =IF(OR(RIGHT(D66,1)="V",RIGHT(D66,1)="J"),VALUE(LEFT(D66,LEN(D66)-1)),D66) -> 0 | I66: =Q66&COUNTIF($H$2:$H66,H66) -> #N/A | J66: =VLOOKUP(L66,ClubNames,2,FALSE())&COUNTIF($L$2:$L66,L66) -> #N/A | O66: 65 | P66: =VLOOKUP(I66,J:M,4,FALSE())&IF(RIGHT(D66,1)="V"," (V)",IF(RIGHT(D66,1)="J"," (J)","")) -> #N/A | Q66: =VLOOKUP(H66,ClubNames,2,FALSE()) -> #N/A | R66: =TIME(A66,B66,C66) -> 0
... H142: =IF(OR(RIGHT(D142,1)="V",RIGHT(D142,1)="J"),VALUE(LEFT(D142,LEN(D142)-1)),D142) -> 0 | I142: =Q142&COUNTIF($H$2:$H142,H142) -> #N/A | J142: =VLOOKUP(L142,ClubNames,2,FALSE())&COUNTIF($L$2:$L142,L142) -> #N/A | O142: 141 | P142: =VLOOKUP(I142,J:M,4,FALSE())&IF(RIGHT(D142,1)="V"," (V)",IF(RIGHT(D142,1)="J"," (J)","")) -> #N/A | Q142: =VLOOKUP(H142,ClubNames,2,FALSE()) -> #N/A | R142: =TIME(A142,B142,C142) -> 0
H143: =IF(OR(RIGHT(D143,1)="V",RIGHT(D143,1)="J"),VALUE(LEFT(D143,LEN(D143)-1)),D143) -> 0 | I143: =Q143&COUNTIF($H$2:$H143,H143) -> #N/A | J143: =VLOOKUP(L143,ClubNames,2,FALSE())&COUNTIF($L$2:$L143,L143) -> #N/A | O143: 142 | P143: =VLOOKUP(I143,J:M,4,FALSE()) -> #N/A | Q143: =VLOOKUP(H143,ClubNames,2,FALSE()) -> #N/A | R143: =TIME(A143,B143,C143) -> 0
H144: =IF(OR(RIGHT(D144,1)="V",RIGHT(D144,1)="J"),VALUE(LEFT(D144,LEN(D144)-1)),D144) -> 0 | I144: =Q144&COUNTIF($H$2:$H144,H144) -> #N/A | J144: =VLOOKUP(L144,ClubNames,2,FALSE())&COUNTIF($L$2:$L144,L144) -> #N/A | O144: 143 | P144: =VLOOKUP(I144,J:M,4,FALSE()) -> #N/A | Q144: =VLOOKUP(H144,ClubNames,2,FALSE()) -> #N/A | R144: =TIME(A144,B144,C144) -> 0
H145: =IF(OR(RIGHT(D145,1)="V",RIGHT(D145,1)="J"),VALUE(LEFT(D145,LEN(D145)-1)),D145) -> 0 | I145: =Q145&COUNTIF($H$2:$H145,H145) -> #N/A | J145: =VLOOKUP(L145,ClubNames,2,FALSE())&COUNTIF($L$2:$L145,L145) -> #N/A | O145: 144 | P145: =VLOOKUP(I145,J:M,4,FALSE()) -> #N/A | Q145: =VLOOKUP(H145,ClubNames,2,FALSE()) -> #N/A | R145: =TIME(A145,B145,C145) -> 0
H146: =IF(OR(RIGHT(D146,1)="V",RIGHT(D146,1)="J"),VALUE(LEFT(D146,LEN(D146)-1)),D146) -> 0 | I146: =Q146&COUNTIF($H$2:$H146,H146) -> #N/A | J146: =VLOOKUP(L146,ClubNames,2,FALSE())&COUNTIF($L$2:$L146,L146) -> #N/A | O146: 145 | P146: =VLOOKUP(I146,J:M,4,FALSE()) -> #N/A | Q146: =VLOOKUP(H146,ClubNames,2,FALSE()) -> #N/A | R146: =TIME(A146,B146,C146) -> 0
H147: =IF(OR(RIGHT(D147,1)="V",RIGHT(D147,1)="J"),VALUE(LEFT(D147,LEN(D147)-1)),D147) -> 0 | I147: =Q147&COUNTIF($H$2:$H147,H147) -> #N/A | J147: =VLOOKUP(L147,ClubNames,2,FALSE())&COUNTIF($L$2:$L147,L147) -> #N/A | O147: 146 | P147: =VLOOKUP(I147,J:M,4,FALSE()) -> #N/A | Q147: =VLOOKUP(H147,ClubNames,2,FALSE()) -> #N/A | R147: =TIME(A147,B147,C147) -> 0
H148: =IF(OR(RIGHT(D148,1)="V",RIGHT(D148,1)="J"),VALUE(LEFT(D148,LEN(D148)-1)),D148) -> 0 | I148: =Q148&COUNTIF($H$2:$H148,H148) -> #N/A | J148: =VLOOKUP(L148,ClubNames,2,FALSE())&COUNTIF($L$2:$L148,L148) -> #N/A | O148: 147 | P148: =VLOOKUP(I148,J:M,4,FALSE()) -> #N/A | Q148: =VLOOKUP(H148,ClubNames,2,FALSE()) -> #N/A | R148: =TIME(A148,B148,C148) -> 0
H149: =IF(OR(RIGHT(D149,1)="V",RIGHT(D149,1)="J"),VALUE(LEFT(D149,LEN(D149)-1)),D149) -> 0 | I149: =Q149&COUNTIF($H$2:$H149,H149) -> #N/A | J149: =VLOOKUP(L149,ClubNames,2,FALSE())&COUNTIF($L$2:$L149,L149) -> #N/A | O149: 148 | P149: =VLOOKUP(I149,J:M,4,FALSE()) -> #N/A | Q149: =VLOOKUP(H149,ClubNames,2,FALSE()) -> #N/A | R149: =TIME(A149,B149,C149) -> 0
H150: =IF(OR(RIGHT(D150,1)="V",RIGHT(D150,1)="J"),VALUE(LEFT(D150,LEN(D150)-1)),D150) -> 0 | I150: =Q150&COUNTIF($H$2:$H150,H150) -> #N/A | J150: =VLOOKUP(L150,ClubNames,2,FALSE())&COUNTIF($L$2:$L150,L150) -> #N/A | O150: 149 | P150: =VLOOKUP(I150,J:M,4,FALSE()) -> #N/A | Q150: =VLOOKUP(H150,ClubNames,2,FALSE()) -> #N/A | R150: =TIME(A150,B150,C150) -> 0
H151: =IF(OR(RIGHT(D151,1)="V",RIGHT(D151,1)="J"),VALUE(LEFT(D151,LEN(D151)-1)),D151) -> 0 | I151: =Q151&COUNTIF($H$2:$H151,H151) -> #N/A | J151: =VLOOKUP(L151,ClubNames,2,FALSE())&COUNTIF($L$2:$L151,L151) -> #N/A | O151: 150 | P151: =VLOOKUP(I151,J:M,4,FALSE()) -> #N/A | Q151: =VLOOKUP(H151,ClubNames,2,FALSE()) -> #N/A | R151: =TIME(A151,B151,C151) -> 0
H152: =IF(OR(RIGHT(D152,1)="V",RIGHT(D152,1)="J"),VALUE(LEFT(D152,LEN(D152)-1)),D152) -> 0 | I152: =Q152&COUNTIF($H$2:$H152,H152) -> #N/A | J152: =VLOOKUP(L152,ClubNames,2,FALSE())&COUNTIF($L$2:$L152,L152) -> #N/A | O152: 151 | P152: =VLOOKUP(I152,J:M,4,FALSE()) -> #N/A | Q152: =VLOOKUP(H152,ClubNames,2,FALSE()) -> #N/A | R152: =TIME(A152,B152,C152) -> 0
H153: =IF(OR(RIGHT(D153,1)="V",RIGHT(D153,1)="J"),VALUE(LEFT(D153,LEN(D153)-1)),D153) -> 0 | I153: =Q153&COUNTIF($H$2:$H153,H153) -> #N/A | J153: =VLOOKUP(L153,ClubNames,2,FALSE())&COUNTIF($L$2:$L153,L153) -> #N/A | O153: 152 | P153: =VLOOKUP(I153,J:M,4,FALSE()) -> #N/A | Q153: =VLOOKUP(H153,ClubNames,2,FALSE()) -> #N/A | R153: =TIME(A153,B153,C153) -> 0
H154: =IF(OR(RIGHT(D154,1)="V",RIGHT(D154,1)="J"),VALUE(LEFT(D154,LEN(D154)-1)),D154) -> 0 | I154: =Q154&COUNTIF($H$2:$H154,H154) -> #N/A | J154: =VLOOKUP(L154,ClubNames,2,FALSE())&COUNTIF($L$2:$L154,L154) -> #N/A | O154: 153 | P154: =VLOOKUP(I154,J:M,4,FALSE()) -> #N/A | Q154: =VLOOKUP(H154,ClubNames,2,FALSE()) -> #N/A | R154: =TIME(A154,B154,C154) -> 0
... H300: =IF(OR(RIGHT(D300,1)="V",RIGHT(D300,1)="J"),VALUE(LEFT(D300,LEN(D300)-1)),D300) -> 0 | I300: =Q300&COUNTIF($H$2:$H300,H300) -> #N/A | J300: =VLOOKUP(L300,ClubNames,2,FALSE())&COUNTIF($L$2:$L300,L300) -> #N/A | O300: 299 | P300: =VLOOKUP(I300,J:M,4,FALSE()) -> #N/A | Q300: =VLOOKUP(H300,ClubNames,2,FALSE()) -> #N/A | R300: =TIME(A300,B300,C300) -> 0
O301: 300 | P301: =VLOOKUP(I301,J:M,4,FALSE()) -> #N/A | Q301: =VLOOKUP(H301,ClubNames,2,FALSE()) -> #N/A | R301: =TIME(A301,B301,C301) -> 0

Sheet U17 Men
A1: Hr | B1: Min | C1: Sec | D1: Bib No | F1: Club | G1: Finishers | H1: Team No | I1: Race Finish | J1: Team Finish | L1: Team No | M1: Name | O1: Pos | P1: Name | Q1: Club | R1: Time
B2: 18 | C2: 58 | D2: 11 | E2: 1 | F2: =Clubs!B3 -> Edinburgh AC | G2: =COUNTIF($H:$H,E2) -> 4 | H2: =IF(OR(RIGHT(D2,1)="V",RIGHT(D2,1)="J"),VALUE(LEFT(D2,LEN(D2)-1)),D2) -> 11 | I2: =Q2&COUNTIF($H$2:$H2,H2) -> Falkirk Victoria Harriers1 | J2: =VLOOKUP(L2,ClubNames,2,FALSE())&COUNTIF($L$2:$L2,L2) -> Edinburgh AC1 | L2: 1 | M2: Lukas Sonnenville | O2: 1 | P2: =VLOOKUP(I2,J:M,4,FALSE())&IF(RIGHT(D2,1)="V"," (V)",IF(RIGHT(D2,1)="J"," (J)","")) -> Harrison MacMillan | Q2: =VLOOKUP(H2,ClubNames,2,FALSE()) -> Falkirk Victoria Harriers | R2: =TIME(A2,B2,C2) -> 0.013171296
B3: 19 | C3: 19 | D3: 29 | E3: 2 | F3: =Clubs!B4 -> Perth Road Runners | G3: =COUNTIF($H:$H,E3) -> 0 | H3: =IF(OR(RIGHT(D3,1)="V",RIGHT(D3,1)="J"),VALUE(LEFT(D3,LEN(D3)-1)),D3) -> 29 | I3: =Q3&COUNTIF($H$2:$H3,H3) -> Team Borders1 | J3: =VLOOKUP(L3,ClubNames,2,FALSE())&COUNTIF($L$2:$L3,L3) -> Edinburgh AC2 | L3: 1 | M3: Josh Daunt | O3: =1+O2 -> 2 | P3: =VLOOKUP(I3,J:M,4,FALSE())&IF(RIGHT(D3,1)="V"," (V)",IF(RIGHT(D3,1)="J"," (J)","")) -> Seb Darlow | Q3: =VLOOKUP(H3,ClubNames,2,FALSE()) -> Team Borders | R3: =TIME(A3,B3,C3) -> 0.013414352
B4: 19 | C4: 23 | D4: 11 | E4: 3 | F4: =Clubs!B5 -> Lothian Running Club | G4: =COUNTIF($H:$H,E4) -> 2 | H4: =IF(OR(RIGHT(D4,1)="V",RIGHT(D4,1)="J"),VALUE(LEFT(D4,LEN(D4)-1)),D4) -> 11 | I4: =Q4&COUNTIF($H$2:$H4,H4) -> Falkirk Victoria Harriers2 | J4: =VLOOKUP(L4,ClubNames,2,FALSE())&COUNTIF($L$2:$L4,L4) -> Edinburgh AC3 | L4: 1 | M4: Reuben Lees | O4: =1+O3 -> 3 | P4: =VLOOKUP(I4,J:M,4,FALSE())&IF(RIGHT(D4,1)="V"," (V)",IF(RIGHT(D4,1)="J"," (J)","")) -> Luke Sedman | Q4: =VLOOKUP(H4,ClubNames,2,FALSE()) -> Falkirk Victoria Harriers | R4: =TIME(A4,B4,C4) -> 0.013460648
B5: 19 | C5: 25 | D5: 29 | E5: 4 | F5: =Clubs!B6 -> Teviotdale Harriers | G5: =COUNTIF($H:$H,E5) -> 0 | H5: =IF(OR(RIGHT(D5,1)="V",RIGHT(D5,1)="J"),VALUE(LEFT(D5,LEN(D5)-1)),D5) -> 29 | I5: =Q5&COUNTIF($H$2:$H5,H5) -> Team Borders2 | J5: =VLOOKUP(L5,ClubNames,2,FALSE())&COUNTIF($L$2:$L5,L5) -> Edinburgh AC4 | L5: 1 | M5: Rory Bryce | O5: =1+O4 -> 4 | P5: =VLOOKUP(I5,J:M,4,FALSE())&IF(RIGHT(D5,1)="V"," (V)",IF(RIGHT(D5,1)="J"," (J)","")) -> Oliver Hastie | Q5: =VLOOKUP(H5,ClubNames,2,FALSE()) -> Team Borders | R5: =TIME(A5,B5,C5) -> 0.013483796
