Workbook

Sheet Clubs
A1: 55 | B1: LastTeamRow
A2: Clubs
A3: 1 | B3: Edinburgh AC | D3: 6 | E3: Aberdeen AAC
A4: 2 | B4: Perth Road Runners | D4: 41 | E4: Anster Haddies Running Club
A5: 3 | B5: Lothian Running Club | D5: 52 | E5: Arbroath & District AAC
A6: 4 | B6: Teviotdale Harriers | D6: 36 | E6: Banchory Stonehaven AC
A7: 5 | B7: Moorfoot Runners | D7: 28 | E7: Carnegie Harriers
A8: 6 | B8: Aberdeen AAC | D8: 21 | E8: Carnethy Hill Racing Club
A9: 7 | B9: Pitreavie AAC | D9: 18 | E9: Central AC
A10: 8 | B10: Fife AC | D10: 31 | E10: Corstorphine AAC
A11: 9 | B11: Not Used | D11: 46 | E11: Deeside Runners
A12: 10 | B12: Edinburgh Univ Hare & Hounds | D12: 48 | E12: Dunbar Running Club
A13: 11 | B13: Falkirk Victoria Harriers | D13: 16 | E13: Dundee Hawkhill Harriers
A14: 12 | B14: Hunters Bog Trotters | D14: 23 | E14: Dundee Road Runners AC
... A55: 53 | B55: Run Livingston | D55: 26 | E55: Wee County Harriers

Sheet U11 Girls
A1: Hr | B1: Min | C1: Sec | D1: Bib No | E1: Club No | F1: Club | G1: Finishers | H1: Team No | I1: Race Finish | J1: Team Finish | L1: Team No | M1: Name | O1: Pos | P1: Name | Q1: Club | R1: Time
B2: 6 | C2: 43 | D2: 36 | E2: =Clubs!A3 -> 1 | F2: =Clubs!B3 -> Edinburgh AC | G2: =COUNTIF($H:$H,E2) -> 4 | H2: =IF(OR(RIGHT(D2,1)="V",RIGHT(D2,1)="J"),VALUE(LEFT(D2,LEN(D2)-1)),D2) -> 36 | I2: =Q2&COUNTIF($H$2:$H2,H2) -> Banchory Stonehaven AC1 | J2: =VLOOKUP(L2,ClubNames,2,FALSE())&COUNTIF($L$2:$L2,L2) -> Edinburgh AC1 | L2: 1 | M2: Allegro Gilmore | O2: 1 | P2: =VLOOKUP(I2,J:M,4,FALSE())&IF(RIGHT(D2,1)="V"," (V)",IF(RIGHT(D2,1)="J"," (J)","")) -> Emily Birnie | Q2: =VLOOKUP(H2,ClubNames,2,FALSE()) -> Banchory Stonehaven AC | R2: =TIME(A2,B2,C2) -> 0.0046643519
B3: 6 | C3: 45 | D3: 18 | E3: =Clubs!A4 -> 2 | F3: =Clubs!B4 -> Perth Road Runners | G3: =COUNTIF($H:$H,E3) -> 0 | H3: =IF(OR(RIGHT(D3,1)="V",RIGHT(D3,1)="J"),VALUE(LEFT(D3,LEN(D3)-1)),D3) -> 18 | I3: =Q3&COUNTIF($H$2:$H3,H3) -> Central AC1 | J3: =VLOOKUP(L3,ClubNames,2,FALSE())&COUNTIF($L$2:$L3,L3) -> Edinburgh AC2 | L3: 1 | M3: Orlaith James | O3: =1+O2 -> 2 | P3: =VLOOKUP(I3,J:M,4,FALSE())&IF(RIGHT(D3,1)="V"," (V)",IF(RIGHT(D3,1)="J"," (J)","")) -> Annie Arnott | Q3: =VLOOKUP(H3,ClubNames,2,FALSE()) -> Central AC | R3: =TIME(A3,B3,C3) -> 0.0046875
B4: 6 | C4: 54 | D4: 27 | E4: =Clubs!A5 -> 3 | F4: =Clubs!B5 -> Lothian Running Club | G4: =COUNTIF($H:$H,E4) -> 1 | H4: =IF(OR(RIGHT(D4,1)="V",RIGHT(D4,1)="J"),VALUE(LEFT(D4,LEN(D4)-1)),D4) -> 27 | I4: =Q4&COUNTIF($H$2:$H4,H4) -> Linlithgow AC1 | J4: =VLOOKUP(L4,ClubNames,2,FALSE())&COUNTIF($L$2:$L4,L4) -> Edinburgh AC3 | L4: 1 | M4: Marika Stawska | O4: =1+O3 -> 3 | P4: =VLOOKUP(I4,J:M,4,FALSE())&IF(RIGHT(D4,1)="V"," (V)",IF(RIGHT(D4,1)="J"," (J)","")) -> Mia Burnett | Q4: =VLOOKUP(H4,ClubNames,2,FALSE()) -> Linlithgow AC | R4: =TIME(A4,B4,C4) -> 0.0047916667
B5: 6 | C5: 58 | D5: 36 | E5: =Clubs!A6 -> 4 | F5: =Clubs!B6 -> Teviotdale Harriers | G5: =COUNTIF($H:$H,E5) -> 1 | H5: =IF(OR(RIGHT(D5,1)="V",RIGHT(D5,1)="J"),VALUE(LEFT(D5,LEN(D5)-1)),D5) -> 36 | I5: =Q5&COUNTIF($H$2:$H5,H5) -> Banchory Stonehaven AC2 | J5: =VLOOKUP(L5,ClubNames,2,FALSE())&COUNTIF($L$2:$L5,L5) -> Edinburgh AC4 | L5: 1 | M5: Marta Corda | O5: =1+O4 -> 4 | P5: =VLOOKUP(I5,J:M,4,FALSE())&IF(RIGHT(D5,1)="V"," (V)",IF(RIGHT(D5,1)="J"," (J)","")) -> Ella Sharples | Q5: =VLOOKUP(H5,ClubNames,2,FALSE()) -> Banchory Stonehaven AC | R5: =TIME(A5,B5,C5) -> 0.004837963
B6: 7 | C6: 1 | D6: 40 | E6: =Clubs!A7 -> 5 | F6: =Clubs!B7 -> Moorfoot Runners | G6: =COUNTIF($H:$H,E6) -> 0 | H6: =IF(OR(RIGHT(D6,1)="V",RIGHT(D6,1)="J"),VALUE(LEFT(D6,LEN(D6)-1)),D6) -> 40 | I6: =Q6&COUNTIF($H$2:$H6,H6) -> Team East Lothian1 | J6: =VLOOKUP(L6,ClubNames,2,FALSE())&COUNTIF($L$2:$L6,L6) -> Lothian Running Club1 | L6: 3 | M6: Aria Watson | O6: =1+O5 -> 5 | P6: =VLOOKUP(I6,J:M,4,FALSE())&IF(RIGHT(D6,1)="V"," (V)",IF(RIGHT(D6,1)="J"," (J)","")) -> Sophie Skeen | Q6: =VLOOKUP(H6,ClubNames,2,FALSE()) -> Team East Lothian | R6: =TIME(A6,B6,C6) -> 0.0048726852
B7: 7 | C7: 12 | D7: 39 | E7: =Clubs!A8 -> 6 | F7: =Clubs!B8 -> Aberdeen AAC | G7: =COUNTIF($H:$H,E7) -> 3 | H7: =IF(OR(RIGHT(D7,1)="V",RIGHT(D7,1)="J"),VALUE(LEFT(D7,LEN(D7)-1)),D7) -> 39 | I7: =Q7&COUNTIF($H$2:$H7,H7) -> Dunfermline Track & Field AC1 | J7: =VLOOKUP(L7,ClubNames,2,FALSE())&COUNTIF($L$2:$L7,L7) -> Teviotdale Harriers1 | L7: 4 | M7: Freya Michie | O7: =1+O6 -> 6 | P7: =VLOOKUP(I7,J:M,4,FALSE())&IF(RIGHT(D7,1)="V"," (V)",IF(RIGHT(D7,1)="J"," (J)","")) -> Phoebe Jones | Q7: =VLOOKUP(H7,ClubNames,2,FALSE()) -> Dunfermline Track & Field AC | R7: =TIME(A7,B7,C7) -> 0.005
B8: 7 | C8: 14 | D8: 27 | E8: =Clubs!A9 -> 7 | F8: =Clubs!B9 -> Pitreavie AAC | G8: =COUNTIF($H:$H,E8) -> 1 | H8: =IF(OR(RIGHT(D8,1)="V",RIGHT(D8,1)="J"),VALUE(LEFT(D8,LEN(D8)-1)),D8) -> 27 | I8: =Q8&COUNTIF($H$2:$H8,H8) -> Linlithgow AC2 | J8: =VLOOKUP(L8,ClubNames,2,FALSE())&COUNTIF($L$2:$L8,L8) -> Aberdeen AAC1 | L8: 6 | M8: Amy Miller | O8: =1+O7 -> 7 | P8: =VLOOKUP(I8,J:M,4,FALSE())&IF(RIGHT(D8,1)="V"," (V)",IF(RIGHT(D8,1)="J"," (J)","")) -> Akira Nagda | Q8: =VLOOKUP(H8,ClubNames,2,FALSE()) -> Linlithgow AC | R8: =TIME(A8,B8,C8) -> 0.0050231481
B9: 7 | C9: 16 | D9: 20 | E9: =Clubs!A10 -> 8 | F9: =Clubs!B10 -> Fife AC | G9: =COUNTIF($H:$H,E9) -> 0 | H9: =IF(OR(RIGHT(D9,1)="V",RIGHT(D9,1)="J"),VALUE(LEFT(D9,LEN(D9)-1)),D9) -> 20 | I9: =Q9&COUNTIF($H$2:$H9,H9) -> Harmeny AAC1 | J9: =VLOOKUP(L9,ClubNames,2,FALSE())&COUNTIF($L$2:$L9,L9) -> Aberdeen AAC2 | L9: 6 | M9: Anna Ramsay | O9: =1+O8 -> 8 | P9: =VLOOKUP(I9,J:M,4,FALSE())&IF(RIGHT(D9,1)="V"," (V)",IF(RIGHT(D9,1)="J"," (J)","")) -> Anna Dailly | Q9: =VLOOKUP(H9,ClubNames,2,FALSE()) -> Harmeny AAC | R9: =TIME(A9,B9,C9) -> 0.0050462963
B10: 7 | C10: 18 | D10: 36 | E10: =Clubs!A11 -> 9 | F10: =Clubs!B11 -> Not Used | G10: =COUNTIF($H:$H,E10) -> 0 | H10: =IF(OR(RIGHT(D10,1)="V",RIGHT(D10,1)="J"),VALUE(LEFT(D10,LEN(D10)-1)),D10) -> 36 | I10: =Q10&COUNTIF($H$2:$H10,H10) -> Banchory Stonehaven AC3 | J10: =VLOOKUP(L10,ClubNames,2,FALSE())&COUNTIF($L$2:$L10,L10) -> Aberdeen AAC3 | L10: 6 | M10: Havana Bowie | O10: =1+O9 -> 9 | P10: =VLOOKUP(I10,J:M,4,FALSE())&IF(RIGHT(D10,1)="V"," (V)",IF(RIGHT(D10,1)="J"," (J)","")) -> Annabel Lever | Q10: =VLOOKUP(H10,ClubNames,2,FALSE()) -> Banchory Stonehaven AC | R10: =TIME(A10,B10,C10) -> 0.0050694444
B11: 7 | C11: 21 | D11: 51 | E11: =Clubs!A12 -> 10 | F11: =Clubs!B12 -> Edinburgh Univ Hare & Hounds | G11: =COUNTIF($H:$H,E11) -> 0 | H11: =IF(OR(RIGHT(D11,1)="V",RIGHT(D11,1)="J"),VALUE(LEFT(D11,LEN(D11)-1)),D11) -> 51 | I11: =Q11&COUNTIF($H$2:$H11,H11) -> Haddington Running Club1 | J11: =VLOOKUP(L11,ClubNames,2,FALSE())&COUNTIF($L$2:$L11,L11) -> Pitreavie AAC1 | L11: 7 | M11: Esme Wilson | O11: =1+O10 -> 10 | P11: =VLOOKUP(I11,J:M,4,FALSE())&IF(RIGHT(D11,1)="V"," (V)",IF(RIGHT(D11,1)="J"," (J)","")) -> Natalie Perry | Q11: =VLOOKUP(H11,ClubNames,2,FALSE()) -> Haddington Running Club | R11: =TIME(A11,B11,C11) -> 0.0051041667
B12: 7 | C12: 21 | D12: 4 | E12: =Clubs!A13 -> 11 | F12: =Clubs!B13 -> Falkirk Victoria Harriers | G12: =COUNTIF($H:$H,E12) -> 4 | H12: =IF(OR(RIGHT(D12,1)="V",RIGHT(D12,1)="J"),VALUE(LEFT(D12,LEN(D12)-1)),D12) -> 4 | I12: =Q12&COUNTIF($H$2:$H12,H12) -> Teviotdale Harriers1 | J12: =VLOOKUP(L12,ClubNames,2,FALSE())&COUNTIF($L$2:$L12,L12) -> Falkirk Victoria Harriers1 | L12: 11 | M12: Emelia Don | O12: =1+O11 -> 11 | P12: =VLOOKUP(I12,J:M,4,FALSE())&IF(RIGHT(D12,1)="V"," (V)",IF(RIGHT(D12,1)="J"," (J)","")) -> Freya Michie | Q12: =VLOOKUP(H12,ClubNames,2,FALSE()) -> Teviotdale Harriers | R12: =TIME(A12,B12,C12) -> 0.0051041667
B13: 7 | C13: 24 | D13: 31 | E13: =Clubs!A14 -> 12 | F13: =Clubs!B14 -> Hunters Bog Trotters | G13: =COUNTIF($H:$H,E13) -> 0 | H13: =IF(OR(RIGHT(D13,1)="V",RIGHT(D13,1)="J"),VALUE(LEFT(D13,LEN(D13)-1)),D13) -> 31 | I13: =Q13&COUNTIF($H$2:$H13,H13) -> Corstorphine AAC1 | J13: =VLOOKUP(L13,ClubNames,2,FALSE())&COUNTIF($L$2:$L13,L13) -> Falkirk Victoria Harriers2 | L13: 11 | M13: Anna-Leigh Meaney | O13: =1+O12 -> 12 | P13: =VLOOKUP(I13,J:M,4,FALSE())&IF(RIGHT(D13,1)="V"," (V)",IF(RIGHT(D13,1)="J"," (J)","")) -> Isla Jumelle | Q13: =VLOOKUP(H13,ClubNames,2,FALSE()) -> Corstorphine AAC | R13: =TIME(A13,B13,C13) -> 0.0051388889
B14: 7 | C14: 25 | D14: 20 | E14: =Clubs!A15 -> 13 | F14: =Clubs!B15 -> Gala Harriers | G14: =COUNTIF($H:$H,E14) -> 0 | H14: =IF(OR(RIGHT(D14,1)="V",RIGHT(D14,1)="J"),VALUE(LEFT(D14,LEN(D14)-1)),D14) -> 20 | I14: =Q14&COUNTIF($H$2:$H14,H14) -> Harmeny AAC2 | J14: =VLOOKUP(L14,ClubNames,2,FALSE())&COUNTIF($L$2:$L14,L14) -> Falkirk Victoria Harriers3 | L14: 11 | M14: Tess Rennie | O14: =1+O13 -> 13 | P14: =VLOOKUP(I14,J:M,4,FALSE())&IF(RIGHT(D14,1)="V"," (V)",IF(RIGHT(D14,1)="J"," (J)","")) -> Francesca Queen | Q14: =VLOOKUP(H14,ClubNames,2,FALSE()) -> Harmeny AAC | R14: =TIME(A14,B14,C14) -> 0.005150463
... B50: 8 | C50: 51 | D50: 11 | E50: =Clubs!A51 -> 49 | F50: =Clubs!B51 -> Lauderdale Limpers | G50: =COUNTIF($H:$H,E50) -> 0 | H50: =IF(OR(RIGHT(D50,1)="V",RIGHT(D50,1)="J"),VALUE(LEFT(D50,LEN(D50)-1)),D50) -> 11 | I50: =Q50&COUNTIF($H$2:$H50,H50) -> Falkirk Victoria Harriers4 | J50: =VLOOKUP(L50,ClubNames,2,FALSE())&COUNTIF($L$2:$L50,L50) -> Banchory Stonehaven AC1 | L50: 36 | M50: Emily Birnie | O50: =1+O49 -> 49 | P50: =VLOOKUP(I50,J:M,4,FALSE())&IF(RIGHT(D50,1)="V"," (V)",IF(RIGHT(D50,1)="J"," (J)","")) -> Rowen Coulter | Q50: =VLOOKUP(H50,ClubNames,2,FALSE()) -> Falkirk Victoria Harriers | R50: =TIME(A50,B50,C50) -> 0.0061458333
B51: 8 | C51: 53 | D51: 32 | E51: =Clubs!A52 -> 50 | F51: =Clubs!B52 -> Stirling University AC | G51: =COUNTIF($H:$H,E51) -> 0 | H51: =IF(OR(RIGHT(D51,1)="V",RIGHT(D51,1)="J"),VALUE(LEFT(D51,LEN(D51)-1)),D51) -> 32 | I51: =Q51&COUNTIF($H$2:$H51,H51) -> Lasswade AAC2 | J51: =VLOOKUP(L51,ClubNames,2,FALSE())&COUNTIF($L$2:$L51,L51) -> Banchory Stonehaven AC2 | L51: 36 | M51: Ella Sharples | O51: 50 | P51: =VLOOKUP(I51,J:M,4,FALSE())&IF(RIGHT(D51,1)="V"," (V)",IF(RIGHT(D51,1)="J"," (J)","")) -> Katie Houston | Q51: =VLOOKUP(H51,ClubNames,2,FALSE()) -> Lasswade AAC | R51: =TIME(A51,B51,C51) -> 0.0061689815
B52: 8 | C52: 55 | D52: 17 | E52: =Clubs!A53 -> 51 | F52: =Clubs!B53 -> Haddington Running Club | G52: =COUNTIF($H:$H,E52) -> 1 | H52: =IF(OR(RIGHT(D52,1)="V",RIGHT(D52,1)="J"),VALUE(LEFT(D52,LEN(D52)-1)),D52) -> 17 | I52: =Q52&COUNTIF($H$2:$H52,H52) -> George Heriots School2 | J52: =VLOOKUP(L52,ClubNames,2,FALSE())&COUNTIF($L$2:$L52,L52) -> Banchory Stonehaven AC3 | L52: 36 | M52: Annabel Lever | O52: 51 | P52: =VLOOKUP(I52,J:M,4,FALSE())&IF(RIGHT(D52,1)="V"," (V)",IF(RIGHT(D52,1)="J"," (J)","")) -> Elyse Merck | Q52: =VLOOKUP(H52,ClubNames,2,FALSE()) -> George Heriots School | R52: =TIME(A52,B52,C52) -> 0.0061921296
B53: 9 | C53: 4 | D53: 31 | E53: =Clubs!A54 -> 52 | F53: =Clubs!B54 -> Arbroath & District AAC | G53: =COUNTIF($H:$H,E53) -> 0 | H53: =IF(OR(RIGHT(D53,1)="V",RIGHT(D53,1)="J"),VALUE(LEFT(D53,LEN(D53)-1)),D53) -> 31 | I53: =Q53&COUNTIF($H$2:$H53,H53) -> Corstorphine AAC3 | J53: =VLOOKUP(L53,ClubNames,2,FALSE())&COUNTIF($L$2:$L53,L53) -> Dunfermline Track & Field AC1 | L53: 39 | M53: Phoebe Jones | O53: 52 | P53: =VLOOKUP(I53,J:M,4,FALSE())&IF(RIGHT(D53,1)="V"," (V)",IF(RIGHT(D53,1)="J"," (J)","")) -> Emie Whelan | Q53: =VLOOKUP(H53,ClubNames,2,FALSE()) -> Corstorphine AAC | R53: =TIME(A53,B53,C53) -> 0.0062962963
B54: 9 | C54: 8 | D54: 1 | E54: =Clubs!A55 -> 53 | F54: =Clubs!B55 -> Run Livingston | G54: =COUNTIF($H:$H,E54) -> 0 | H54: =IF(OR(RIGHT(D54,1)="V",RIGHT(D54,1)="J"),VALUE(LEFT(D54,LEN(D54)-1)),D54) -> 1 | I54: =Q54&COUNTIF($H$2:$H54,H54) -> Edinburgh AC3 | J54: =VLOOKUP(L54,ClubNames,2,FALSE())&COUNTIF($L$2:$L54,L54) -> Dunfermline Track & Field AC2 | L54: 39 | M54: Blake Sharp | O54: 53 | P54: =VLOOKUP(I54,J:M,4,FALSE())&IF(RIGHT(D54,1)="V"," (V)",IF(RIGHT(D54,1)="J"," (J)","")) -> Marika Stawska | Q54: =VLOOKUP(H54,ClubNames,2,FALSE()) -> Edinburgh AC | R54: =TIME(A54,B54,C54) -> 0.0063425926
B55: 9 | C55: 8 | D55: 1 | H55: =IF(OR(RIGHT(D55,1)="V",RIGHT(D55,1)="J"),VALUE(LEFT(D55,LEN(D55)-1)),D55) -> 1 | I55: =Q55&COUNTIF($H$2:$H55,H55) -> Edinburgh AC4 | J55: =VLOOKUP(L55,ClubNames,2,FALSE())&COUNTIF($L$2:$L55,L55) -> Dunfermline Track & Field AC3 | L55: 39 | M55: Mara Lowe | O55: 54 | P55: =VLOOKUP(I55,J:M,4,FALSE())&IF(RIGHT(D55,1)="V"," (V)",IF(RIGHT(D55,1)="J"," (J)","")) -> Marta Corda | Q55: =VLOOKUP(H55,ClubNames,2,FALSE()) -> Edinburgh AC | R55: =TIME(A55,B55,C55) -> 0.0063425926
B56: 9 | C56: 28 | D56: 3 | H56: =IF(OR(RIGHT(D56,1)="V",RIGHT(D56,1)="J"),VALUE(LEFT(D56,LEN(D56)-1)),D56) -> 3 | I56: =Q56&COUNTIF($H$2:$H56,H56) -> Lothian Running Club1 | J56: =VLOOKUP(L56,ClubNames,2,FALSE())&COUNTIF($L$2:$L56,L56) -> Team East Lothian1 | L56: 40 | M56: Sophie Skeen | O56: 55 | P56: =VLOOKUP(I56,J:M,4,FALSE())&IF(RIGHT(D56,1)="V"," (V)",IF(RIGHT(D56,1)="J"," (J)","")) -> Aria Watson | Q56: =VLOOKUP(H56,ClubNames,2,FALSE()) -> Lothian Running Club | R56: =TIME(A56,B56,C56) -> 0.0065740741
B57: 9 | C57: 32 | D57: 16 | H57: =IF(OR(RIGHT(D57,1)="V",RIGHT(D57,1)="J"),VALUE(LEFT(D57,LEN(D57)-1)),D57) -> 16 | I57: =Q57&COUNTIF($H$2:$H57,H57) -> Dundee Hawkhill Harriers2 | J57: =VLOOKUP(L57,ClubNames,2,FALSE())&COUNTIF($L$2:$L57,L57) -> Montrose and District AC1 | L57: 44 | M57: Nyla Aitken | O57: 56 | P57: =VLOOKUP(I57,J:M,4,FALSE())&IF(RIGHT(D57,1)="V"," (V)",IF(RIGHT(D57,1)="J"," (J)","")) -> Guiliana Gibson | Q57: =VLOOKUP(H57,ClubNames,2,FALSE()) -> Dundee Hawkhill Harriers | R57: =TIME(A57,B57,C57) -> 0.0066203704
B58: 11 | C58: 30 | D58: 27 | H58: =IF(OR(RIGHT(D58,1)="V",RIGHT(D58,1)="J"),VALUE(LEFT(D58,LEN(D58)-1)),D58) -> 27 | I58: =Q58&COUNTIF($H$2:$H58,H58) -> Linlithgow AC4 | J58: =VLOOKUP(L58,ClubNames,2,FALSE())&COUNTIF($L$2:$L58,L58) -> Haddington Running Club1 | L58: 51 | M58: Natalie Perry | O58: 57 | P58: =VLOOKUP(I58,J:M,4,FALSE())&IF(RIGHT(D58,1)="V"," (V)",IF(RIGHT(D58,1)="J"," (J)","")) -> Imogen Holm | Q58: =VLOOKUP(H58,ClubNames,2,FALSE()) -> Linlithgow AC | R58: =TIME(A58,B58,C58) -> 0.0079861111
H59: =IF(OR(RIGHT(D59,1)="V",RIGHT(D59,1)="J"),VALUE(LEFT(D59,LEN(D59)-1)),D59) -> 0 | I59: =Q59&COUNTIF($H$2:$H59,H59) -> #N/A | J59: =VLOOKUP(L59,ClubNames,2,FALSE())&COUNTIF($L$2:$L59,L59) -> #N/A | O59: 58 | P59: =VLOOKUP(I59,J:M,4,FALSE())&IF(RIGHT(D59,1)="V"," (V)",IF(RIGHT(D59,1)="J"," (J)","")) -> #N/A | Q59: =VLOOKUP(H59,ClubNames,2,FALSE()) -> #N/A | R59: =TIME(A59,B59,C59) -> 0
H60: =IF(OR(RIGHT(D60,1)="V",RIGHT(D60,1)="J"),VALUE(LEFT(D60,LEN(D60)-1)),D60) -> 0 | I60: =Q60&COUNTIF($H$2:$H60,H60) -> #N/A | J60: =VLOOKUP(L60,ClubNames,2,FALSE())&COUNTIF($L$2:$L60,L60) -> #N/A | O60: 59 | P60: =VLOOKUP(I60,J:M,4,FALSE())&IF(RIGHT(D60,1)="V"," (V)",IF(RIGHT(D60,1)="J"," (J)","")) -> #N/A | Q60: =VLOOKUP(H60,ClubNames,2,FALSE()) -> #N/A | R60: =TIME(A60,B60,C60) -> 0
H61: =IF(OR(RIGHT(D61,1)="V",RIGHT(D61,1)="J"),VALUE(LEFT(D61,LEN(D61)-1)),D61) -> 0 | I61: =Q61&COUNTIF($H$2:$H61,H61) -> #N/A | J61: =VLOOKUP(L61,ClubNames,2,FALSE())&COUNTIF($L$2:$L61,L61) -> #N/A | O61: 60 | P61: =VLOOKUP(I61,J:M,4,FALSE())&IF(RIGHT(D61,1)="V"," (V)",IF(RIGHT(D61,1)="J"," (J)","")) -> #N/A | Q61: =VLOOKUP(H61,ClubNames,2,FALSE()) -> #N/A | R61: =TIME(A61,B61,C61) -> 0
H62: =IF(OR(RIGHT(D62,1)="V",RIGHT(D62,1)="J"),VALUE(LEFT(D62,LEN(D62)-1)),D62) -> 0 | I62: =Q62&COUNTIF($H$2:$H62,H62) -> #N/A | J62: =VLOOKUP(L62,ClubNames,2,FALSE())&COUNTIF($L$2:$L62,L62) -> #N/A | O62: 61 | P62: =VLOOKUP(I62,J:M,4,FALSE())&IF(RIGHT(D62,1)="V"," (V)",IF(RIGHT(D62,1)="J"," (J)","")) -> #N/A | Q62: =VLOOKUP(H62,ClubNames,2,FALSE()) -> #N/A | R62: =TIME(A62,B62,C62) -> 0
H63: =IF(OR(RIGHT(D63,1)="V",RIGHT(D63,1)="J"),VALUE(LEFT(D63,LEN(D63)-1)),D63) -> 0 | I63: =Q63&COUNTIF($H$2:$H63,H63) -> #N/A | J63: =VLOOKUP(L63,ClubNames,2,FALSE())&COUNTIF($L$2:$L63,L63) -> #N/A | O63: 62 | P63: =VLOOKUP(I63,J:M,4,FALSE())&IF(RIGHT(D63,1)="V"," (V)",IF(RIGHT(D63,1)="J"," (J)","")) -> #N/A | Q63: =VLOOKUP(H63,ClubNames,2,FALSE()) -> #N/A | R63: =TIME(A63,B63,C63) -> 0
H64: =IF(OR(RIGHT(D64,1)="V",RIGHT(D64,1)="J"),VALUE(LEFT(D64,LEN(D64)-1)),D64) -> 0 | I64: =Q64&COUNTIF($H$2:$H64,H64) -> #N/A | J64: =VLOOKUP(L64,ClubNames,2,FALSE())&COUNTIF($L$2:$L64,L64) -> #N/A | O64: 63 | P64: =VLOOKUP(I64,J:M,4,FALSE())&IF(RIGHT(D64,1)="V"," (V)",IF(RIGHT(D64,1)="J"," (J)","")) -> #N/A | Q64: =VLOOKUP(H64,ClubNames,2,FALSE()) -> #N/A | R64: =TIME(A64,B64,C64) -> 0
H65: =IF(OR(RIGHT(D65,1)="V",RIGHT(D65,1)="J"),VALUE(LEFT(D65,LEN(D65)-1)),D65) -> 0 | I65: =Q65&COUNTIF($H$2:$H65,H65) -> #N/A | J65: =VLOOKUP(L65,ClubNames,2,FALSE())&COUNTIF($L$2:$L65,L65) -> #N/A | O65: 64 | P65: =VLOOKUP(I65,J:M,4,FALSE())&IF(RIGHT(D65,1)="V"," (V)",IF(RIGHT(D65,1)="J"," (J)","")) -> #N/A | Q65: =VLOOKUP(H65,ClubNames,2,FALSE()) -> #N/A | R65: =TIME(A65,B65,C65) -> 0
H66: =IF(OR(RIGHT(D66,1)="V",RIGHT(D66,1)="J"),VALUE(LEFT(D66,LEN(D66)-1)),D66) -> 0 | I66: =Q66&COUNTIF($H$2:$H66,H66) -> #N/A | J66: =VLOOKUP(L66,ClubNames,2,FALSE())&COUNTIF($L$2:$L66,L66) -> #N/A | O66: 65 | P66: =VLOOKUP(I66,J:M,4,FALSE())&IF(RIGHT(D66,1)="V"," (V)",IF(RIGHT(D66,1)="J"," (J)","")) -> #N/A | Q66: =VLOOKUP(H66,ClubNames,2,FALSE()) -> #N/A | R66: =TIME(A66,B66,C66) -> 0
H67: =IF(OR(RIGHT(D67,1)="V",RIGHT(D67,1)="J"),VALUE(LEFT(D67,LEN(D67)-1)),D67) -> 0 | I67: =Q67&COUNTIF($H$2:$H67,H67) -> #N/A | J67: =VLOOKUP(L67,ClubNames,2,FALSE())&COUNTIF($L$2:$L67,L67) -> #N/A | O67: 66 | P67: =VLOOKUP(I67,J:M,4,FALSE())&IF(RIGHT(D67,1)="V"," (V)",IF(RIGHT(D67,1)="J"," (J)","")) -> #N/A | Q67: =VLOOKUP(H67,ClubNames,2,FALSE()) -> #N/A | R67: =TIME(A67,B67,C67) -> 0
H68: =IF(OR(RIGHT(D68,1)="V",RIGHT(D68,1)="J"),VALUE(LEFT(D68,LEN(D68)-1)),D68) -> 0 | I68: =Q68&COUNTIF($H$2:$H68,H68) -> #N/A | J68: =VLOOKUP(L68,ClubNames,2,FALSE())&COUNTIF($L$2:$L68,L68) -> #N/A | O68: 67 | P68: =VLOOKUP(I68,J:M,4,FALSE())&IF(RIGHT(D68,1)="V"," (V)",IF(RIGHT(D68,1)="J"," (J)","")) -> #N/A | Q68: =VLOOKUP(H68,ClubNames,2,FALSE()) -> #N/A | R68: =TIME(A68,B68,C68) -> 0
H69: =IF(OR(RIGHT(D69,1)="V",RIGHT(D69,1)="J"),VALUE(LEFT(D69,LEN(D69)-1)),D69) -> 0 | I69: =Q69&COUNTIF($H$2:$H69,H69) -> #N/A | J69: =VLOOKUP(L69,ClubNames,2,FALSE())&COUNTIF($L$2:$L69,L69) -> #N/A | O69: 68 | P69: =VLOOKUP(I69,J:M,4,FALSE())&IF(RIGHT(D69,1)="V"," (V)",IF(RIGHT(D69,1)="J"," (J)","")) -> #N/A | Q69: =VLOOKUP(H69,ClubNames,2,FALSE()) -> #N/A | R69: =TIME(A69,B69,C69) -> 0
H70: =IF(OR(RIGHT(D70,1)="V",RIGHT(D70,1)="J"),VALUE(LEFT(D70,LEN(D70)-1)),D70) -> 0 | I70: =Q70&COUNTIF($H$2:$H70,H70) -> #N/A | J70: =VLOOKUP(L70,ClubNames,2,FALSE())&COUNTIF($L$2:$L70,L70) -> #N/A | O70: 69 | P70: =VLOOKUP(I70,J:M,4,FALSE())&IF(RIGHT(D70,1)="V"," (V)",IF(RIGHT(D70,1)="J"," (J)","")) -> #N/A | Q70: =VLOOKUP(H70,ClubNames,2,FALSE()) -> #N/A | R70: =TIME(A70,B70,C70) -> 0
... H142: =IF(OR(RIGHT(D142,1)="V",RIGHT(D142,1)="J"),VALUE(LEFT(D142,LEN(D142)-1)),D142) -> 0 | I142: =Q142&COUNTIF($H$2:$H142,H142) -> #N/A | J142: =VLOOKUP(L142,ClubNames,2,FALSE())&COUNTIF($L$2:$L142,L142) -> #N/A | O142: 141 | P142: =VLOOKUP(I142,J:M,4,FALSE())&IF(RIGHT(D142,1)="V"," (V)",IF(RIGHT(D142,1)="J"," (J)","")) -> #N/A | Q142: =VLOOKUP(H142,ClubNames,2,FALSE()) -> #N/A | R142: =TIME(A142,B142,C142) -> 0
H143: =IF(OR(RIGHT(D143,1)="V",RIGHT(D143,1)="J"),VALUE(LEFT(D143,LEN(D143)-1)),D143) -> 0 | I143: =Q143&COUNTIF($H$2:$H143,H143) -> #N/A | J143: =VLOOKUP(L143,ClubNames,2,FALSE())&COUNTIF($L$2:$L143,L143) -> #N/A | O143: 142 | P143: =VLOOKUP(I143,J:M,4,FALSE()) -> #N/A | Q143: =VLOOKUP(H143,ClubNames,2,FALSE()) -> #N/A | R143: =TIME(A143,B143,C143) -> 0
H144: =IF(OR(RIGHT(D144,1)="V",RIGHT(D144,1)="J"),VALUE(LEFT(D144,LEN(D144)-1)),D144) -> 0 | I144: =Q144&COUNTIF($H$2:$H144,H144) -> #N/A | J144: =VLOOKUP(L144,ClubNames,2,FALSE())&COUNTIF($L$2:$L144,L144) -> #N/A | O144: 143 | P144: =VLOOKUP(I144,J:M,4,FALSE()) -> #N/A | Q144: =VLOOKUP(H144,ClubNames,2,FALSE()) -> #N/A | R144: =TIME(A144,B144,C144) -> 0
H145: =IF(OR(RIGHT(D145,1)="V",RIGHT(D145,1)="J"),VALUE(LEFT(D145,LEN(D145)-1)),D145) -> 0 | I145: =Q145&COUNTIF($H$2:$H145,H145) -> #N/A | J145: =VLOOKUP(L145,ClubNames,2,FALSE())&COUNTIF($L$2:$L145,L145) -> #N/A | O145: 144 | P145: =VLOOKUP(I145,J:M,4,FALSE()) -> #N/A | Q145: =VLOOKUP(H145,ClubNames,2,FALSE()) -> #N/A | R145: =TIME(A145,B145,C145) -> 0
H146: =IF(OR(RIGHT(D146,1)="V",RIGHT(D146,1)="J"),VALUE(LEFT(D146,LEN(D146)-1)),D146) -> 0 | I146: =Q146&COUNTIF($H$2:$H146,H146) -> #N/A | J146: =VLOOKUP(L146,ClubNames,2,FALSE())&COUNTIF($L$2:$L146,L146) -> #N/A | O146: 145 | P146: =VLOOKUP(I146,J:M,4,FALSE()) -> #N/A | Q146: =VLOOKUP(H146,ClubNames,2,FALSE()) -> #N/A | R146: =TIME(A146,B146,C146) -> 0
...

Sheet U13 Girls
A1: Hr | C1: Sec | D1: Bib No | F1: Club | G1: Finishers | H1: Team No | I1: Race Finish | J1: Team Finish | L1: Team No | M1: Name | O1: Pos | P1: Name | Q1: Club | R1: Time
B2: 11 | C2: 12 | D2: 29 | E2: =Clubs!A3 -> 1 | F2: =Clubs!B3 -> Edinburgh AC | G2: =COUNTIF($H:$H,E2) -> 8 | H2: =IF(OR(RIGHT(D2,1)="V",RIGHT(D2,1)="J"),VALUE(LEFT(D2,LEN(D2)-1)),D2) -> 29 | I2: =Q2&COUNTIF($H$2:$H2,H2) -> Team Borders1 | J2: =VLOOKUP(L2,ClubNames,2,FALSE())&COUNTIF($L$2:$L2,L2) -> Edinburgh AC1 | L2: 1 | M2: Maisie Brown | O2: 1 | P2: =VLOOKUP(I2,J:M,4,FALSE())&IF(RIGHT(D2,1)="V"," (V)",IF(RIGHT(D2,1)="J"," (J)","")) -> Rose Davidson | Q2: =VLOOKUP(H2,ClubNames,2,FALSE()) -> Team Borders | R2: =TIME(A2,B2,C2) -> 0.0077777778
B3: 11 | C3: 25 | D3: 30 | E3: =Clubs!A4 -> 2 | F3: =Clubs!B4 -> Perth Road Runners | G3: =COUNTIF($H:$H,E3) -> 0 | H3: =IF(OR(RIGHT(D3,1)="V",RIGHT(D3,1)="J"),VALUE(LEFT(D3,LEN(D3)-1)),D3) -> 30 | I3: =Q3&COUNTIF($H$2:$H3,H3) -> Perth Strathtay Harriers1 | J3: =VLOOKUP(L3,ClubNames,2,FALSE())&COUNTIF($L$2:$L3,L3) -> Edinburgh AC2 | L3: 1 | M3: Callie Craig | O3: =1+O2 -> 2 | P3: =VLOOKUP(I3,J:M,4,FALSE())&IF(RIGHT(D3,1)="V"," (V)",IF(RIGHT(D3,1)="J"," (J)","")) -> Gabi Whyte | Q3: =VLOOKUP(H3,ClubNames,2,FALSE()) -> Perth Strathtay Harriers | R3: =TIME(A3,B3,C3) -> 0.0079282407
B4: 11 | C4: 30 | D4: 20 | E4: =Clubs!A5 -> 3 | F4: =Clubs!B5 -> Lothian Running Club | G4: =COUNTIF($H:$H,E4) -> 2 | H4: =IF(OR(RIGHT(D4,1)="V",RIGHT(D4,1)="J"),VALUE(LEFT(D4,LEN(D4)-1)),D4) -> 20 | I4: =Q4&COUNTIF($H$2:$H4,H4) -> Harmeny AAC1 | J4: =VLOOKUP(L4,ClubNames,2,FALSE())&COUNTIF($L$2:$L4,L4) -> Edinburgh AC3 | L4: 1 | M4: Charlotte Greenshields | O4: =1+O3 -> 3 | P4: =VLOOKUP(I4,J:M,4,FALSE())&IF(RIGHT(D4,1)="V"," (V)",IF(RIGHT(D4,1)="J"," (J)","")) -> Isobel Patterson | Q4: =VLOOKUP(H4,ClubNames,2,FALSE()) -> Harmeny AAC | R4: =TIME(A4,B4,C4) -> 0.0079861111
B5: 11 | C5: 33 | D5: 29 | E5: =Clubs!A6 -> 4 | F5: =Clubs!B6 -> Teviotdale Harriers | G5: =COUNTIF($H:$H,E5) -> 2 | H5: =IF(OR(RIGHT(D5,1)="V",RIGHT(D5,1)="J"),VALUE(LEFT(D5,LEN(D5)-1)),D5) -> 29 | I5: =Q5&COUNTIF($H$2:$H5,H5) -> Team Borders2 | J5: =VLOOKUP(L5,ClubNames,2,FALSE())&COUNTIF($L$2:$L5,L5) -> Edinburgh AC4 | L5: 1 | M5: Annie Whale | O5: =1+O4 -> 4 | P5: =VLOOKUP(I5,J:M,4,FALSE())&IF(RIGHT(D5,1)="V"," (V)",IF(RIGHT(D5,1)="J"," (J)","")) -> Molly Trewartha | Q5: =VLOOKUP(H5,ClubNames,2,FALSE()) -> Team Borders | R5: =TIME(A5,B5,C5) -> 0.0080208333
B6: 11 | C6: 40 | D6: 1 | E6: =Clubs!A7 -> 5 | F6: =Clubs!B7 -> Moorfoot Runners | G6: =COUNTIF($H:$H,E6) -> 0 | H6: =IF(OR(RIGHT(D6,1)="V",RIGHT(D6,1)="J"),VALUE(LEFT(D6,LEN(D6)-1)),D6) -> 1 | I6: =Q6&COUNTIF($H$2:$H6,H6) -> Edinburgh AC1 | J6: =VLOOKUP(L6,ClubNames,2,FALSE())&COUNTIF($L$2:$L6,L6) -> Edinburgh AC5 | L6: 1 | M6: Ella Hacket | O6: =1+O5 -> 5 | P6: =VLOOKUP(I6,J:M,4,FALSE())&IF(RIGHT(D6,1)="V"," (V)",IF(RIGHT(D6,1)="J"," (J)","")) -> Maisie Brown | Q6: =VLOOKUP(H6,ClubNames,2,FALSE()) -> Edinburgh AC | R6: =TIME(A6,B6,C6) -> 0.0081018519
B7: 11 | C7: 51 | D7: 30 | E7: =Clubs!A8 -> 6 | F7: =Clubs!B8 -> Aberdeen AAC | G7: =COUNTIF($H:$H,E7) -> 4 | H7: =IF(OR(RIGHT(D7,1)="V",RIGHT(D7,1)="J"),VALUE(LEFT(D7,LEN(D7)-1)),D7) -> 30 | I7: =Q7&COUNTIF($H$2:$H7,H7) -> Perth Strathtay Harriers2 | J7: =VLOOKUP(L7,ClubNames,2,FALSE())&COUNTIF($L$2:$L7,L7) -> Edinburgh AC6 | L7: 1 | M7: Nieve Robertson | O7: =1+O6 -> 6 | P7: =VLOOKUP(I7,J:M,4,FALSE())&IF(RIGHT(D7,1)="V"," (V)",IF(RIGHT(D7,1)="J"," (J)","")) -> Kezi Swift | Q7: =VLOOKUP(H7,ClubNames,2,FALSE()) -> Perth Strathtay Harriers | R7: =TIME(A7,B7,C7) -> 0.0082291667
B8: 11 | C8: 56 | D8: 6 | E8: =Clubs!A9 -> 7 | F8: =Clubs!B9 -> Pitreavie AAC | G8: =COUNTIF($H:$H,E8) -> 2 | H8: =IF(OR(RIGHT(D8,1)="V",RIGHT(D8,1)="J"),VALUE(LEFT(D8,LEN(D8)-1)),D8) -> 6 | I8: =Q8&COUNTIF($H$2:$H8,H8) -> Aberdeen AAC1 | J8: =VLOOKUP(L8,ClubNames,2,FALSE())&COUNTIF($L$2:$L8,L8) -> Edinburgh AC7 | L8: 1 | M8: Annabelle Kennedy | O8: =1+O7 -> 7 | P8: =VLOOKUP(I8,J:M,4,FALSE())&IF(RIGHT(D8,1)="V"," (V)",IF(RIGHT(D8,1)="J"," (J)","")) -> Coco Czekalowska | Q8: =VLOOKUP(H8,ClubNames,2,FALSE()) -> Aberdeen AAC | R8: =TIME(A8,B8,C8) -> 0.008287037
B9: 11 | C9: 59 | D9: 1 | E9: =Clubs!A10 -> 8 | F9: =Clubs!B10 -> Fife AC | G9: =COUNTIF($H:$H,E9) -> 0 | H9: =IF(OR(RIGHT(D9,1)="V",RIGHT(D9,1)="J"),VALUE(LEFT(D9,LEN(D9)-1)),D9) -> 1 | I9: =Q9&COUNTIF($H$2:$H9,H9) -> Edinburgh AC2 | J9: =VLOOKUP(L9,ClubNames,2,FALSE())&COUNTIF($L$2:$L9,L9) -> Edinburgh AC8 | L9: 1 | M9: Ava King | O9: =1+O8 -> 8 | P9: =VLOOKUP(I9,J:M,4,FALSE())&IF(RIGHT(D9,1)="V"," (V)",IF(RIGHT(D9,1)="J"," (J)","")) -> Callie Craig | Q9: =VLOOKUP(H9,ClubNames,2,FALSE()) -> Edinburgh AC | R9: =TIME(A9,B9,C9) -> 0.0083217593
B10: 12 | C10: 0 | D10: 27 | E10: =Clubs!A11 -> 9 | F10: =Clubs!B11 -> Not Used | G10: =COUNTIF($H:$H,E10) -> 0 | H10: =IF(OR(RIGHT(D10,1)="V",RIGHT(D10,1)="J"),VALUE(LEFT(D10,LEN(D10)-1)),D10) -> 27 | I10: =Q10&COUNTIF($H$2:$H10,H10) -> Linlithgow AC1 | J10: =VLOOKUP(L10,ClubNames,2,FALSE())&COUNTIF($L$2:$L10,L10) -> Lothian Running Club1 | L10: 3 | M10: Rachel Collings | O10: =1+O9 -> 9 | P10: =VLOOKUP(I10,J:M,4,FALSE())&IF(RIGHT(D10,1)="V"," (V)",IF(RIGHT(D10,1)="J"," (J)","")) -> Hannah Bogle | Q10: =VLOOKUP(H10,ClubNames,2,FALSE()) -> Linlithgow AC | R10: =TIME(A10,B10,C10) -> 0.0083333333
B11: 12 | C11: 2 | D11: 20 | E11: =Clubs!A12 -> 10 | F11: =Clubs!B12 -> Edinburgh Univ Hare & Hounds | G11: =COUNTIF($H:$H,E11) -> 0 | H11: =IF(OR(RIGHT(D11,1)="V",RIGHT(D11,1)="J"),VALUE(LEFT(D11,LEN(D11)-1)),D11) -> 20 | I11: =Q11&COUNTIF($H$2:$H11,H11) -> Harmeny AAC2 | J11: =VLOOKUP(L11,ClubNames,2,FALSE())&COUNTIF($L$2:$L11,L11) -> Lothian Running Club2 | L11: 3 | M11: Abbie Scott-Telford | O11: =1+O10 -> 10 | P11: =VLOOKUP(I11,J:M,4,FALSE())&IF(RIGHT(D11,1)="V"," (V)",IF(RIGHT(D11,1)="J"," (J)","")) -> Luciana Starkey | Q11: =VLOOKUP(H11,ClubNames,2,FALSE()) -> Harmeny AAC | R11: =TIME(A11,B11,C11) -> 0.0083564815
B12: 12 | C12: 2 | D12: 51 | E12: =Clubs!A13 -> 11 | F12: =Clubs!B13 -> Falkirk Victoria Harriers | G12: =COUNTIF($H:$H,E12) -> 3 | H12: =IF(OR(RIGHT(D12,1)="V",RIGHT(D12,1)="J"),VALUE(LEFT(D12,LEN(D12)-1)),D12) -> 51 | I12: =Q12&COUNTIF($H$2:$H12,H12) -> Haddington Running Club1 | J12: =VLOOKUP(L12,ClubNames,2,FALSE())&COUNTIF($L$2:$L12,L12) -> Teviotdale Harriers1 | L12: 4 | M12: Freya Walker | O12: =1+O11 -> 11 | P12: =VLOOKUP(I12,J:M,4,FALSE())&IF(RIGHT(D12,1)="V"," (V)",IF(RIGHT(D12,1)="J"," (J)","")) -> Eilidh Robson | Q12: =VLOOKUP(H12,ClubNames,2,FALSE()) -> Haddington Running Club | R12: =TIME(A12,B12,C12) -> 0.0083564815
B13: 12 | C13: 10 | D13: 31 | E13: =Clubs!A14 -> 12 | F13: =Clubs!B14 -> Hunters Bog Trotters | G13: =COUNTIF($H:$H,E13) -> 0 | H13: =IF(OR(RIGHT(D13,1)="V",RIGHT(D13,1)="J"),VALUE(LEFT(D13,LEN(D13)-1)),D13) -> 31 | I13: =Q13&COUNTIF($H$2:$H13,H13) -> Corstorphine AAC1 | J13: =VLOOKUP(L13,ClubNames,2,FALSE())&COUNTIF($L$2:$L13,L13) -> Teviotdale Harriers2 | L13: 4 | M13: Amber Smith | O13: =1+O12 -> 12 | P13: =VLOOKUP(I13,J:M,4,FALSE())&IF(RIGHT(D13,1)="V"," (V)",IF(RIGHT(D13,1)="J"," (J)","")) -> Ella Harrison | Q13: =VLOOKUP(H13,ClubNames,2,FALSE()) -> Corstorphine AAC | R13: =TIME(A13,B13,C13) -> 0.0084490741
B14: 12 | C14: 13 | D14: 1 | E14: =Clubs!A15 -> 13 | F14: =Clubs!B15 -> Gala Harriers | G14: =COUNTIF($H:$H,E14) -> 0 | H14: =IF(OR(RIGHT(D14,1)="V",RIGHT(D14,1)="J"),VALUE(LEFT(D14,LEN(D14)-1)),D14) -> 1 | I14: =Q14&COUNTIF($H$2:$H14,H14) -> Edinburgh AC3 | J14: =VLOOKUP(L14,ClubNames,2,FALSE())&COUNTIF($L$2:$L14,L14) -> Aberdeen AAC1 | L14: 6 | M14: Coco Czekalowska | O14: =1+O13 -> 13 | P14: =VLOOKUP(I14,J:M,4,FALSE())&IF(RIGHT(D14,1)="V"," (V)",IF(RIGHT(D14,1)="J"," (J)","")) -> Charlotte Greenshields | Q14: =VLOOKUP(H14,ClubNames,2,FALSE()) -> Edinburgh AC | R14: =TIME(A14,B14,C14) -> 0.0084837963
... B50: 14 | C50: 32 | D50: 24 | E50: =Clubs!A51 -> 49 | F50: =Clubs!B51 -> Lauderdale Limpers | G50: =COUNTIF($H:$H,E50) -> 0 | H50: =IF(OR(RIGHT(D50,1)="V",RIGHT(D50,1)="J"),VALUE(LEFT(D50,LEN(D50)-1)),D50) -> 24 | I50: =Q50&COUNTIF($H$2:$H50,H50) -> Strathearn Harriers3 | J50: =VLOOKUP(L50,ClubNames,2,FALSE())&COUNTIF($L$2:$L50,L50) -> Perth Strathtay Harriers2 | L50: 30 | M50: Kezi Swift | O50: =1+O49 -> 49 | P50: =VLOOKUP(I50,J:M,4,FALSE())&IF(RIGHT(D50,1)="V"," (V)",IF(RIGHT(D50,1)="J"," (J)","")) -> Caitlin Hunter | Q50: =VLOOKUP(H50,ClubNames,2,FALSE()) -> Strathearn Harriers | R50: =TIME(A50,B50,C50) -> 0.010092593
B51: 14 | C51: 32 | D51: 24 | E51: =Clubs!A52 -> 50 | F51: =Clubs!B52 -> Stirling University AC | G51: =COUNTIF($H:$H,E51) -> 0 | H51: =IF(OR(RIGHT(D51,1)="V",RIGHT(D51,1)="J"),VALUE(LEFT(D51,LEN(D51)-1)),D51) -> 24 | I51: =Q51&COUNTIF($H$2:$H51,H51) -> Strathearn Harriers4 | J51: =VLOOKUP(L51,ClubNames,2,FALSE())&COUNTIF($L$2:$L51,L51) -> Perth Strathtay Harriers3 | L51: 30 | M51: Sophie Cassie | O51: 50 | P51: =VLOOKUP(I51,J:M,4,FALSE())&IF(RIGHT(D51,1)="V"," (V)",IF(RIGHT(D51,1)="J"," (J)","")) -> Molly Maskell | Q51: =VLOOKUP(H51,ClubNames,2,FALSE()) -> Strathearn Harriers | R51: =TIME(A51,B51,C51) -> 0.010092593
B52: 14 | C52: 39 | D52: 1 | E52: =Clubs!A53 -> 51 | F52: =Clubs!B53 -> Haddington Running Club | G52: =COUNTIF($H:$H,E52) -> 1 | H52: =IF(OR(RIGHT(D52,1)="V",RIGHT(D52,1)="J"),VALUE(LEFT(D52,LEN(D52)-1)),D52) -> 1 | I52: =Q52&COUNTIF($H$2:$H52,H52) -> Edinburgh AC7 | J52: =VLOOKUP(L52,ClubNames,2,FALSE())&COUNTIF($L$2:$L52,L52) -> Corstorphine AAC1 | L52: 31 | M52: Ella Harrison | O52: 51 | P52: =VLOOKUP(I52,J:M,4,FALSE())&IF(RIGHT(D52,1)="V"," (V)",IF(RIGHT(D52,1)="J"," (J)","")) -> Annabelle Kennedy | Q52: =VLOOKUP(H52,ClubNames,2,FALSE()) -> Edinburgh AC | R52: =TIME(A52,B52,C52) -> 0.010173611
B53: 14 | C53: 47 | D53: 36 | E53: =Clubs!A54 -> 52 | F53: =Clubs!B54 -> Arbroath & District AAC | G53: =COUNTIF($H:$H,E53) -> 0 | H53: =IF(OR(RIGHT(D53,1)="V",RIGHT(D53,1)="J"),VALUE(LEFT(D53,LEN(D53)-1)),D53) -> 36 | I53: =Q53&COUNTIF($H$2:$H53,H53) -> Banchory Stonehaven AC1 | J53: =VLOOKUP(L53,ClubNames,2,FALSE())&COUNTIF($L$2:$L53,L53) -> Corstorphine AAC2 | L53: 31 | M53: Riley Harrison | O53: 52 | P53: =VLOOKUP(I53,J:M,4,FALSE())&IF(RIGHT(D53,1)="V"," (V)",IF(RIGHT(D53,1)="J"," (J)","")) -> Willow Thom | Q53: =VLOOKUP(H53,ClubNames,2,FALSE()) -> Banchory Stonehaven AC | R53: =TIME(A53,B53,C53) -> 0.010266204
B54: 14 | C54: 49 | D54: 24 | E54: =Clubs!A55 -> 53 | F54: =Clubs!B55 -> Run Livingston | G54: =COUNTIF($H:$H,E54) -> 0 | H54: =IF(OR(RIGHT(D54,1)="V",RIGHT(D54,1)="J"),VALUE(LEFT(D54,LEN(D54)-1)),D54) -> 24 | I54: =Q54&COUNTIF($H$2:$H54,H54) -> Strathearn Harriers5 | J54: =VLOOKUP(L54,ClubNames,2,FALSE())&COUNTIF($L$2:$L54,L54) -> Corstorphine AAC3 | L54: 31 | M54: Beth Craigie | O54: 53 | P54: =VLOOKUP(I54,J:M,4,FALSE())&IF(RIGHT(D54,1)="V"," (V)",IF(RIGHT(D54,1)="J"," (J)","")) -> Ivy Salisbury | Q54: =VLOOKUP(H54,ClubNames,2,FALSE()) -> Strathearn Harriers | R54: =TIME(A54,B54,C54) -> 0.010289352
B55: 14 | C55: 51 | D55: 16 | H55: =IF(OR(RIGHT(D55,1)="V",RIGHT(D55,1)="J"),VALUE(LEFT(D55,LEN(D55)-1)),D55) -> 16 | I55: =Q55&COUNTIF($H$2:$H55,H55) -> Dundee Hawkhill Harriers1 | J55: =VLOOKUP(L55,ClubNames,2,FALSE())&COUNTIF($L$2:$L55,L55) -> Corstorphine AAC4 | L55: 31 | M55: Vivienne O'Brien | O55: 54 | P55: =VLOOKUP(I55,J:M,4,FALSE())&IF(RIGHT(D55,1)="V"," (V)",IF(RIGHT(D55,1)="J"," (J)","")) -> Isla Greig | Q55: =VLOOKUP(H55,ClubNames,2,FALSE()) -> Dundee Hawkhill Harriers | R55: =TIME(A55,B55,C55) -> 0.0103125
B56: 15 | C56: 41 | D56: 32 | H56: =IF(OR(RIGHT(D56,1)="V",RIGHT(D56,1)="J"),VALUE(LEFT(D56,LEN(D56)-1)),D56) -> 32 | I56: =Q56&COUNTIF($H$2:$H56,H56) -> Lasswade AAC3 | J56: =VLOOKUP(L56,ClubNames,2,FALSE())&COUNTIF($L$2:$L56,L56) -> Lasswade AAC1 | L56: 32 | M56: Joella Esson | O56: 55 | P56: =VLOOKUP(I56,J:M,4,FALSE())&IF(RIGHT(D56,1)="V"," (V)",IF(RIGHT(D56,1)="J"," (J)","")) -> Orla Thomson | Q56: =VLOOKUP(H56,ClubNames,2,FALSE()) -> Lasswade AAC | R56: =TIME(A56,B56,C56) -> 0.010891204
B57: 15 | C57: 52 | D57: 1 | H57: =IF(OR(RIGHT(D57,1)="V",RIGHT(D57,1)="J"),VALUE(LEFT(D57,LEN(D57)-1)),D57) -> 1 | I57: =Q57&COUNTIF($H$2:$H57,H57) -> Edinburgh AC8 | J57: =VLOOKUP(L57,ClubNames,2,FALSE())&COUNTIF($L$2:$L57,L57) -> Lasswade AAC2 | L57: 32 | M57: Corrie Irvine | O57: 56 | P57: =VLOOKUP(I57,J:M,4,FALSE())&IF(RIGHT(D57,1)="V"," (V)",IF(RIGHT(D57,1)="J"," (J)","")) -> Ava King | Q57: =VLOOKUP(H57,ClubNames,2,FALSE()) -> Edinburgh AC | R57: =TIME(A57,B57,C57) -> 0.011018519
B58: 15 | C58: 53 | D58: 39 | H58: =IF(OR(RIGHT(D58,1)="V",RIGHT(D58,1)="J"),VALUE(LEFT(D58,LEN(D58)-1)),D58) -> 39 | I58: =Q58&COUNTIF($H$2:$H58,H58) -> Dunfermline Track & Field AC1 | J58: =VLOOKUP(L58,ClubNames,2,FALSE())&COUNTIF($L$2:$L58,L58) -> Lasswade AAC3 | L58: 32 | M58: Orla Thomson | O58: 57 | P58: =VLOOKUP(I58,J:M,4,FALSE())&IF(RIGHT(D58,1)="V"," (V)",IF(RIGHT(D58,1)="J"," (J)","")) -> Laima Lowe | Q58: =VLOOKUP(H58,ClubNames,2,FALSE()) -> Dunfermline Track & Field AC | R58: =TIME(A58,B58,C58) -> 0.011030093
B59: 15 | C59: 53 | D59: 19 | H59: =IF(OR(RIGHT(D59,1)="V",RIGHT(D59,1)="J"),VALUE(LEFT(D59,LEN(D59)-1)),D59) -> 19 | I59: =Q59&COUNTIF($H$2:$H59,H59) -> Metro Aberdeen Running Club3 | J59: =VLOOKUP(L59,ClubNames,2,FALSE())&COUNTIF($L$2:$L59,L59) -> Lasswade AAC4 | L59: 32 | M59: Fearne Quinn | O59: 58 | P59: =VLOOKUP(I59,J:M,4,FALSE())&IF(RIGHT(D59,1)="V"," (V)",IF(RIGHT(D59,1)="J"," (J)","")) -> PIppa Applegate | Q59: =VLOOKUP(H59,ClubNames,2,FALSE()) -> Metro Aberdeen Running Club | R59: =TIME(A59,B59,C59) -> 0.011030093
B60: 16 | C60: 4 | D60: 32 | H60: =IF(OR(RIGHT(D60,1)="V",RIGHT(D60,1)="J"),VALUE(LEFT(D60,LEN(D60)-1)),D60) -> 32 | I60: =Q60&COUNTIF($H$2:$H60,H60) -> Lasswade AAC4 | J60: =VLOOKUP(L60,ClubNames,2,FALSE())&COUNTIF($L$2:$L60,L60) -> Banchory Stonehaven AC1 | L60: 36 | M60: Willow Thom | O60: 59 | P60: =VLOOKUP(I60,J:M,4,FALSE())&IF(RIGHT(D60,1)="V"," (V)",IF(RIGHT(D60,1)="J"," (J)","")) -> Fearne Quinn | Q60: =VLOOKUP(H60,ClubNames,2,FALSE()) -> Lasswade AAC | R60: =TIME(A60,B60,C60) -> 0.011157407
B61: 16 | C61: 43 | D61: 7 | H61: =IF(OR(RIGHT(D61,1)="V",RIGHT(D61,1)="J"),VALUE(LEFT(D61,LEN(D61)-1)),D61) -> 7 | I61: =Q61&COUNTIF($H$2:$H61,H61) -> Pitreavie AAC2 | J61: =VLOOKUP(L61,ClubNames,2,FALSE())&COUNTIF($L$2:$L61,L61) -> Dunfermline Track & Field AC1 | L61: 39 | M61: Laima Lowe | O61: 60 | P61: =VLOOKUP(I61,J:M,4,FALSE())&IF(RIGHT(D61,1)="V"," (V)",IF(RIGHT(D61,1)="J"," (J)","")) -> Annie Sinclair | Q61: =VLOOKUP(H61,ClubNames,2,FALSE()) -> Pitreavie AAC | R61: =TIME(A61,B61,C61) -> 0.011608796
B62: 17 | C62: 19 | D62: 6 | H62: =IF(OR(RIGHT(D62,1)="V",RIGHT(D62,1)="J"),VALUE(LEFT(D62,LEN(D62)-1)),D62) -> 6 | I62: =Q62&COUNTIF($H$2:$H62,H62) -> Aberdeen AAC4 | J62: =VLOOKUP(L62,ClubNames,2,FALSE())&COUNTIF($L$2:$L62,L62) -> Haddington Running Club1 | L62: 51 | M62: Eilidh Robson | O62: 61 | P62: =VLOOKUP(I62,J:M,4,FALSE())&IF(RIGHT(D62,1)="V"," (V)",IF(RIGHT(D62,1)="J"," (J)","")) -> Eve McAllister | Q62: =VLOOKUP(H62,ClubNames,2,FALSE()) -> Aberdeen AAC | R62: =TIME(A62,B62,C62) -> 0.012025463
H63: =IF(OR(RIGHT(D63,1)="V",RIGHT(D63,1)="J"),VALUE(LEFT(D63,LEN(D63)-1)),D63) -> 0 | I63: =Q63&COUNTIF($H$2:$H63,H63) -> #N/A | J63: =VLOOKUP(L63,ClubNames,2,FALSE())&COUNTIF($L$2:$L63,L63) -> #N/A | O63: 62 | P63: =VLOOKUP(I63,J:M,4,FALSE())&IF(RIGHT(D63,1)="V"," (V)",IF(RIGHT(D63,1)="J"," (J)","")) -> #N/A | Q63: =VLOOKUP(H63,ClubNames,2,FALSE()) -> #N/A | R63: =TIME(A63,B63,C63) -> 0
H64: =IF(OR(RIGHT(D64,1)="V",RIGHT(D64,1)="J"),VALUE(LEFT(D64,LEN(D64)-1)),D64) -> 0 | I64: =Q64&COUNTIF($H$2:$H64,H64) -> #N/A | J64: =VLOOKUP(L64,ClubNames,2,FALSE())&COUNTIF($L$2:$L64,L64) -> #N/A | O64: 63 | P64: =VLOOKUP(I64,J:M,4,FALSE())&IF(RIGHT(D64,1)="V"," (V)",IF(RIGHT(D64,1)="J"," (J)","")) -> #N/A | Q64: =VLOOKUP(H64,ClubNames,2,FALSE()) -> #N/A | R64: =TIME(A64,B64,C64) -> 0
H65: =IF(OR(RIGHT(D65,1)="V",RIGHT(D65,1)="J"),VALUE(LEFT(D65,LEN(D65)-1)),D65) -> 0 | I65: =Q65&COUNTIF($H$2:$H65,H65) -> #N/A | J65: =VLOOKUP(L65,ClubNames,2,FALSE())&COUNTIF($L$2:$L65,L65) -> #N/A | O65: 64 | P65: =VLOOKUP(I65,J:M,4,FALSE())&IF(RIGHT(D65,1)="V"," (V)",IF(RIGHT(D65,1)="J"," (J)","")) -> #N/A | Q65: =VLOOKUP(H65,ClubNames,2,FALSE()) -> #N/A | R65: =TIME(A65,B65,C65) -> 0
H66: =IF(OR(RIGHT(D66,1)="V",RIGHT(D66,1)="J"),VALUE(LEFT(D66,LEN(D66)-1)),D66) -> 0 | I66: =Q66&COUNTIF($H$2:$H66,H66) -> #N/A | J66: =VLOOKUP(L66,ClubNames,2,FALSE())&COUNTIF($L$2:$L66,L66) -> #N/A | O66: 65 | P66: =VLOOKUP(I66,J:M,4,FALSE())&IF(RIGHT(D66,1)="V"," (V)",IF(RIGHT(D66,1)="J"," (J)","")) -> #N/A | Q66: =VLOOKUP(H66,ClubNames,2,FALSE()) -> #N/A | R66: =TIME(A66,B66,C66) -> 0
H67: =IF(OR(RIGHT(D67,1)="V",RIGHT(D67,1)="J"),VALUE(LEFT(D67,LEN(D67)-1)),D67) -> 0 | I67: =Q67&COUNTIF($H$2:$H67,H67) -> #N/A | J67: =VLOOKUP(L67,ClubNames,2,FALSE())&COUNTIF($L$2:$L67,L67) -> #N/A | O67: 66 | P67: =VLOOKUP(I67,J:M,4,FALSE())&IF(RIGHT(D67,1)="V"," (V)",IF(RIGHT(D67,1)="J"," (J)","")) -> #N/A | Q67: =VLOOKUP(H67,ClubNames,2,FALSE()) -> #N/A | R67: =TIME(A67,B67,C67) -> 0
H68: =IF(OR(RIGHT(D68,1)="V",RIGHT(D68,1)="J"),VALUE(LEFT(D68,LEN(D68)-1)),D68) -> 0 | I68: =Q68&COUNTIF($H$2:$H68,H68) -> #N/A | J68: =VLOOKUP(L68,ClubNames,2,FALSE())&COUNTIF($L$2:$L68,L68) -> #N/A | O68: 67 | P68: =VLOOKUP(I68,J:M,4,FALSE())&IF(RIGHT(D68,1)="V"," (V)",IF(RIGHT(D68,1)="J"," (J)","")) -> #N/A | Q68: =VLOOKUP(H68,ClubNames,2,FALSE()) -> #N/A | R68: =TIME(A68,B68,C68) -> 0
H69: =IF(OR(RIGHT(D69,1)="V",RIGHT(D69,1)="J"),VALUE(LEFT(D69,LEN(D69)-1)),D69) -> 0 | I69: =Q69&COUNTIF($H$2:$H69,H69) -> #N/A | J69: =VLOOKUP(L69,ClubNames,2,FALSE())&COUNTIF($L$2:$L69,L69) -> #N/A | O69: 68 | P69: =VLOOKUP(I69,J:M,4,FALSE())&IF(RIGHT(D69,1)="V"," (V)",IF(RIGHT(D69,1)="J"," (J)","")) -> #N/A | Q69: =VLOOKUP(H69,ClubNames,2,FALSE()) -> #N/A | R69: =TIME(A69,B69,C69) -> 0
H70: =IF(OR(RIGHT(D70,1)="V",RIGHT(D70,1)="J"),VALUE(LEFT(D70,LEN(D70)-1)),D70) -> 0 | I70: =Q70&COUNTIF($H$2:$H70,H70) -> #N/A | J70: =VLOOKUP(L70,ClubNames,2,FALSE())&COUNTIF($L$2:$L70,L70) -> #N/A | O70: 69 | P70: =VLOOKUP(I70,J:M,4,FALSE())&IF(RIGHT(D70,1)="V"," (V)",IF(RIGHT(D70,1)="J"," (J)","")) -> #N/A | Q70: =VLOOKUP(H70,ClubNames,2,FALSE()) -> #N/A | R70: =TIME(A70,B70,C70) -> 0
H71: =IF(OR(RIGHT(D71,1)="V",RIGHT(D71,1)="J"),VALUE(LEFT(D71,LEN(D71)-1)),D71) -> 0 | I71: =Q71&COUNTIF($H$2:$H71,H71) -> #N/A | J71: =VLOOKUP(L71,ClubNames,2,FALSE())&COUNTIF($L$2:$L71,L71) -> #N/A | O71: 70 | P71: =VLOOKUP(I71,J:M,4,FALSE())&IF(RIGHT(D71,1)="V"," (V)",IF(RIGHT(D71,1)="J"," (J)","")) -> #N/A | Q71: =VLOOKUP(H71,ClubNames,2,FALSE()) -> #N/A | R71: =TIME(A71,B71,C71) -> 0
H72: =IF(OR(RIGHT(D72,1)="V",RIGHT(D72,1)="J"),VALUE(LEFT(D72,LEN(D72)-1)),D72) -> 0 | I72: =Q72&COUNTIF($H$2:$H72,H72) -> #N/A | J72: =VLOOKUP(L72,ClubNames,2,FALSE())&COUNTIF($L$2:$L72,L72) -> #N/A | O72: 71 | P72: =VLOOKUP(I72,J:M,4,FALSE())&IF(RIGHT(D72,1)="V"," (V)",IF(RIGHT(D72,1)="J"," (J)","")) -> #N/A | Q72: =VLOOKUP(H72,ClubNames,2,FALSE()) -> #N/A | R72: =TIME(A72,B72,C72) -> 0
H73: =IF(OR(RIGHT(D73,1)="V",RIGHT(D73,1)="J"),VALUE(LEFT(D73,LEN(D73)-1)),D73) -> 0 | I73: =Q73&COUNTIF($H$2:$H73,H73) -> #N/A | J73: =VLOOKUP(L73,ClubNames,2,FALSE())&COUNTIF($L$2:$L73,L73) -> #N/A | O73: 72 | P73: =VLOOKUP(I73,J:M,4,FALSE())&IF(RIGHT(D73,1)="V"," (V)",IF(RIGHT(D73,1)="J"," (J)","")) -> #N/A | Q73: =VLOOKUP(H73,ClubNames,2,FALSE()) -> #N/A | R73: =TIME(A73,B73,C73) -> 0
H74: =IF(OR(RIGHT(D74,1)="V",RIGHT(D74,1)="J"),VALUE(LEFT(D74,LEN(D74)-1)),D74) -> 0 | I74: =Q74&COUNTIF($H$2:$H74,H74) -> #N/A | J74: =VLOOKUP(L74,ClubNames,2,FALSE())&COUNTIF($L$2:$L74,L74) -> #N/A | O74: 73 | P74: =VLOOKUP(I74,J:M,4,FALSE())&IF(RIGHT(D74,1)="V"," (V)",IF(RIGHT(D74,1)="J"," (J)","")) -> #N/A | Q74: =VLOOKUP(H74,ClubNames,2,FALSE()) -> #N/A | R74: =TIME(A74,B74,C74) -> 0
... H142: =IF(OR(RIGHT(D142,1)="V",RIGHT(D142,1)="J"),VALUE(LEFT(D142,LEN(D142)-1)),D142) -> 0 | I142: =Q142&COUNTIF($H$2:$H142,H142) -> #N/A | J142: =VLOOKUP(L142,ClubNames,2,FALSE())&COUNTIF($L$2:$L142,L142) -> #N/A | O142: 141 | P142: =VLOOKUP(I142,J:M,4,FALSE())&IF(RIGHT(D142,1)="V"," (V)",IF(RIGHT(D142,1)="J"," (J)","")) -> #N/A | Q142: =VLOOKUP(H142,ClubNames,2,FALSE()) -> #N/A | R142: =TIME(A142,B142,C142) -> 0
...

Sheet U15 Girls - U17 Women
A1: Hr | B1: Min | C1: Sec | D1: Bib No | F1: Club | G1: Finishers | H1: Team No | I1: Race Finish | J1: Team Finish | L1: Team No | M1: Name | O1: Pos | P1: Name | Q1: Club | R1: Time
B2: 16 | C2: 45 | D2: 24 | E2: 1 | F2: =Clubs!B3 -> Edinburgh AC | G2: =COUNTIF($H:$H,E2) -> 8 | H2: =IF(OR(RIGHT(D2,1)="V",RIGHT(D2,1)="J"),VALUE(LEFT(D2,LEN(D2)-1)),D2) -> 24 | I2: =Q2&COUNTIF($H$2:$H2,H2) -> Strathearn Harriers1 | J2: =VLOOKUP(L2,ClubNames,2,FALSE())&COUNTIF($L$2:$L2,L2) -> Edinburgh AC1 | L2: 1 | M2: Emi Daunt | O2: 1 | P2: =VLOOKUP(I2,J:M,4,FALSE())&IF(RIGHT(D2,1)="L"," (L)",IF(RIGHT(D2,1)="J"," (J)","")) -> Eilidh Dallas (U17) | Q2: =VLOOKUP(H2,ClubNames,2,FALSE()) -> Strathearn Harriers | R2: =TIME(A2,B2,C2) -> 0.011631944
B3: 16 | C3: 46 | D3: 6 | E3: 2 | F3: =Clubs!B4 -> Perth Road Runners | G3: =COUNTIF($H:$H,E3) -> 0 | H3: =IF(OR(RIGHT(D3,1)="V",RIGHT(D3,1)="J"),VALUE(LEFT(D3,LEN(D3)-1)),D3) -> 6 | I3: =Q3&COUNTIF($H$2:$H3,H3) -> Aberdeen AAC1 | J3: =VLOOKUP(L3,ClubNames,2,FALSE())&COUNTIF($L$2:$L3,L3) -> Edinburgh AC2 | L3: 1 | M3: Ailish de Luca-Ruane | O3: =1+O2 -> 2 | P3: =VLOOKUP(I3,J:M,4,FALSE())&IF(RIGHT(D3,1)="L"," (L)",IF(RIGHT(D3,1)="J"," (J)","")) -> Rachel Fitzpatrick | Q3: =VLOOKUP(H3,ClubNames,2,FALSE()) -> Aberdeen AAC | R3: =TIME(A3,B3,C3) -> 0.011643519
B4: 16 | C4: 55 | D4: 32 | E4: 3 | F4: =Clubs!B5 -> Lothian Running Club | G4: =COUNTIF($H:$H,E4) -> 0 | H4: =IF(OR(RIGHT(D4,1)="V",RIGHT(D4,1)="J"),VALUE(LEFT(D4,LEN(D4)-1)),D4) -> 32 | I4: =Q4&COUNTIF($H$2:$H4,H4) -> Lasswade AAC1 | J4: =VLOOKUP(L4,ClubNames,2,FALSE())&COUNTIF($L$2:$L4,L4) -> Edinburgh AC3 | L4: 1 | M4: Anna Molyneux | O4: =1+O3 -> 3 | P4: =VLOOKUP(I4,J:M,4,FALSE())&IF(RIGHT(D4,1)="L"," (L)",IF(RIGHT(D4,1)="J"," (J)","")) -> Cerys Wright (U17) | Q4: =VLOOKUP(H4,ClubNames,2,FALSE()) -> Lasswade AAC | R4: =TIME(A4,B4,C4) -> 0.011747685
B5: 16 | C5: 56 | D5: 6 | E5: 4 | F5: =Clubs!B6 -> Teviotdale Harriers | G5: =COUNTIF($H:$H,E5) -> 0 | H5: =IF(OR(RIGHT(D5,1)="V",RIGHT(D5,1)="J"),VALUE(LEFT(D5,LEN(D5)-1)),D5) -> 6 | I5: =Q5&COUNTIF($H$2:$H5,H5) -> Aberdeen AAC2 | J5: =VLOOKUP(L5,ClubNames,2,FALSE())&COUNTIF($L$2:$L5,L5) -> Edinburgh AC4 | L5: 1 | M5: Catriona Scott (U17) | O5: =1+O4 -> 4 | P5: =VLOOKUP(I5,J:M,4,FALSE())&IF(RIGHT(D5,1)="L"," (L)",IF(RIGHT(D5,1)="J"," (J)","")) -> Emily Taylor | Q5: =VLOOKUP(H5,ClubNames,2,FALSE()) -> Aberdeen AAC | R5: =TIME(A5,B5,C5) -> 0.011759259
B6: 17 | C6: 11 | D6: 29 | E6: 5 | F6: =Clubs!B7 -> Moorfoot Runners | G6: =COUNTIF($H:$H,E6) -> 0 | H6: =IF(OR(RIGHT(D6,1)="V",RIGHT(D6,1)="J"),VALUE(LEFT(D6,LEN(D6)-1)),D6) -> 29 | I6: =Q6&COUNTIF($H$2:$H6,H6) -> Team Borders1 | J6: =VLOOKUP(L6,ClubNames,2,FALSE())&COUNTIF($L$2:$L6,L6) -> Edinburgh AC5 | L6: 1 | M6: Juno Neal (U17) | O6: =1+O5 -> 5 | P6: =VLOOKUP(I6,J:M,4,FALSE())&IF(RIGHT(D6,1)="L"," (L)",IF(RIGHT(D6,1)="J"," (J)","")) -> Ava Richardson (U17) | Q6: =VLOOKUP(H6,ClubNames,2,FALSE()) -> Team Borders | R6: =TIME(A6,B6,C6) -> 0.01193287
B7: 17 | C7: 14 | D7: 1 | E7: 6 | F7: =Clubs!B8 -> Aberdeen AAC | G7: =COUNTIF($H:$H,E7) -> 7 | H7: =IF(OR(RIGHT(D7,1)="V",RIGHT(D7,1)="J"),VALUE(LEFT(D7,LEN(D7)-1)),D7) -> 1 | I7: =Q7&COUNTIF($H$2:$H7,H7) -> Edinburgh AC1 | J7: =VLOOKUP(L7,ClubNames,2,FALSE())&COUNTIF($L$2:$L7,L7) -> Edinburgh AC6 | L7: 1 | M7: Maisie Hunter | O7: =1+O6 -> 6 | P7: =VLOOKUP(I7,J:M,4,FALSE())&IF(RIGHT(D7,1)="L"," (L)",IF(RIGHT(D7,1)="J"," (J)","")) -> Emi Daunt | Q7: =VLOOKUP(H7,ClubNames,2,FALSE()) -> Edinburgh AC | R7: =TIME(A7,B7,C7) -> 0.011967593
B8: 17 | C8: 31 | D8: 32 | E8: 7 | F8: =Clubs!B9 -> Pitreavie AAC | G8: =COUNTIF($H:$H,E8) -> 3 | H8: =IF(OR(RIGHT(D8,1)="V",RIGHT(D8,1)="J"),VALUE(LEFT(D8,LEN(D8)-1)),D8) -> 32 | I8: =Q8&COUNTIF($H$2:$H8,H8) -> Lasswade AAC2 | J8: =VLOOKUP(L8,ClubNames,2,FALSE())&COUNTIF($L$2:$L8,L8) -> Edinburgh AC7 | L8: 1 | M8: Jessica Stewart | O8: =1+O7 -> 7 | P8: =VLOOKUP(I8,J:M,4,FALSE())&IF(RIGHT(D8,1)="L"," (L)",IF(RIGHT(D8,1)="J"," (J)","")) -> Isla Madhra | Q8: =VLOOKUP(H8,ClubNames,2,FALSE()) -> Lasswade AAC | R8: =TIME(A8,B8,C8) -> 0.012164352
B9: 17 | C9: 34 | D9: 6 | E9: 8 | F9: =Clubs!B10 -> Fife AC | G9: =COUNTIF($H:$H,E9) -> 1 | H9: =IF(OR(RIGHT(D9,1)="V",RIGHT(D9,1)="J"),VALUE(LEFT(D9,LEN(D9)-1)),D9) -> 6 | I9: =Q9&COUNTIF($H$2:$H9,H9) -> Aberdeen AAC3 | J9: =VLOOKUP(L9,ClubNames,2,FALSE())&COUNTIF($L$2:$L9,L9) -> Edinburgh AC8 | L9: 1 | M9: Lucy Mochrie | O9: =1+O8 -> 8 | P9: =VLOOKUP(I9,J:M,4,FALSE())&IF(RIGHT(D9,1)="L"," (L)",IF(RIGHT(D9,1)="J"," (J)","")) -> Grace Ramsay | Q9: =VLOOKUP(H9,ClubNames,2,FALSE()) -> Aberdeen AAC | R9: =TIME(A9,B9,C9) -> 0.012199074
B10: 17 | C10: 42 | D10: 20 | E10: 9 | F10: =Clubs!B11 -> Not Used | G10: =COUNTIF($H:$H,E10) -> 0 | H10: =IF(OR(RIGHT(D10,1)="V",RIGHT(D10,1)="J"),VALUE(LEFT(D10,LEN(D10)-1)),D10) -> 20 | I10: =Q10&COUNTIF($H$2:$H10,H10) -> Harmeny AAC1 | J10: =VLOOKUP(L10,ClubNames,2,FALSE())&COUNTIF($L$2:$L10,L10) -> Aberdeen AAC1 | L10: 6 | M10: Rachel Fitzpatrick | O10: =1+O9 -> 9 | P10: =VLOOKUP(I10,J:M,4,FALSE())&IF(RIGHT(D10,1)="L"," (L)",IF(RIGHT(D10,1)="J"," (J)","")) -> Kate Riches | Q10: =VLOOKUP(H10,ClubNames,2,FALSE()) -> Harmeny AAC | R10: =TIME(A10,B10,C10) -> 0.012291667
B11: 17 | C11: 42 | D11: 16 | E11: 10 | F11: =Clubs!B12 -> Edinburgh Univ Hare & Hounds | G11: =COUNTIF($H:$H,E11) -> 0 | H11: =IF(OR(RIGHT(D11,1)="V",RIGHT(D11,1)="J"),VALUE(LEFT(D11,LEN(D11)-1)),D11) -> 16 | I11: =Q11&COUNTIF($H$2:$H11,H11) -> Dundee Hawkhill Harriers1 | J11: =VLOOKUP(L11,ClubNames,2,FALSE())&COUNTIF($L$2:$L11,L11) -> Aberdeen AAC2 | L11: 6 | M11: Emily Taylor | O11: =1+O10 -> 10 | P11: =VLOOKUP(I11,J:M,4,FALSE())&IF(RIGHT(D11,1)="L"," (L)",IF(RIGHT(D11,1)="J"," (J)","")) -> Evie Hodgson | Q11: =VLOOKUP(H11,ClubNames,2,FALSE()) -> Dundee Hawkhill Harriers | R11: =TIME(A11,B11,C11) -> 0.012291667
B12: 17 | C12: 48 | D12: 29 | E12: 11 | F12: =Clubs!B13 -> Falkirk Victoria Harriers | G12: =COUNTIF($H:$H,E12) -> 4 | H12: =IF(OR(RIGHT(D12,1)="V",RIGHT(D12,1)="J"),VALUE(LEFT(D12,LEN(D12)-1)),D12) -> 29 | I12: =Q12&COUNTIF($H$2:$H12,H12) -> Team Borders2 | J12: =VLOOKUP(L12,ClubNames,2,FALSE())&COUNTIF($L$2:$L12,L12) -> Aberdeen AAC3 | L12: 6 | M12: Grace Ramsay | O12: =1+O11 -> 11 | P12: =VLOOKUP(I12,J:M,4,FALSE())&IF(RIGHT(D12,1)="L"," (L)",IF(RIGHT(D12,1)="J"," (J)","")) -> Isabella Moran (U17) | Q12: =VLOOKUP(H12,ClubNames,2,FALSE()) -> Team Borders | R12: =TIME(A12,B12,C12) -> 0.012361111
B13: 17 | C13: 50 | D13: 20 | E13: 12 | F13: =Clubs!B14 -> Hunters Bog Trotters | G13: =COUNTIF($H:$H,E13) -> 0 | H13: =IF(OR(RIGHT(D13,1)="V",RIGHT(D13,1)="J"),VALUE(LEFT(D13,LEN(D13)-1)),D13) -> 20 | I13: =Q13&COUNTIF($H$2:$H13,H13) -> Harmeny AAC2 | J13: =VLOOKUP(L13,ClubNames,2,FALSE())&COUNTIF($L$2:$L13,L13) -> Aberdeen AAC4 | L13: 6 | M13: Alana Robertson | O13: =1+O12 -> 12 | P13: =VLOOKUP(I13,J:M,4,FALSE())&IF(RIGHT(D13,1)="L"," (L)",IF(RIGHT(D13,1)="J"," (J)","")) -> Amber Cunningham (U17) | Q13: =VLOOKUP(H13,ClubNames,2,FALSE()) -> Harmeny AAC | R13: =TIME(A13,B13,C13) -> 0.012384259
B14: 17 | C14: 50 | D14: 20 | E14: 13 | F14: =Clubs!B15 -> Gala Harriers | G14: =COUNTIF($H:$H,E14) -> 0 | H14: =IF(OR(RIGHT(D14,1)="V",RIGHT(D14,1)="J"),VALUE(LEFT(D14,LEN(D14)-1)),D14) -> 20 | I14: =Q14&COUNTIF($H$2:$H14,H14) -> Harmeny AAC3 | J14: =VLOOKUP(L14,ClubNames,2,FALSE())&COUNTIF($L$2:$L14,L14) -> Aberdeen AAC5 | L14: 6 | M14: Hollie Steele (U17) | O14: =1+O13 -> 13 | P14: =VLOOKUP(I14,J:M,4,FALSE())&IF(RIGHT(D14,1)="L"," (L)",IF(RIGHT(D14,1)="J"," (J)","")) -> Leah Buchan (U17) | Q14: =VLOOKUP(H14,ClubNames,2,FALSE()) -> Harmeny AAC | R14: =TIME(A14,B14,C14) -> 0.012384259
... B50: 21 | C50: 0 | D50: 20 | E50: 49 | F50: =Clubs!B51 -> Lauderdale Limpers | G50: =COUNTIF($H:$H,E50) -> 0 | H50: =IF(OR(RIGHT(D50,1)="V",RIGHT(D50,1)="J"),VALUE(LEFT(D50,LEN(D50)-1)),D50) -> 20 | I50: =Q50&COUNTIF($H$2:$H50,H50) -> Harmeny AAC7 | J50: =VLOOKUP(L50,ClubNames,2,FALSE())&COUNTIF($L$2:$L50,L50) -> Perth Strathtay Harriers1 | L50: 30 | M50: Mairi Gatherer (U17) | O50: =1+O49 -> 49 | P50: =VLOOKUP(I50,J:M,4,FALSE())&IF(RIGHT(D50,1)="L"," (L)",IF(RIGHT(D50,1)="J"," (J)","")) -> Ruby McClay (U17) | Q50: =VLOOKUP(H50,ClubNames,2,FALSE()) -> Harmeny AAC | R50: =TIME(A50,B50,C50) -> 0.014583333
B51: 21 | C51: 13 | D51: 18 | E51: 50 | F51: =Clubs!B52 -> Stirling University AC | G51: =COUNTIF($H:$H,E51) -> 0 | H51: =IF(OR(RIGHT(D51,1)="V",RIGHT(D51,1)="J"),VALUE(LEFT(D51,LEN(D51)-1)),D51) -> 18 | I51: =Q51&COUNTIF($H$2:$H51,H51) -> Central AC1 | J51: =VLOOKUP(L51,ClubNames,2,FALSE())&COUNTIF($L$2:$L51,L51) -> Corstorphine AAC1 | L51: 31 | M51: Callie Logan | O51: 50 | P51: =VLOOKUP(I51,J:M,4,FALSE())&IF(RIGHT(D51,1)="L"," (L)",IF(RIGHT(D51,1)="J"," (J)","")) -> Katherine Mitchell (U17) | Q51: =VLOOKUP(H51,ClubNames,2,FALSE()) -> Central AC | R51: =TIME(A51,B51,C51) -> 0.014733796
B52: 21 | C52: 13 | D52: 51 | E52: 51 | F52: =Clubs!B53 -> Haddington Running Club | G52: =COUNTIF($H:$H,E52) -> 2 | H52: =IF(OR(RIGHT(D52,1)="V",RIGHT(D52,1)="J"),VALUE(LEFT(D52,LEN(D52)-1)),D52) -> 51 | I52: =Q52&COUNTIF($H$2:$H52,H52) -> Haddington Running Club1 | J52: =VLOOKUP(L52,ClubNames,2,FALSE())&COUNTIF($L$2:$L52,L52) -> Corstorphine AAC2 | L52: 31 | M52: Paige Coutts | O52: 51 | P52: =VLOOKUP(I52,J:M,4,FALSE())&IF(RIGHT(D52,1)="L"," (L)",IF(RIGHT(D52,1)="J"," (J)","")) -> Lucy Gall | Q52: =VLOOKUP(H52,ClubNames,2,FALSE()) -> Haddington Running Club | R52: =TIME(A52,B52,C52) -> 0.014733796
B53: 21 | C53: 25 | D53: 51 | E53: 52 | F53: =Clubs!B54 -> Arbroath & District AAC | G53: =COUNTIF($H:$H,E53) -> 0 | H53: =IF(OR(RIGHT(D53,1)="V",RIGHT(D53,1)="J"),VALUE(LEFT(D53,LEN(D53)-1)),D53) -> 51 | I53: =Q53&COUNTIF($H$2:$H53,H53) -> Haddington Running Club2 | J53: =VLOOKUP(L53,ClubNames,2,FALSE())&COUNTIF($L$2:$L53,L53) -> Corstorphine AAC3 | L53: 31 | M53: Eloise Simpson | O53: 52 | P53: =VLOOKUP(I53,J:M,4,FALSE())&IF(RIGHT(D53,1)="L"," (L)",IF(RIGHT(D53,1)="J"," (J)","")) -> Emily Fairfull (U17) | Q53: =VLOOKUP(H53,ClubNames,2,FALSE()) -> Haddington Running Club | R53: =TIME(A53,B53,C53) -> 0.014872685
B54: 21 | C54: 30 | D54: 20 | E54: 53 | F54: =Clubs!B55 -> Run Livingston | G54: =COUNTIF($H:$H,E54) -> 0 | H54: =IF(OR(RIGHT(D54,1)="V",RIGHT(D54,1)="J"),VALUE(LEFT(D54,LEN(D54)-1)),D54) -> 20 | I54: =Q54&COUNTIF($H$2:$H54,H54) -> Harmeny AAC8 | J54: =VLOOKUP(L54,ClubNames,2,FALSE())&COUNTIF($L$2:$L54,L54) -> Lasswade AAC1 | L54: 32 | M54: Cerys Wright (U17) | O54: 53 | P54: =VLOOKUP(I54,J:M,4,FALSE())&IF(RIGHT(D54,1)="L"," (L)",IF(RIGHT(D54,1)="J"," (J)","")) -> Lily Hardingham (U17) | Q54: =VLOOKUP(H54,ClubNames,2,FALSE()) -> Harmeny AAC | R54: =TIME(A54,B54,C54) -> 0.014930556
B55: 21 | C55: 52 | D55: 24 | H55: =IF(OR(RIGHT(D55,1)="V",RIGHT(D55,1)="J"),VALUE(LEFT(D55,LEN(D55)-1)),D55) -> 24 | I55: =Q55&COUNTIF($H$2:$H55,H55) -> Strathearn Harriers2 | J55: =VLOOKUP(L55,ClubNames,2,FALSE())&COUNTIF($L$2:$L55,L55) -> Lasswade AAC2 | L55: 32 | M55: Isla Madhra | O55: 54 | P55: =VLOOKUP(I55,J:M,4,FALSE())&IF(RIGHT(D55,1)="L"," (L)",IF(RIGHT(D55,1)="J"," (J)","")) -> Emi Walker | Q55: =VLOOKUP(H55,ClubNames,2,FALSE()) -> Strathearn Harriers | R55: =TIME(A55,B55,C55) -> 0.015185185
B56: 21 | C56: 55 | D56: 1 | H56: =IF(OR(RIGHT(D56,1)="V",RIGHT(D56,1)="J"),VALUE(LEFT(D56,LEN(D56)-1)),D56) -> 1 | I56: =Q56&COUNTIF($H$2:$H56,H56) -> Edinburgh AC7 | J56: =VLOOKUP(L56,ClubNames,2,FALSE())&COUNTIF($L$2:$L56,L56) -> Lasswade AAC3 | L56: 32 | M56: Rosa Gomez Candy | O56: 55 | P56: =VLOOKUP(I56,J:M,4,FALSE())&IF(RIGHT(D56,1)="L"," (L)",IF(RIGHT(D56,1)="J"," (J)","")) -> Jessica Stewart | Q56: =VLOOKUP(H56,ClubNames,2,FALSE()) -> Edinburgh AC | R56: =TIME(A56,B56,C56) -> 0.015219907
B57: 22 | C57: 14 | D57: 30 | H57: =IF(OR(RIGHT(D57,1)="V",RIGHT(D57,1)="J"),VALUE(LEFT(D57,LEN(D57)-1)),D57) -> 30 | I57: =Q57&COUNTIF($H$2:$H57,H57) -> Perth Strathtay Harriers1 | J57: =VLOOKUP(L57,ClubNames,2,FALSE())&COUNTIF($L$2:$L57,L57) -> Lasswade AAC4 | L57: 32 | M57: Darcy Esson | O57: 56 | P57: =VLOOKUP(I57,J:M,4,FALSE())&IF(RIGHT(D57,1)="L"," (L)",IF(RIGHT(D57,1)="J"," (J)","")) -> Mairi Gatherer (U17) | Q57: =VLOOKUP(H57,ClubNames,2,FALSE()) -> Perth Strathtay Harriers | R57: =TIME(A57,B57,C57) -> 0.015439815
B58: 22 | C58: 30 | D58: 40 | H58: =IF(OR(RIGHT(D58,1)="V",RIGHT(D58,1)="J"),VALUE(LEFT(D58,LEN(D58)-1)),D58) -> 40 | I58: =Q58&COUNTIF($H$2:$H58,H58) -> Team East Lothian1 | J58: =VLOOKUP(L58,ClubNames,2,FALSE())&COUNTIF($L$2:$L58,L58) -> Banchory Stonehaven AC1 | L58: 36 | M58: Kathy Dornan | O58: 57 | P58: =VLOOKUP(I58,J:M,4,FALSE())&IF(RIGHT(D58,1)="L"," (L)",IF(RIGHT(D58,1)="J"," (J)","")) -> Kate Douglas | Q58: =VLOOKUP(H58,ClubNames,2,FALSE()) -> Team East Lothian | R58: =TIME(A58,B58,C58) -> 0.015625
B59: 22 | C59: 51 | D59: 1 | H59: =IF(OR(RIGHT(D59,1)="V",RIGHT(D59,1)="J"),VALUE(LEFT(D59,LEN(D59)-1)),D59) -> 1 | I59: =Q59&COUNTIF($H$2:$H59,H59) -> Edinburgh AC8 | J59: =VLOOKUP(L59,ClubNames,2,FALSE())&COUNTIF($L$2:$L59,L59) -> Dunfermline Track & Field AC1 | L59: 39 | M59: Lucy Gibb (U17) | O59: 58 | P59: =VLOOKUP(I59,J:M,4,FALSE())&IF(RIGHT(D59,1)="L"," (L)",IF(RIGHT(D59,1)="J"," (J)","")) -> Lucy Mochrie | Q59: =VLOOKUP(H59,ClubNames,2,FALSE()) -> Edinburgh AC | R59: =TIME(A59,B59,C59) -> 0.015868056
B60: 22 | C60: 54 | D60: 20 | H60: =IF(OR(RIGHT(D60,1)="V",RIGHT(D60,1)="J"),VALUE(LEFT(D60,LEN(D60)-1)),D60) -> 20 | I60: =Q60&COUNTIF($H$2:$H60,H60) -> Harmeny AAC9 | J60: =VLOOKUP(L60,ClubNames,2,FALSE())&COUNTIF($L$2:$L60,L60) -> Team East Lothian1 | L60: 40 | M60: Kate Douglas | O60: 59 | P60: =VLOOKUP(I60,J:M,4,FALSE())&IF(RIGHT(D60,1)="L"," (L)",IF(RIGHT(D60,1)="J"," (J)","")) -> Amelie McKay | Q60: =VLOOKUP(H60,ClubNames,2,FALSE()) -> Harmeny AAC | R60: =TIME(A60,B60,C60) -> 0.015902778
B61: 23 | C61: 6 | D61: 32 | H61: =IF(OR(RIGHT(D61,1)="V",RIGHT(D61,1)="J"),VALUE(LEFT(D61,LEN(D61)-1)),D61) -> 32 | I61: =Q61&COUNTIF($H$2:$H61,H61) -> Lasswade AAC4 | J61: =VLOOKUP(L61,ClubNames,2,FALSE())&COUNTIF($L$2:$L61,L61) -> Haddington Running Club1 | L61: 51 | M61: Lucy Gall | O61: 60 | P61: =VLOOKUP(I61,J:M,4,FALSE())&IF(RIGHT(D61,1)="L"," (L)",IF(RIGHT(D61,1)="J"," (J)","")) -> Darcy Esson | Q61: =VLOOKUP(H61,ClubNames,2,FALSE()) -> Lasswade AAC | R61: =TIME(A61,B61,C61) -> 0.016041667
B62: 24 | C62: 13 | D62: 27 | H62: =IF(OR(RIGHT(D62,1)="V",RIGHT(D62,1)="J"),VALUE(LEFT(D62,LEN(D62)-1)),D62) -> 27 | I62: =Q62&COUNTIF($H$2:$H62,H62) -> Linlithgow AC3 | J62: =VLOOKUP(L62,ClubNames,2,FALSE())&COUNTIF($L$2:$L62,L62) -> Haddington Running Club2 | L62: 51 | M62: Emily Fairfull (U17) | O62: 61 | P62: =VLOOKUP(I62,J:M,4,FALSE())&IF(RIGHT(D62,1)="L"," (L)",IF(RIGHT(D62,1)="J"," (J)","")) -> Amelia Ferrario | Q62: =VLOOKUP(H62,ClubNames,2,FALSE()) -> Linlithgow AC | R62: =TIME(A62,B62,C62) -> 0.01681713
H63: =IF(OR(RIGHT(D63,1)="V",RIGHT(D63,1)="J"),VALUE(LEFT(D63,LEN(D63)-1)),D63) -> 0 | I63: =Q63&COUNTIF($H$2:$H63,H63) -> #N/A | J63: =VLOOKUP(L63,ClubNames,2,FALSE())&COUNTIF($L$2:$L63,L63) -> #N/A | O63: 62 | P63: =VLOOKUP(I63,J:M,4,FALSE())&IF(RIGHT(D63,1)="L"," (L)",IF(RIGHT(D63,1)="J"," (J)","")) -> #N/A | Q63: =VLOOKUP(H63,ClubNames,2,FALSE()) -> #N/A | R63: =TIME(A63,B63,C63) -> 0
H64: =IF(OR(RIGHT(D64,1)="V",RIGHT(D64,1)="J"),VALUE(LEFT(D64,LEN(D64)-1)),D64) -> 0 | I64: =Q64&COUNTIF($H$2:$H64,H64) -> #N/A | J64: =VLOOKUP(L64,ClubNames,2,FALSE())&COUNTIF($L$2:$L64,L64) -> #N/A | O64: 63 | P64: =VLOOKUP(I64,J:M,4,FALSE())&IF(RIGHT(D64,1)="L"," (L)",IF(RIGHT(D64,1)="J"," (J)","")) -> #N/A | Q64: =VLOOKUP(H64,ClubNames,2,FALSE()) -> #N/A | R64: =TIME(A64,B64,C64) -> 0
H65: =IF(OR(RIGHT(D65,1)="V",RIGHT(D65,1)="J"),VALUE(LEFT(D65,LEN(D65)-1)),D65) -> 0 | I65: =Q65&COUNTIF($H$2:$H65,H65) -> #N/A | J65: =VLOOKUP(L65,ClubNames,2,FALSE())&COUNTIF($L$2:$L65,L65) -> #N/A | O65: 64 | P65: =VLOOKUP(I65,J:M,4,FALSE())&IF(RIGHT(D65,1)="L"," (L)",IF(RIGHT(D65,1)="J"," (J)","")) -> #N/A | Q65: =VLOOKUP(H65,ClubNames,2,FALSE()) -> #N/A | R65: =TIME(A65,B65,C65) -> 0
H66: =IF(OR(RIGHT(D66,1)="V",RIGHT(D66,1)="J"),VALUE(LEFT(D66,LEN(D66)-1)),D66) -> 0 | I66: =Q66&COUNTIF($H$2:$H66,H66) -> #N/A | J66: =VLOOKUP(L66,ClubNames,2,FALSE())&COUNTIF($L$2:$L66,L66) -> #N/A | O66: 65 | P66: =VLOOKUP(I66,J:M,4,FALSE())&IF(RIGHT(D66,1)="L"," (L)",IF(RIGHT(D66,1)="J"," (J)","")) -> #N/A | Q66: =VLOOKUP(H66,ClubNames,2,FALSE()) -> #N/A | R66: =TIME(A66,B66,C66) -> 0
H67: =IF(OR(RIGHT(D67,1)="V",RIGHT(D67,1)="J"),VALUE(LEFT(D67,LEN(D67)-1)),D67) -> 0 | I67: =Q67&COUNTIF($H$2:$H67,H67) -> #N/A | J67: =VLOOKUP(L67,ClubNames,2,FALSE())&COUNTIF($L$2:$L67,L67) -> #N/A | O67: 66 | P67: =VLOOKUP(I67,J:M,4,FALSE())&IF(RIGHT(D67,1)="L"," (L)",IF(RIGHT(D67,1)="J"," (J)","")) -> #N/A | Q67: =VLOOKUP(H67,ClubNames,2,FALSE()) -> #N/A | R67: =TIME(A67,B67,C67) -> 0
H68: =IF(OR(RIGHT(D68,1)="V",RIGHT(D68,1)="J"),VALUE(LEFT(D68,LEN(D68)-1)),D68) -> 0 | I68: =Q68&COUNTIF($H$2:$H68,H68) -> #N/A | J68: =VLOOKUP(L68,ClubNames,2,FALSE())&COUNTIF($L$2:$L68,L68) -> #N/A | O68: 67 | P68: =VLOOKUP(I68,J:M,4,FALSE())&IF(RIGHT(D68,1)="L"," (L)",IF(RIGHT(D68,1)="J"," (J)","")) -> #N/A | Q68: =VLOOKUP(H68,ClubNames,2,FALSE()) -> #N/A | R68: =TIME(A68,B68,C68) -> 0
H69: =IF(OR(RIGHT(D69,1)="V",RIGHT(D69,1)="J"),VALUE(LEFT(D69,LEN(D69)-1)),D69) -> 0 | I69: =Q69&COUNTIF($H$2:$H69,H69) -> #N/A | J69: =VLOOKUP(L69,ClubNames,2,FALSE())&COUNTIF($L$2:$L69,L69) -> #N/A | O69: 68 | P69: =VLOOKUP(I69,J:M,4,FALSE())&IF(RIGHT(D69,1)="L"," (L)",IF(RIGHT(D69,1)="J"," (J)","")) -> #N/A | Q69: =VLOOKUP(H69,ClubNames,2,FALSE()) -> #N/A | R69: =TIME(A69,B69,C69) -> 0
H70: =IF(OR(RIGHT(D70,1)="V",RIGHT(D70,1)="J"),VALUE(LEFT(D70,LEN(D70)-1)),D70) -> 0 | I70: =Q70&COUNTIF($H$2:$H70,H70) -> #N/A | J70: =VLOOKUP(L70,ClubNames,2,FALSE())&COUNTIF($L$2:$L70,L70) -> #N/A | O70: 69 | P70: =VLOOKUP(I70,J:M,4,FALSE())&IF(RIGHT(D70,1)="L"," (L)",IF(RIGHT(D70,1)="J"," (J)","")) -> #N/A | Q70: =VLOOKUP(H70,ClubNames,2,FALSE()) -> #N/A | R70: =TIME(A70,B70,C70) -> 0
H71: =IF(OR(RIGHT(D71,1)="V",RIGHT(D71,1)="J"),VALUE(LEFT(D71,LEN(D71)-1)),D71) -> 0 | I71: =Q71&COUNTIF($H$2:$H71,H71) -> #N/A | J71: =VLOOKUP(L71,ClubNames,2,FALSE())&COUNTIF($L$2:$L71,L71) -> #N/A | O71: 70 | P71: =VLOOKUP(I71,J:M,4,FALSE())&IF(RIGHT(D71,1)="L"," (L)",IF(RIGHT(D71,1)="J"," (J)","")) -> #N/A | Q71: =VLOOKUP(H71,ClubNames,2,FALSE()) -> #N/A | R71: =TIME(A71,B71,C71) -> 0
H72: =IF(OR(RIGHT(D72,1)="V",RIGHT(D72,1)="J"),VALUE(LEFT(D72,LEN(D72)-1)),D72) -> 0 | I72: =Q72&COUNTIF($H$2:$H72,H72) -> #N/A | J72: =VLOOKUP(L72,ClubNames,2,FALSE())&COUNTIF($L$2:$L72,L72) -> #N/A | O72: 71 | P72: =VLOOKUP(I72,J:M,4,FALSE())&IF(RIGHT(D72,1)="L"," (L)",IF(RIGHT(D72,1)="J"," (J)","")) -> #N/A | Q72: =VLOOKUP(H72,ClubNames,2,FALSE()) -> #N/A | R72: =TIME(A72,B72,C72) -> 0
H73: =IF(OR(RIGHT(D73,1)="V",RIGHT(D73,1)="J"),VALUE(LEFT(D73,LEN(D73)-1)),D73) -> 0 | I73: =Q73&COUNTIF($H$2:$H73,H73) -> #N/A | J73: =VLOOKUP(L73,ClubNames,2,FALSE())&COUNTIF($L$2:$L73,L73) -> #N/A | O73: 72 | P73: =VLOOKUP(I73,J:M,4,FALSE())&IF(RIGHT(D73,1)="L"," (L)",IF(RIGHT(D73,1)="J"," (J)","")) -> #N/A | Q73: =VLOOKUP(H73,ClubNames,2,FALSE()) -> #N/A | R73: =TIME(A73,B73,C73) -> 0
