Workbook

Sheet TeamResult
A1: Team | B1: Team Name | C1: Class | D1: Leg 1 Chip | E1: Leg 1 Runner | F1: Runner 1 Time | G1: Runner 1 Rank | H1: Leg 1 Time | I1: Leg 1 Position | J1: Leg 2 Chip | K1: Leg 2 Runner | L1: Runner 2 Time | M1: Runner 2 Rank | N1: Leg 2 Time | O1: Leg 2 Position | P1: Leg 3 Chip | Q1: Leg 3 Runner | R1: Runner 3 Time | S1: Runner 3 Rank | T1: Leg 3 Time | U1: Leg 3 Position | V1: Leg 4 Chip | W1: Leg 4 Runner | X1: Runner 4 Time | Y1: Runner 4 Rank | Z1: Leg 4 Time | AA1: Leg 4 Position
A2: 165 | B2: Fife_Athletic_Club_(A) | C2: F | D2: 905 | E2: =VLOOKUP(D2,NameLookup!$A$1:$H$1058,7,FALSE) -> Megan Crawford (F Sen) | F2: 0.012960613 | G2: 3 | H2: 0.012960613 | I2: 3 | J2: 906 | K2: =VLOOKUP(J2,NameLookup!$A$1:$H$1058,7,FALSE) -> Annabel Simpson (F Sen) | L2: 0.024064306 | M2: 3 | N2: 0.037024919 | O2: 2 | P2: 907 | Q2: =VLOOKUP(P2,NameLookup!$A$1:$H$1058,7,FALSE) -> Helen Sharpe (F Sen) | R2: 0.012974398 | S2: 1 | T2: 0.049999317 | U2: 1 | V2: 908 | W2: =VLOOKUP(V2,NameLookup!$A$1:$H$1058,7,FALSE) -> Stephanie Pennycook (F Sen) | X2: 0.023276273 | Y2: 1 | Z2: 0.07327559 | AA2: 1
A3: 185 | B3: Lothian_Running_Club_ | C3: F | D3: 985 | E3: =VLOOKUP(D3,NameLookup!$A$1:$H$1058,7,FALSE) -> Lana Turnbull (F Sen) | F3: 0.014306806 | G3: 16 | H3: 0.014306806 | I3: 16 | J3: 986 | K3: =VLOOKUP(J3,NameLookup!$A$1:$H$1058,7,FALSE) -> Jo Williams (F Sen) | L3: 0.02406294 | M3: 2 | N3: 0.038369745 | O3: 5 | P3: 987 | Q3: =VLOOKUP(P3,NameLookup!$A$1:$H$1058,7,FALSE) -> Siobhan Coleman (F Sen) | R3: 0.013334931 | S3: 3 | T3: 0.051704676 | U3: 3 | V3: 988 | W3: =VLOOKUP(V3,NameLookup!$A$1:$H$1058,7,FALSE) -> Sarah Inglis (F Sen) | X3: 0.023285023 | Y3: 2 | Z3: 0.074989699 | AA3: 2
A4: 162 | B4: Edinburgh_University_ | C4: F | D4: 893 | E4: =VLOOKUP(D4,NameLookup!$A$1:$H$1058,7,FALSE) -> Naomi Lang (FU20) | F4: 0.012434444 | G4: 1 | H4: 0.012434444 | I4: 1 | J4: 894 | K4: =VLOOKUP(J4,NameLookup!$A$1:$H$1058,7,FALSE) -> Mhairi Maclennan (F Sen) | L4: 0.023983218 | M4: 1 | N4: 0.036417662 | O4: 1 | P4: 895 | Q4: =VLOOKUP(P4,NameLookup!$A$1:$H$1058,7,FALSE) -> Helen Jones (F Sen) | R4: 0.014281458 | S4: 10 | T4: 0.05069912 | U4: 2 | V4: 896 | W4: =VLOOKUP(V4,NameLookup!$A$1:$H$1058,7,FALSE) -> Amy Frankland (F Sen) | X4: 0.025855891 | Y4: 6 | Z4: 0.076555012 | AA4: 3
A5: 154 | B5: Edinburgh_Athletics_C | C5: F | D5: 861 | E5: =VLOOKUP(D5,NameLookup!$A$1:$H$1058,7,FALSE) -> Victoria Riddell (F Sen) | F5: 0.013928704 | G5: 13 | H5: 0.013928704 | I5: 13 | J5: 862 | K5: =VLOOKUP(J5,NameLookup!$A$1:$H$1058,7,FALSE) -> Lauren Wilson (F Sen) | L5: 0.024729028 | M5: 6 | N5: 0.038657731 | O5: 6 | P5: 863 | Q5: =VLOOKUP(P5,NameLookup!$A$1:$H$1058,7,FALSE) -> Lyndsey Fraser (F40) | R5: 0.014036169 | S5: 8 | T5: 0.0526939 | U5: 5 | V5: 864 | W5: =VLOOKUP(V5,NameLookup!$A$1:$H$1058,7,FALSE) -> Jennifer MacLean (F40) | X5: 0.025521273 | Y5: 3 | Z5: 0.078215174 | AA5: 4
A6: 195 | B6: Shettleston_Harriers_ | C6: F | D6: 1025 | E6: =VLOOKUP(D6,NameLookup!$A$1:$H$1058,7,FALSE) -> Kathryn Pennel (F Sen) | F6: 0.013334201 | G6: 7 | H6: 0.013334201 | I6: 7 | J6: 1026 | K6: =VLOOKUP(J6,NameLookup!$A$1:$H$1058,7,FALSE) -> Ruth Joss (F Sen) | L6: 0.025662674 | M6: 8 | N6: 0.038996875 | O6: 7 | P6: 1027 | Q6: =VLOOKUP(P6,NameLookup!$A$1:$H$1058,7,FALSE) -> CharleneSophia Manley (F Sen) | R6: 0.014128194 | S6: 9 | T6: 0.053125069 | U6: 8 | V6: 1028 | W6: =VLOOKUP(V6,NameLookup!$A$1:$H$1058,7,FALSE) -> Avril Mason (F40) | X6: 0.025925417 | Y6: 7 | Z6: 0.079050486 | AA6: 5
A7: 166 | B7: Fife_Athletic_Club_(B) | C7: F | D7: 909 | E7: =VLOOKUP(D7,NameLookup!$A$1:$H$1058,7,FALSE) -> Katie Jones (F Sen) | F7: 0.013447824 | G7: 8 | H7: 0.013447824 | I7: 8 | J7: 910 | K7: =VLOOKUP(J7,NameLookup!$A$1:$H$1058,7,FALSE) -> Halina Rees (F Sen) | L7: 0.026409479 | M7: 10 | N7: 0.039857303 | O7: 9 | P7: 911 | Q7: =VLOOKUP(P7,NameLookup!$A$1:$H$1058,7,FALSE) -> Jenny Selman (F Sen) | R7: 0.013032963 | S7: 2 | T7: 0.052890266 | U7: 7 | V7: 912 | W7: =VLOOKUP(V7,NameLookup!$A$1:$H$1058,7,FALSE) -> Sophie Mullins (F Sen) | X7: 0.026307998 | Y7: 8 | Z7: 0.079198264 | AA7: 6
A8: 175 | B8: Hunters_Bog_Trotters_ | C8: F | D8: 945 | E8: =VLOOKUP(D8,NameLookup!$A$1:$H$1058,7,FALSE) -> Eilis McKechanie (F Sen) | F8: 0.014182338 | G8: 15 | H8: 0.014182338 | I8: 15 | J8: 946 | K8: =VLOOKUP(J8,NameLookup!$A$1:$H$1058,7,FALSE) -> Shona McIntosh (F Sen) | L8: 0.02417794 | M8: 4 | N8: 0.038360278 | O8: 4 | P8: 947 | Q8: =VLOOKUP(P8,NameLookup!$A$1:$H$1058,7,FALSE) -> Megan Mowbray (F40) | R8: 0.014494618 | S8: 12 | T8: 0.052854896 | U8: 6 | V8: 948 | W8: =VLOOKUP(V8,NameLookup!$A$1:$H$1058,7,FALSE) -> Megan Wright (F40) | X8: 0.026455833 | Y8: 9 | Z8: 0.079310729 | AA8: 7
A9: 177 | B9: Kilbarchan_AAC_(A) | C9: F | D9: 953 | E9: =VLOOKUP(D9,NameLookup!$A$1:$H$1058,7,FALSE) -> Christina Rankin (F Sen) | F9: 0.013008079 | G9: 4 | H9: 0.013008079 | I9: 4 | J9: 954 | K9: =VLOOKUP(J9,NameLookup!$A$1:$H$1058,7,FALSE) -> Elspeth Curran (F Sen) | L9: 0.024978542 | M9: 7 | N9: 0.03798662 | O9: 3 | P9: 955 | Q9: =VLOOKUP(P9,NameLookup!$A$1:$H$1058,7,FALSE) -> Holly Thompson (FU20) | R9: 0.013841852 | S9: 7 | T9: 0.051828472 | U9: 4 | V9: 956 | W9: =VLOOKUP(V9,NameLookup!$A$1:$H$1058,7,FALSE) -> Elaine Eadie (F Sen) | X9: 0.027831736 | Y9: 13 | Z9: 0.079660208 | AA9: 8
A10: 163 | B10: Falkirk_Victoria_Harr | C10: F | D10: 897 | E10: =VLOOKUP(D10,NameLookup!$A$1:$H$1058,7,FALSE) -> Lorna Kennedy (F40) | F10: 0.015002269 | G10: 23 | H10: 0.015002269 | I10: 23 | J10: 898 | K10: =VLOOKUP(J10,NameLookup!$A$1:$H$1058,7,FALSE) -> Claire Moffett (F Sen) | L10: 0.024454016 | M10: 5 | N10: 0.039456285 | O10: 8 | P10: 899 | Q10: =VLOOKUP(P10,NameLookup!$A$1:$H$1058,7,FALSE) -> Megan Davidson (F Sen) | R10: 0.014918021 | S10: 14 | T10: 0.054374306 | U10: 9 | V10: 900 | W10: =VLOOKUP(V10,NameLookup!$A$1:$H$1058,7,FALSE) -> Fiona Matheson (F55) | X10: 0.025820069 | Y10: 4 | Z10: 0.080194375 | AA10: 9
A11: 171 | B11: Gala_Harriers_(A) | C11: F | D11: 929 | E11: =VLOOKUP(D11,NameLookup!$A$1:$H$1058,7,FALSE) -> Zoe Pflug (FU20) | F11: 0.013513912 | G11: 9 | H11: 0.013513912 | I11: 9 | J11: 930 | K11: =VLOOKUP(J11,NameLookup!$A$1:$H$1058,7,FALSE) -> Sara Green (F Sen) | L11: 0.026372211 | M11: 9 | N11: 0.039886123 | O11: 10 | P11: 931 | Q11: =VLOOKUP(P11,NameLookup!$A$1:$H$1058,7,FALSE) -> Eileen Maxwell (F55) | R11: 0.016743403 | S11: 23 | T11: 0.056629525 | U11: 13 | V11: 932 | W11: =VLOOKUP(V11,NameLookup!$A$1:$H$1058,7,FALSE) -> Kirstin Maxwell (F Sen) | X11: 0.025820845 | Y11: 5 | Z11: 0.08245037 | AA11: 10
A12: 150 | B12: Central_Athletics_Clu | C12: F | D12: 845 | E12: =VLOOKUP(D12,NameLookup!$A$1:$H$1058,7,FALSE) -> Fiona Davies (FU20) | F12: 0.014403461 | G12: 17 | H12: 0.014403461 | I12: 17 | J12: 846 | K12: =VLOOKUP(J12,NameLookup!$A$1:$H$1058,7,FALSE) -> Claire Houston (F Sen) | L12: 0.02758728 | M12: 14 | N12: 0.041990741 | O12: 14 | P12: 847 | Q12: =VLOOKUP(P12,NameLookup!$A$1:$H$1058,7,FALSE) -> Natalie sTEWART (F Sen) | R12: 0.013497373 | S12: 5 | T12: 0.055488113 | U12: 10 | V12: 848 | W12: =VLOOKUP(V12,NameLookup!$A$1:$H$1058,7,FALSE) -> Lauren McCulloch (FU20) | X12: 0.027830405 | Y12: 12 | Z12: 0.083318519 | AA12: 11
A13: 186 | B13: Lothian_Running_Club_ | C13: F | D13: 989 | E13: =VLOOKUP(D13,NameLookup!$A$1:$H$1058,7,FALSE) -> Yvonne Crilly (F55) | F13: 0.014115486 | G13: 14 | H13: 0.014115486 | I13: 14 | J13: 990 | K13: =VLOOKUP(J13,NameLookup!$A$1:$H$1058,7,FALSE) -> Mel Zobel (F Sen) | L13: 0.028268773 | M13: 16 | N13: 0.042384259 | O13: 15 | P13: 991 | Q13: =VLOOKUP(P13,NameLookup!$A$1:$H$1058,7,FALSE) -> Emma Jackson (F Sen) | R13: 0.013748218 | S13: 6 | T13: 0.056132477 | U13: 11 | V13: 992 | W13: =VLOOKUP(V13,NameLookup!$A$1:$H$1058,7,FALSE) -> Christine MacVarish (F45) | X13: 0.028317326 | Y13: 15 | Z13: 0.084449803 | AA13: 12
... A32: 146 | B32: Bellahouston_Harriers | C32: F | D32: 831 | E32: =VLOOKUP(D32,NameLookup!$A$1:$H$1058,7,FALSE) -> Gillian Glass (F45) | F32: 0.018367199 | G32: 42 | H32: 0.018367199 | I32: 42 | J32: 832 | K32: =VLOOKUP(J32,NameLookup!$A$1:$H$1058,7,FALSE) -> Christine. McKay (F55) | L32: 0.033798183 | M32: 34 | N32: 0.052165382 | O32: 36 | P32: 829 | Q32: =VLOOKUP(P32,NameLookup!$A$1:$H$1058,7,FALSE) -> Elaine. Macdonald (F Sen) | R32: 0.02147515 | S32: 35 | T32: 0.073640532 | U32: 37 | V32: 830 | W32: =VLOOKUP(V32,NameLookup!$A$1:$H$1058,7,FALSE) -> Jasmin Shields (F Sen) | X32: 0.040024873 | Y32: 31 | Z32: 0.11366541 | AA32: 31
A33: 155 | B33: Edinburgh_Athletics_C | C33: F | D33: 865 | E33: =VLOOKUP(D33,NameLookup!$A$1:$H$1058,7,FALSE) -> SarahRussell Brown (F Sen) | F33: 0.013046123 | G33: 5 | H33: 0.013046123 | I33: 5 | J33: 866 | K33: =VLOOKUP(J33,NameLookup!$A$1:$H$1058,7,FALSE) -> Dee Watters (F Sen) | L33: 0.028655266 | M33: 17 | N33: 0.041701389 | O33: 12 | P33: 867 | Q33: =VLOOKUP(P33,NameLookup!$A$1:$H$1058,7,FALSE) -> Leanne Webster (F Sen) | R33: 0.015632025 | S33: 18 | T33: 0.057333414 | U33: 15
A34: 158 | B34: Edinburgh_University_ | C34: F | D34: 877 | E34: =VLOOKUP(D34,NameLookup!$A$1:$H$1058,7,FALSE) -> Linette Knudsen (F Sen) | F34: 0.019303403 | G34: 43 | H34: 0.019303403 | I34: 43 | J34: 878 | K34: =VLOOKUP(J34,NameLookup!$A$1:$H$1058,7,FALSE) -> Leda Olia (F Sen) | L34: 0.032440972 | M34: 31 | N34: 0.051744375 | O34: 34 | P34: 879 | Q34: =VLOOKUP(P34,NameLookup!$A$1:$H$1058,7,FALSE) -> Rachel Stewart (F Sen) | R34: 0.018757141 | S34: 33 | T34: 0.070501516 | U34: 36
A35: 191 | B35: Motherwell_AC_(B) | C35: F | D35: 1009 | E35: =VLOOKUP(D35,NameLookup!$A$1:$H$1058,7,FALSE) -> Clare Hughes (F Sen) | F35: 0.013858576 | G35: 12 | H35: 0.013858576 | I35: 12 | J35: 1010 | K35: =VLOOKUP(J35,NameLookup!$A$1:$H$1058,7,FALSE) -> Alison Jardine (F Sen) | L35: 0.031327569 | M35: 27 | N35: 0.045186146 | O35: 21
A36: 196 | B36: Shettleston_Harriers_ | C36: F | D36: 1029 | E36: =VLOOKUP(D36,NameLookup!$A$1:$H$1058,7,FALSE) -> Cara McCafferty (FU20) | F36: 0.016666192 | G36: 32 | H36: 0.016666192 | I36: 32 | J36: 1030 | K36: =VLOOKUP(J36,NameLookup!$A$1:$H$1058,7,FALSE) -> Gillian Mckinlay (F Sen) | L36: 0.0368164 | M36: 39 | N36: 0.053482593 | O36: 39
A37: 147 | B37: Bellahouston_Harriers | C37: F | D37: 833 | E37: =VLOOKUP(D37,NameLookup!$A$1:$H$1058,7,FALSE) -> Deirdre Hoyle (F65) | F37: 0.019514144 | G37: 45 | H37: 0.019514144 | I37: 45 | J37: 834 | K37: =VLOOKUP(J37,NameLookup!$A$1:$H$1058,7,FALSE) -> June MacLeod (F55) | L37: 0.038299225 | M37: 40 | N37: 0.057813368 | O37: 40
A38: 149 | B38: Cambuslang_Harriers_( | C38: F | D38: 841 | E38: =VLOOKUP(D38,NameLookup!$A$1:$H$1058,7,FALSE) -> Katie Bristow (F Sen) | F38: 0.013179502 | G38: 6 | H38: 0.013179502 | I38: 6
A39: 160 | B39: Edinburgh_University_ | C39: F | D39: 885 | E39: =VLOOKUP(D39,NameLookup!$A$1:$H$1058,7,FALSE) -> Lydia Blythe (FU20) | F39: 0.01474456 | G39: 21 | H39: 0.01474456 | I39: 21
A40: 176 | B40: Hunters_Bog_Trotters_ | C40: F | D40: 949 | E40: =VLOOKUP(D40,NameLookup!$A$1:$H$1058,7,FALSE) -> Phyllis O'Brien (F55) | F40: 0.015964178 | G40: 26 | H40: 0.015964178 | I40: 26
A41: 199 | B41: Teviotdale_Harriers_( | C41: F | D41: 1041 | E41: =VLOOKUP(D41,NameLookup!$A$1:$H$1058,7,FALSE) -> Lauren Corbett (F Sen) | F41: 0.016531204 | G41: 31 | H41: 0.016531204 | I41: 31
A42: 148 | B42: Calderglen_Harriers_( | C42: F | D42: 837 | E42: =VLOOKUP(D42,NameLookup!$A$1:$H$1058,7,FALSE) -> Alexandra Hayden (F Sen) | F42: 0.01785625 | G42: 39 | H42: 0.01785625 | I42: 39
A43: 189 | B43: Metro_Aberdeen_Runnin | C43: F | D43: 1001 | E43: =VLOOKUP(D43,NameLookup!$A$1:$H$1058,7,FALSE) -> Amy Mackie (F45) | F43: 0.019450775 | G43: 44 | H43: 0.019450775 | I43: 44
A45: 156 | B45: Edinburgh_Athletics_C | C45: F50 | D45: 869 | E45: =VLOOKUP(D45,NameLookup!$A$1:$H$1058,7,FALSE) -> Angela Routledge (F50) | F45: 0.018170775 | G45: 41 | H45: 0.018170775 | I45: 41 | J45: 870 | K45: =VLOOKUP(J45,NameLookup!$A$1:$H$1058,7,FALSE) -> Jill Morrow (F50) | L45: 0.027884884 | M45: 15 | N45: 0.04605566 | O45: 22 | P45: 871 | Q45: =VLOOKUP(P45,NameLookup!$A$1:$H$1058,7,FALSE) -> Karen Dobbie (F50) | R45: 0.014753183 | S45: 13 | T45: 0.060808843 | U45: 19
A46: 168 | B46: Fife_Athletic_Club_(D) | C46: F50 | D46: 917 | E46: =VLOOKUP(D46,NameLookup!$A$1:$H$1058,7,FALSE) -> Innes Bracegirdle (F60) | F46: 0.016377454 | G46: 30 | H46: 0.016377454 | I46: 30 | J46: 918 | K46: =VLOOKUP(J46,NameLookup!$A$1:$H$1058,7,FALSE) -> Addy Gerrard (F55) | L46: 0.029849549 | M46: 24 | N46: 0.046227002 | O46: 23 | P46: 919 | Q46: =VLOOKUP(P46,NameLookup!$A$1:$H$1058,7,FALSE) -> Lynne Stephen (F55) | R46: 0.015588854 | S46: 17 | T46: 0.061815856 | U46: 22
A47: 182 | B47: Kirkintilloch_Olympia | C47: F50 | D47: 973 | E47: =VLOOKUP(D47,NameLookup!$A$1:$H$1058,7,FALSE) -> Shirley MacNab (F50) | F47: 0.017032488 | G47: 36 | H47: 0.017032488 | I47: 36 | J47: 974 | K47: =VLOOKUP(J47,NameLookup!$A$1:$H$1058,7,FALSE) -> Marie McChord (F55) | L47: 0.031152813 | M47: 26 | N47: 0.048185301 | O47: 29 | P47: 975 | Q47: =VLOOKUP(P47,NameLookup!$A$1:$H$1058,7,FALSE) -> Ada Stewart (F50) | R47: 0.016417234 | S47: 20 | T47: 0.064602535 | U47: 25
A48: 190 | B48: Motherwell_AC_(A) | C48: F50 | D48: 1005 | E48: =VLOOKUP(D48,NameLookup!$A$1:$H$1058,7,FALSE) -> Barbara Hogg (F50) | F48: 0.019694387 | G48: 46 | H48: 0.019694387 | I48: 46 | J48: 1006 | K48: =VLOOKUP(J48,NameLookup!$A$1:$H$1058,7,FALSE) -> Joyce Allardice (F50) | L48: 0.0325711 | M48: 32 | N48: 0.052265486 | O48: 37 | P48: 1007 | Q48: =VLOOKUP(P48,NameLookup!$A$1:$H$1058,7,FALSE) -> Mae McIsaac (F60) | R48: 0.018045926 | S48: 30 | T48: 0.070311412 | U48: 35

Sheet Short Leg Results
A1: Chip | B1: Runner | C1: Short | D1: Rank
A2: 893 | B2: Naomi Lang | C2: 0.012434444 | D2: 1
A3: 993 | B3: Claire Bruce | C3: 0.012801551 | D3: 2
A4: 905 | B4: Megan Crawford | C4: 0.012960613 | D4: 3
A5: 907 | B5: Helen Sharpe | C5: 0.012974398 | D5: 4
A6: 953 | B6: Christina Rankin | C6: 0.013008079 | D6: 5
A7: 911 | B7: Jenny Selman | C7: 0.013032963 | D7: 6
A8: 865 | B8: SarahRussell Brown | C8: 0.013046123 | D8: 7
A9: 841 | B9: Katie Bristow | C9: 0.013179502 | D9: 8
A10: 1025 | B10: Kathryn Pennel | C10: 0.013334201 | D10: 9
A11: 987 | B11: Siobhan Coleman | C11: 0.013334931 | D11: 10
A12: 909 | B12: Katie Jones | C12: 0.013447824 | D12: 11
A13: 883 | B13: Morgan Blevins | C13: 0.013489444 | D13: 12
... A84: 943 | B84: Sarah Smith | C84: 0.021773148 | D84: 83

Sheet Long Leg Results
A1: Chip | B1: Runner | C1: Long | D1: Rank
A2: 908 | B2: Stephanie Pennycook | C2: 0.023276273 | D2: 1
A3: 988 | B3: Sarah Inglis | C3: 0.023285023 | D3: 2
A4: 894 | B4: Mhairi Maclennan | C4: 0.023983218 | D4: 3
A5: 986 | B5: Jo Williams | C5: 0.02406294 | D5: 4
A6: 906 | B6: Annabel Simpson | C6: 0.024064306 | D6: 5
A7: 946 | B7: Shona McIntosh | C7: 0.02417794 | D7: 6
A8: 898 | B8: Claire Moffett | C8: 0.024454016 | D8: 7
A9: 862 | B9: Lauren Wilson | C9: 0.024729028 | D9: 8
A10: 954 | B10: Elspeth Curran | C10: 0.024978542 | D10: 9
A11: 864 | B11: Jennifer MacLean | C11: 0.025521273 | D11: 10
A12: 1026 | B12: Ruth Joss | C12: 0.025662674 | D12: 11
A13: 900 | B13: Fiona Matheson | C13: 0.025820069 | D13: 12
... A72: 830 | B72: Christine McKay | C72: 0.040024873 | D72: 71

Sheet NameLookup
A1: Bib# | B1: SAL Number | C1: Race No | D1: Forename | E1: Surname | F1: Age Group | G1: Programme Name | H1: Club
A2: 201 | B2: SA00869 | C2: 13 | D2: Rory | E2: Muir | F2: (M Sen) | G2: Rory Muir (M Sen) | H2: Aberdeen AAC
A3: 202 | B3: SA35394 | C3: 11 | D3: Will | E3: Mackay | F3: (M Sen) | G3: Will Mackay (M Sen) | H3: Aberdeen AAC
A4: 203 | B4: SA12214 | C4: 5 | D4: Michael | E4: Ferguson | F4: (M Sen) | G4: Michael Ferguson (M Sen) | H4: Aberdeen AAC
A5: 204 | B5: SA46710 | C5: 2 | D5: Owain | E5: Bristow | F5: (M Sen) | G5: Owain Bristow (M Sen) | H5: Aberdeen AAC
A6: 205 | B6: SA38733 | C6: 19 | D6: Fearghas | E6: Thomson | F6: (M Sen) | G6: Fearghas Thomson (M Sen) | H6: Aberdeen AAC
A7: 206 | B7: SA44330 | C7: 9 | D7: James | E7: Hoad | F7: (M Sen) | G7: James Hoad (M Sen) | H7: Aberdeen AAC
A8: 207 | B8: SA45888 | C8: 15 | D8: Philip | E8: Neilson | F8: (MU20) | G8: Philip Neilson (MU20) | H8: Aberdeen AAC
A9: 208 | B9: SA19422 | C9: 14 | D9: Steven | E9: Murray | F9: (M Sen) | G9: Steven Murray (M Sen) | H9: Aberdeen AAC
A10: 209 | B10: SA24086 | C10: 17 | D10: Aaron | E10: Odentz | F10: (MU20) | G10: Aaron Odentz (MU20) | H10: Aberdeen AAC
A11: 210 | B11: SA13129 | C11: 20 | D11: Euan | E11: Webster | F11: (M Sen) | G11: Euan Webster (M Sen) | H11: Aberdeen AAC
A12: 211 | B12: SA14973 | C12: 12 | D12: Eoghan | E12: MacNamara | F12: (M Sen) | G12: Eoghan MacNamara (M Sen) | H12: Aberdeen AAC
A13: 212 | B13: SA32204 | C13: 1 | D13: Joe | E13: Barton | F13: (MU20) | G13: Joe Barton (MU20) | H13: Aberdeen AAC
... A297: 627 | B297: SA46547 | C297: 573 | D297: Tony | E297: Quinn | F297: (M60) | G297: Tony Quinn (M60) | H297: Kirkintilloch Olympians
A298: 628 | C298: 563 | D298: James | E298: Gallacher | F298: (M55) | G298: James Gallacher (M55) | H298: Kirkintilloch Olympians
A299: 629 | B299: SA06813 | C299: 575 | D299: Robert | E299: Rogerson | F299: (M55) | G299: Robert Rogerson (M55) | H299: Kirkintilloch Olympians
A300: 630 | B300: SA18492 | C300: 581 | D300: Robert | E300: Watson | F300: (M55) | G300: Robert Watson (M55) | H300: Kirkintilloch Olympians
A301: 633 | B301: SA32425 | C301: 583 | D301: Mark | E301: Welsford | F301: (M40) | G301: Mark Welsford (M40) | H301: Kirkintilloch Olympians
A302: 634 | B302: SA47525 | C302: 582 | D302: John | E302: Wells | F302: (M45) | G302: John Wells (M45) | H302: Kirkintilloch Olympians
A303: 635 | B303: SA44268 | C303: 566 | D303: Norman | E303: Mcneill | F303: (M40) | G303: Norman Mcneill (M40) | H303: Kirkintilloch Olympians
A304: 636 | B304: SA35103 | C304: 576 | D304: Gary | E304: Shaw | F304: (M40) | G304: Gary Shaw (M40) | H304: Kirkintilloch Olympians
A305: 637 | B305: SA44678 | C305: 560 | D305: Robert | E305: Conroy | F305: (M40) | G305: Robert Conroy (M40) | H305: Kirkintilloch Olympians
A306: 638 | B306: SA25010 | C306: 564 | D306: Graham | E306: McCabe | F306: (M45) | G306: Graham McCabe (M45) | H306: Kirkintilloch Olympians
A307: 639 | B307: SA31033 | C307: 565 | D307: Edward | E307: McLoone | F307: (M Sen) | G307: Edward McLoone (M Sen) | H307: Kirkintilloch Olympians
A308: 640 | B308: SA23710 | C308: 561 | D308: Euan | E308: Craig | F308: (M Sen) | G308: Euan Craig (M Sen) | H308: Kirkintilloch Olympians
A309: 641 | B309: SA31204 | C309: 571 | D309: Teginder | E309: Padda | F309: (M40) | G309: Teginder Padda (M40) | H309: Kirkintilloch Olympians
A310: 642 | C310: 570 | D310: David | E310: Murray | F310: (M Sen) | G310: David Murray (M Sen) | H310: Kirkintilloch Olympians
A311: 643 | C311: 569 | D311: Owen | E311: Murphy | F311: #N/A | G311: #N/A | H311: Kirkintilloch Olympians
A312: 644 | C312: 574 | D312: Kenny | E312: Robertson | F312: #N/A | G312: #N/A | H312: Kirkintilloch Olympians
A313: 645 | B313: SA23993 | C313: 577 | D313: Colin | E313: Simpson | F313: (M60) | G313: Colin Simpson (M60) | H313: Kirkintilloch Olympians
A314: 646 | C314: 578 | D314: Stephen | E314: tominey | F314: (M50) | G314: Stephen tominey (M50) | H314: Kirkintilloch Olympians
A315: 657 | B315: SA42761 | C315: 605 | D315: Will | E315: Moffat | F315: (M45) | G315: Will Moffat (M45) | H315: Lothian Running Club
A316: 658 | B316: SA28303 | C316: 615 | D316: Owen | E316: Williams | F316: (M Sen) | G316: Owen Williams (M Sen) | H316: Lothian Running Club
A317: 659 | B317: SA07508 | C317: 614 | D317: Peter | E317: West | F317: (M60) | G317: Peter West (M60) | H317: Lothian Running Club
A318: 660 | B318: SA39107 | C318: 588 | D318: Ryan | E318: Ferguson | F318: (M Sen) | G318: Ryan Ferguson (M Sen) | H318: Lothian Running Club
A319: 661 | B319: SA29933 | C319: 592 | D319: Robert | E319: Kennedy | F319: (M Sen) | G319: Robert Kennedy (M Sen) | H319: Lothian Running Club
A320: 662 | B320: SA29495 | C320: 595 | D320: Martin | E320: Leadbetter | F320: (M60) | G320: Martin Leadbetter (M60) | H320: Lothian Running Club
A321: 663 | B321: SA32308 | C321: 601 | D321: Barry | E321: McComish | F321: (M40) | G321: Barry McComish (M40) | H321: Lothian Running Club
A322: 664 | B322: SA30962 | C322: 594 | D322: Malcolm | E322: Lang | F322: (M40) | G322: Malcolm Lang (M40) | H322: Lothian Running Club
A323: 665 | B323: SA22716 | C323: 602 | D323: Euan | E323: McInnes | F323: (M40) | G323: Euan McInnes (M40) | H323: Lothian Running Club
...

Sheet TeamResults2
A1: Team | B1: Team Name | C1: Class | E1: Leg 1 | F1: Time | G1: Rank | K1: Leg 2 | L1: Time | M1: Rank | Q1: Leg 3 | R1: Time | S1: Rank | W1: Leg 4 | X1: Time | Y1: Rank
A2: =INDIRECT("TeamResult!"&"R"&ROW()/2+1&"C"&COLUMN(),FALSE) -> 165 | B2: =INDIRECT("TeamResult!"&"R"&ROW()/2+1&"C"&COLUMN(),FALSE) -> Fife_Athletic_Club_(A) | C2: =INDIRECT("TeamResult!"&"R"&ROW()/2+1&"C"&COLUMN(),FALSE) -> F | D2: =INDIRECT("TeamResult!"&"R"&ROW()/2+1&"C"&COLUMN(),FALSE) -> 905 | E2: =INDIRECT("TeamResult!"&"R"&ROW()/2+1&"C"&COLUMN(),FALSE) -> Megan Crawford (F Sen) | F2: =INDIRECT("TeamResult!"&"R"&ROW()/2+1&"C"&COLUMN(),FALSE) -> 0.012960613 | G2: =INDIRECT("TeamResult!"&"R"&ROW()/2+1&"C"&COLUMN(),FALSE) -> 3 | K2: =INDIRECT("TeamResult!"&"R"&ROW()/2+1&"C"&COLUMN(),FALSE) -> Annabel Simpson (F Sen) | L2: =INDIRECT("TeamResult!"&"R"&ROW()/2+1&"C"&COLUMN(),FALSE) -> 0.024064306 | M2: =INDIRECT("TeamResult!"&"R"&ROW()/2+1&"C"&COLUMN(),FALSE) -> 3 | Q2: =INDIRECT("TeamResult!"&"R"&ROW()/2+1&"C"&COLUMN(),FALSE) -> Helen Sharpe (F Sen) | R2: =INDIRECT("TeamResult!"&"R"&ROW()/2+1&"C"&COLUMN(),FALSE) -> 0.012974398 | S2: =INDIRECT("TeamResult!"&"R"&ROW()/2+1&"C"&COLUMN(),FALSE) -> 1 | W2: =INDIRECT("TeamResult!"&"R"&ROW()/2+1&"C"&COLUMN(),FALSE) -> Stephanie Pennycook (F Sen) | X2: =INDIRECT("TeamResult!"&"R"&ROW()/2+1&"C"&COLUMN(),FALSE) -> 0.023276273 | Y2: =INDIRECT("TeamResult!"&"R"&ROW()/2+1&"C"&COLUMN(),FALSE) -> 1
F3: =INDIRECT("TeamResult!"&"R" & (ROW()-1)/2 +1& "C" & COLUMN()+2,FALSE) -> 0.012960613 | G3: =INDIRECT("TeamResult!"&"R" & (ROW()-1)/2 +1& "C" & COLUMN()+2,FALSE) -> 3 | L3: =INDIRECT("TeamResult!"&"R" & (ROW()-1)/2 +1& "C" & COLUMN()+2,FALSE) -> 0.037024919 | M3: =INDIRECT("TeamResult!"&"R" & (ROW()-1)/2 +1& "C" & COLUMN()+2,FALSE) -> 2 | R3: =INDIRECT("TeamResult!"&"R" & (ROW()-1)/2 +1& "C" & COLUMN()+2,FALSE) -> 0.049999317 | S3: =INDIRECT("TeamResult!"&"R" & (ROW()-1)/2 +1& "C" & COLUMN()+2,FALSE) -> 1 | X3: =INDIRECT("TeamResult!"&"R" & (ROW()-1)/2 +1& "C" & COLUMN()+2,FALSE) -> 0.07327559 | Y3: =INDIRECT("TeamResult!"&"R" & (ROW()-1)/2 +1& "C" & COLUMN()+2,FALSE) -> 1
A4: =INDIRECT("TeamResult!"&"R"&ROW()/2+1&"C"&COLUMN(),FALSE) -> 185 | B4: =INDIRECT("TeamResult!"&"R"&ROW()/2+1&"C"&COLUMN(),FALSE) -> Lothian_Running_Club_ | C4: =INDIRECT("TeamResult!"&"R"&ROW()/2+1&"C"&COLUMN(),FALSE) -> F | D4: =INDIRECT("TeamResult!"&"R"&ROW()/2+1&"C"&COLUMN(),FALSE) -> 985 | E4: =INDIRECT("TeamResult!"&"R"&ROW()/2+1&"C"&COLUMN(),FALSE) -> Lana Turnbull (F Sen) | F4: =INDIRECT("TeamResult!"&"R"&ROW()/2+1&"C"&COLUMN(),FALSE) -> 0.014306806 | G4: =INDIRECT("TeamResult!"&"R"&ROW()/2+1&"C"&COLUMN(),FALSE) -> 16 | K4: =INDIRECT("TeamResult!"&"R"&ROW()/2+1&"C"&COLUMN(),FALSE) -> Jo Williams (F Sen) | L4: =INDIRECT("TeamResult!"&"R"&ROW()/2+1&"C"&COLUMN(),FALSE) -> 0.02406294 | M4: =INDIRECT("TeamResult!"&"R"&ROW()/2+1&"C"&COLUMN(),FALSE) -> 2 | Q4: =INDIRECT("TeamResult!"&"R"&ROW()/2+1&"C"&COLUMN(),FALSE) -> Siobhan Coleman (F Sen) | R4: =INDIRECT("TeamResult!"&"R"&ROW()/2+1&"C"&COLUMN(),FALSE) -> 0.013334931 | S4: =INDIRECT("TeamResult!"&"R"&ROW()/2+1&"C"&COLUMN(),FALSE) -> 3 | W4: =INDIRECT("TeamResult!"&"R"&ROW()/2+1&"C"&COLUMN(),FALSE) -> Sarah Inglis (F Sen) | X4: =INDIRECT("TeamResult!"&"R"&ROW()/2+1&"C"&COLUMN(),FALSE) -> 0.023285023 | Y4: =INDIRECT("TeamResult!"&"R"&ROW()/2+1&"C"&COLUMN(),FALSE) -> 2
F5: =INDIRECT("TeamResult!"&"R" & (ROW()-1)/2 +1& "C" & COLUMN()+2,FALSE) -> 0.014306806 | G5: =INDIRECT("TeamResult!"&"R" & (ROW()-1)/2 +1& "C" & COLUMN()+2,FALSE) -> 16 | L5: =INDIRECT("TeamResult!"&"R" & (ROW()-1)/2 +1& "C" & COLUMN()+2,FALSE) -> 0.038369745 | M5: =INDIRECT("TeamResult!"&"R" & (ROW()-1)/2 +1& "C" & COLUMN()+2,FALSE) -> 5 | R5: =INDIRECT("TeamResult!"&"R" & (ROW()-1)/2 +1& "C" & COLUMN()+2,FALSE) -> 0.051704676 | S5: =INDIRECT("TeamResult!"&"R" & (ROW()-1)/2 +1& "C" & COLUMN()+2,FALSE) -> 3 | X5: =INDIRECT("TeamResult!"&"R" & (ROW()-1)/2 +1& "C" & COLUMN()+2,FALSE) -> 0.074989699 | Y5: =INDIRECT("TeamResult!"&"R" & (ROW()-1)/2 +1& "C" & COLUMN()+2,FALSE) -> 2
A6: =INDIRECT("TeamResult!"&"R"&ROW()/2+1&"C"&COLUMN(),FALSE) -> 162 | B6: =INDIRECT("TeamResult!"&"R"&ROW()/2+1&"C"&COLUMN(),FALSE) -> Edinburgh_University_ | C6: =INDIRECT("TeamResult!"&"R"&ROW()/2+1&"C"&COLUMN(),FALSE) -> F | D6: =INDIRECT("TeamResult!"&"R"&ROW()/2+1&"C"&COLUMN(),FALSE) -> 893 | E6: =INDIRECT("TeamResult!"&"R"&ROW()/2+1&"C"&COLUMN(),FALSE) -> Naomi Lang (FU20) | F6: =INDIRECT("TeamResult!"&"R"&ROW()/2+1&"C"&COLUMN(),FALSE) -> 0.012434444 | G6: =INDIRECT("TeamResult!"&"R"&ROW()/2+1&"C"&COLUMN(),FALSE) -> 1 | K6: =INDIRECT("TeamResult!"&"R"&ROW()/2+1&"C"&COLUMN(),FALSE) -> Mhairi Maclennan (F Sen) | L6: =INDIRECT("TeamResult!"&"R"&ROW()/2+1&"C"&COLUMN(),FALSE) -> 0.023983218 | M6: =INDIRECT("TeamResult!"&"R"&ROW()/2+1&"C"&COLUMN(),FALSE) -> 1 | Q6: =INDIRECT("TeamResult!"&"R"&ROW()/2+1&"C"&COLUMN(),FALSE) -> Helen Jones (F Sen) | R6: =INDIRECT("TeamResult!"&"R"&ROW()/2+1&"C"&COLUMN(),FALSE) -> 0.014281458 | S6: =INDIRECT("TeamResult!"&"R"&ROW()/2+1&"C"&COLUMN(),FALSE) -> 10 | W6: =INDIRECT("TeamResult!"&"R"&ROW()/2+1&"C"&COLUMN(),FALSE) -> Amy Frankland (F Sen) | X6: =INDIRECT("TeamResult!"&"R"&ROW()/2+1&"C"&COLUMN(),FALSE) -> 0.025855891 | Y6: =INDIRECT("TeamResult!"&"R"&ROW()/2+1&"C"&COLUMN(),FALSE) -> 6
F7: =INDIRECT("TeamResult!"&"R" & (ROW()-1)/2 +1& "C" & COLUMN()+2,FALSE) -> 0.012434444 | G7: =INDIRECT("TeamResult!"&"R" & (ROW()-1)/2 +1& "C" & COLUMN()+2,FALSE) -> 1 | L7: =INDIRECT("TeamResult!"&"R" & (ROW()-1)/2 +1& "C" & COLUMN()+2,FALSE) -> 0.036417662 | M7: =INDIRECT("TeamResult!"&"R" & (ROW()-1)/2 +1& "C" & COLUMN()+2,FALSE) -> 1 | R7: =INDIRECT("TeamResult!"&"R" & (ROW()-1)/2 +1& "C" & COLUMN()+2,FALSE) -> 0.05069912 | S7: =INDIRECT("TeamResult!"&"R" & (ROW()-1)/2 +1& "C" & COLUMN()+2,FALSE) -> 2 | X7: =INDIRECT("TeamResult!"&"R" & (ROW()-1)/2 +1& "C" & COLUMN()+2,FALSE) -> 0.076555012 | Y7: =INDIRECT("TeamResult!"&"R" & (ROW()-1)/2 +1& "C" & COLUMN()+2,FALSE) -> 3
A8: =INDIRECT("TeamResult!"&"R"&ROW()/2+1&"C"&COLUMN(),FALSE) -> 154 | B8: =INDIRECT("TeamResult!"&"R"&ROW()/2+1&"C"&COLUMN(),FALSE) -> Edinburgh_Athletics_C | C8: =INDIRECT("TeamResult!"&"R"&ROW()/2+1&"C"&COLUMN(),FALSE) -> F | D8: =INDIRECT("TeamResult!"&"R"&ROW()/2+1&"C"&COLUMN(),FALSE) -> 861 | E8: =INDIRECT("TeamResult!"&"R"&ROW()/2+1&"C"&COLUMN(),FALSE) -> Victoria Riddell (F Sen) | F8: =INDIRECT("TeamResult!"&"R"&ROW()/2+1&"C"&COLUMN(),FALSE) -> 0.013928704 | G8: =INDIRECT("TeamResult!"&"R"&ROW()/2+1&"C"&COLUMN(),FALSE) -> 13 | K8: =INDIRECT("TeamResult!"&"R"&ROW()/2+1&"C"&COLUMN(),FALSE) -> Lauren Wilson (F Sen) | L8: =INDIRECT("TeamResult!"&"R"&ROW()/2+1&"C"&COLUMN(),FALSE) -> 0.024729028 | M8: =INDIRECT("TeamResult!"&"R"&ROW()/2+1&"C"&COLUMN(),FALSE) -> 6 | Q8: =INDIRECT("TeamResult!"&"R"&ROW()/2+1&"C"&COLUMN(),FALSE) -> Lyndsey Fraser (F40) | R8: =INDIRECT("TeamResult!"&"R"&ROW()/2+1&"C"&COLUMN(),FALSE) -> 0.014036169 | S8: =INDIRECT("TeamResult!"&"R"&ROW()/2+1&"C"&COLUMN(),FALSE) -> 8 | W8: =INDIRECT("TeamResult!"&"R"&ROW()/2+1&"C"&COLUMN(),FALSE) -> Jennifer MacLean (F40) | X8: =INDIRECT("TeamResult!"&"R"&ROW()/2+1&"C"&COLUMN(),FALSE) -> 0.025521273 | Y8: =INDIRECT("TeamResult!"&"R"&ROW()/2+1&"C"&COLUMN(),FALSE) -> 3
F9: =INDIRECT("TeamResult!"&"R" & (ROW()-1)/2 +1& "C" & COLUMN()+2,FALSE) -> 0.013928704 | G9: =INDIRECT("TeamResult!"&"R" & (ROW()-1)/2 +1& "C" & COLUMN()+2,FALSE) -> 13 | L9: =INDIRECT("TeamResult!"&"R" & (ROW()-1)/2 +1& "C" & COLUMN()+2,FALSE) -> 0.038657731 | M9: =INDIRECT("TeamResult!"&"R" & (ROW()-1)/2 +1& "C" & COLUMN()+2,FALSE) -> 6 | R9: =INDIRECT("TeamResult!"&"R" & (ROW()-1)/2 +1& "C" & COLUMN()+2,FALSE) -> 0.0526939 | S9: =INDIRECT("TeamResult!"&"R" & (ROW()-1)/2 +1& "C" & COLUMN()+2,FALSE) -> 5 | X9: =INDIRECT("TeamResult!"&"R" & (ROW()-1)/2 +1& "C" & COLUMN()+2,FALSE) -> 0.078215174 | Y9: =INDIRECT("TeamResult!"&"R" & (ROW()-1)/2 +1& "C" & COLUMN()+2,FALSE) -> 4
A10: =INDIRECT("TeamResult!"&"R"&ROW()/2+1&"C"&COLUMN(),FALSE) -> 195 | B10: =INDIRECT("TeamResult!"&"R"&ROW()/2+1&"C"&COLUMN(),FALSE) -> Shettleston_Harriers_ | C10: =INDIRECT("TeamResult!"&"R"&ROW()/2+1&"C"&COLUMN(),FALSE) -> F | D10: =INDIRECT("TeamResult!"&"R"&ROW()/2+1&"C"&COLUMN(),FALSE) -> 1025 | E10: =INDIRECT("TeamResult!"&"R"&ROW()/2+1&"C"&COLUMN(),FALSE) -> Kathryn Pennel (F Sen) | F10: =INDIRECT("TeamResult!"&"R"&ROW()/2+1&"C"&COLUMN(),FALSE) -> 0.013334201 | G10: =INDIRECT("TeamResult!"&"R"&ROW()/2+1&"C"&COLUMN(),FALSE) -> 7 | K10: =INDIRECT("TeamResult!"&"R"&ROW()/2+1&"C"&COLUMN(),FALSE) -> Ruth Joss (F Sen) | L10: =INDIRECT("TeamResult!"&"R"&ROW()/2+1&"C"&COLUMN(),FALSE) -> 0.025662674 | M10: =INDIRECT("TeamResult!"&"R"&ROW()/2+1&"C"&COLUMN(),FALSE) -> 8 | Q10: =INDIRECT("TeamResult!"&"R"&ROW()/2+1&"C"&COLUMN(),FALSE) -> CharleneSophia Manley (F Sen) | R10: =INDIRECT("TeamResult!"&"R"&ROW()/2+1&"C"&COLUMN(),FALSE) -> 0.014128194 | S10: =INDIRECT("TeamResult!"&"R"&ROW()/2+1&"C"&COLUMN(),FALSE) -> 9 | W10: =INDIRECT("TeamResult!"&"R"&ROW()/2+1&"C"&COLUMN(),FALSE) -> Avril Mason (F40) | X10: =INDIRECT("TeamResult!"&"R"&ROW()/2+1&"C"&COLUMN(),FALSE) -> 0.025925417 | Y10: =INDIRECT("TeamResult!"&"R"&ROW()/2+1&"C"&COLUMN(),FALSE) -> 7
F11: =INDIRECT("TeamResult!"&"R" & (ROW()-1)/2 +1& "C" & COLUMN()+2,FALSE) -> 0.013334201 | G11: =INDIRECT("TeamResult!"&"R" & (ROW()-1)/2 +1& "C" & COLUMN()+2,FALSE) -> 7 | L11: =INDIRECT("TeamResult!"&"R" & (ROW()-1)/2 +1& "C" & COLUMN()+2,FALSE) -> 0.038996875 | M11: =INDIRECT("TeamResult!"&"R" & (ROW()-1)/2 +1& "C" & COLUMN()+2,FALSE) -> 7 | R11: =INDIRECT("TeamResult!"&"R" & (ROW()-1)/2 +1& "C" & COLUMN()+2,FALSE) -> 0.053125069 | S11: =INDIRECT("TeamResult!"&"R" & (ROW()-1)/2 +1& "C" & COLUMN()+2,FALSE) -> 8 | X11: =INDIRECT("TeamResult!"&"R" & (ROW()-1)/2 +1& "C" & COLUMN()+2,FALSE) -> 0.079050486 | Y11: =INDIRECT("TeamResult!"&"R" & (ROW()-1)/2 +1& "C" & COLUMN()+2,FALSE) -> 5
A12: =INDIRECT("TeamResult!"&"R"&ROW()/2+1&"C"&COLUMN(),FALSE) -> 166 | B12: =INDIRECT("TeamResult!"&"R"&ROW()/2+1&"C"&COLUMN(),FALSE) -> Fife_Athletic_Club_(B) | C12: =INDIRECT("TeamResult!"&"R"&ROW()/2+1&"C"&COLUMN(),FALSE) -> F | D12: =INDIRECT("TeamResult!"&"R"&ROW()/2+1&"C"&COLUMN(),FALSE) -> 909 | E12: =INDIRECT("TeamResult!"&"R"&ROW()/2+1&"C"&COLUMN(),FALSE) -> Katie Jones (F Sen) | F12: =INDIRECT("TeamResult!"&"R"&ROW()/2+1&"C"&COLUMN(),FALSE) -> 0.013447824 | G12: =INDIRECT("TeamResult!"&"R"&ROW()/2+1&"C"&COLUMN(),FALSE) -> 8 | K12: =INDIRECT("TeamResult!"&"R"&ROW()/2+1&"C"&COLUMN(),FALSE) -> Halina Rees (F Sen) | L12: =INDIRECT("TeamResult!"&"R"&ROW()/2+1&"C"&COLUMN(),FALSE) -> 0.026409479 | M12: =INDIRECT("TeamResult!"&"R"&ROW()/2+1&"C"&COLUMN(),FALSE) -> 10 | Q12: =INDIRECT("TeamResult!"&"R"&ROW()/2+1&"C"&COLUMN(),FALSE) -> Jenny Selman (F Sen) | R12: =INDIRECT("TeamResult!"&"R"&ROW()/2+1&"C"&COLUMN(),FALSE) -> 0.013032963 | S12: =INDIRECT("TeamResult!"&"R"&ROW()/2+1&"C"&COLUMN(),FALSE) -> 2 | W12: =INDIRECT("TeamResult!"&"R"&ROW()/2+1&"C"&COLUMN(),FALSE) -> Sophie Mullins (F Sen) | X12: =INDIRECT("TeamResult!"&"R"&ROW()/2+1&"C"&COLUMN(),FALSE) -> 0.026307998 | Y12: =INDIRECT("TeamResult!"&"R"&ROW()/2+1&"C"&COLUMN(),FALSE) -> 8
F13: =INDIRECT("TeamResult!"&"R" & (ROW()-1)/2 +1& "C" & COLUMN()+2,FALSE) -> 0.013447824 | G13: =INDIRECT("TeamResult!"&"R" & (ROW()-1)/2 +1& "C" & COLUMN()+2,FALSE) -> 8 | L13: =INDIRECT("TeamResult!"&"R" & (ROW()-1)/2 +1& "C" & COLUMN()+2,FALSE) -> 0.039857303 | M13: =INDIRECT("TeamResult!"&"R" & (ROW()-1)/2 +1& "C" & COLUMN()+2,FALSE) -> 9 | R13: =INDIRECT("TeamResult!"&"R" & (ROW()-1)/2 +1& "C" & COLUMN()+2,FALSE) -> 0.052890266 | S13: =INDIRECT("TeamResult!"&"R" & (ROW()-1)/2 +1& "C" & COLUMN()+2,FALSE) -> 7 | X13: =INDIRECT("TeamResult!"&"R" & (ROW()-1)/2 +1& "C" & COLUMN()+2,FALSE) -> 0.079198264 | Y13: =INDIRECT("TeamResult!"&"R" & (ROW()-1)/2 +1& "C" & COLUMN()+2,FALSE) -> 6
A14: =INDIRECT("TeamResult!"&"R"&ROW()/2+1&"C"&COLUMN(),FALSE) -> 175 | B14: =INDIRECT("TeamResult!"&"R"&ROW()/2+1&"C"&COLUMN(),FALSE) -> Hunters_Bog_Trotters_ | C14: =INDIRECT("TeamResult!"&"R"&ROW()/2+1&"C"&COLUMN(),FALSE) -> F | D14: =INDIRECT("TeamResult!"&"R"&ROW()/2+1&"C"&COLUMN(),FALSE) -> 945 | E14: =INDIRECT("TeamResult!"&"R"&ROW()/2+1&"C"&COLUMN(),FALSE) -> Eilis McKechanie (F Sen) | F14: =INDIRECT("TeamResult!"&"R"&ROW()/2+1&"C"&COLUMN(),FALSE) -> 0.014182338 | G14: =INDIRECT("TeamResult!"&"R"&ROW()/2+1&"C"&COLUMN(),FALSE) -> 15 | K14: =INDIRECT("TeamResult!"&"R"&ROW()/2+1&"C"&COLUMN(),FALSE) -> Shona McIntosh (F Sen) | L14: =INDIRECT("TeamResult!"&"R"&ROW()/2+1&"C"&COLUMN(),FALSE) -> 0.02417794 | M14: =INDIRECT("TeamResult!"&"R"&ROW()/2+1&"C"&COLUMN(),FALSE) -> 4 | Q14: =INDIRECT("TeamResult!"&"R"&ROW()/2+1&"C"&COLUMN(),FALSE) -> Megan Mowbray (F40) | R14: =INDIRECT("TeamResult!"&"R"&ROW()/2+1&"C"&COLUMN(),FALSE) -> 0.014494618 | S14: =INDIRECT("TeamResult!"&"R"&ROW()/2+1&"C"&COLUMN(),FALSE) -> 12 | W14: =INDIRECT("TeamResult!"&"R"&ROW()/2+1&"C"&COLUMN(),FALSE) -> Megan Wright (F40) | X14: =INDIRECT("TeamResult!"&"R"&ROW()/2+1&"C"&COLUMN(),FALSE) -> 0.026455833 | Y14: =INDIRECT("TeamResult!"&"R"&ROW()/2+1&"C"&COLUMN(),FALSE) -> 9
F15: =INDIRECT("TeamResult!"&"R" & (ROW()-1)/2 +1& "C" & COLUMN()+2,FALSE) -> 0.014182338 | G15: =INDIRECT("TeamResult!"&"R" & (ROW()-1)/2 +1& "C" & COLUMN()+2,FALSE) -> 15 | L15: =INDIRECT("TeamResult!"&"R" & (ROW()-1)/2 +1& "C" & COLUMN()+2,FALSE) -> 0.038360278 | M15: =INDIRECT("TeamResult!"&"R" & (ROW()-1)/2 +1& "C" & COLUMN()+2,FALSE) -> 4 | R15: =INDIRECT("TeamResult!"&"R" & (ROW()-1)/2 +1& "C" & COLUMN()+2,FALSE) -> 0.052854896 | S15: =INDIRECT("TeamResult!"&"R" & (ROW()-1)/2 +1& "C" & COLUMN()+2,FALSE) -> 6 | X15: =INDIRECT("TeamResult!"&"R" & (ROW()-1)/2 +1& "C" & COLUMN()+2,FALSE) -> 0.079310729 | Y15: =INDIRECT("TeamResult!"&"R" & (ROW()-1)/2 +1& "C" & COLUMN()+2,FALSE) -> 7
A16: =INDIRECT("TeamResult!"&"R"&ROW()/2+1&"C"&COLUMN(),FALSE) -> 177 | B16: =INDIRECT("TeamResult!"&"R"&ROW()/2+1&"C"&COLUMN(),FALSE) -> Kilbarchan_AAC_(A) | C16: =INDIRECT("TeamResult!"&"R"&ROW()/2+1&"C"&COLUMN(),FALSE) -> F | D16: =INDIRECT("TeamResult!"&"R"&ROW()/2+1&"C"&COLUMN(),FALSE) -> 953 | E16: =INDIRECT("TeamResult!"&"R"&ROW()/2+1&"C"&COLUMN(),FALSE) -> Christina Rankin (F Sen) | F16: =INDIRECT("TeamResult!"&"R"&ROW()/2+1&"C"&COLUMN(),FALSE) -> 0.013008079 | G16: =INDIRECT("TeamResult!"&"R"&ROW()/2+1&"C"&COLUMN(),FALSE) -> 4 | K16: =INDIRECT("TeamResult!"&"R"&ROW()/2+1&"C"&COLUMN(),FALSE) -> Elspeth Curran (F Sen) | L16: =INDIRECT("TeamResult!"&"R"&ROW()/2+1&"C"&COLUMN(),FALSE) -> 0.024978542 | M16: =INDIRECT("TeamResult!"&"R"&ROW()/2+1&"C"&COLUMN(),FALSE) -> 7 | Q16: =INDIRECT("TeamResult!"&"R"&ROW()/2+1&"C"&COLUMN(),FALSE) -> Holly Thompson (FU20) | R16: =INDIRECT("TeamResult!"&"R"&ROW()/2+1&"C"&COLUMN(),FALSE) -> 0.013841852 | S16: =INDIRECT("TeamResult!"&"R"&ROW()/2+1&"C"&COLUMN(),FALSE) -> 7 | W16: =INDIRECT("TeamResult!"&"R"&ROW()/2+1&"C"&COLUMN(),FALSE) -> Elaine Eadie (F Sen) | X16: =INDIRECT("TeamResult!"&"R"&ROW()/2+1&"C"&COLUMN(),FALSE) -> 0.027831736 | Y16: =INDIRECT("TeamResult!"&"R"&ROW()/2+1&"C"&COLUMN(),FALSE) -> 13
F17: =INDIRECT("TeamResult!"&"R" & (ROW()-1)/2 +1& "C" & COLUMN()+2,FALSE) -> 0.013008079 | G17: =INDIRECT("TeamResult!"&"R" & (ROW()-1)/2 +1& "C" & COLUMN()+2,FALSE) -> 4 | L17: =INDIRECT("TeamResult!"&"R" & (ROW()-1)/2 +1& "C" & COLUMN()+2,FALSE) -> 0.03798662 | M17: =INDIRECT("TeamResult!"&"R" & (ROW()-1)/2 +1& "C" & COLUMN()+2,FALSE) -> 3 | R17: =INDIRECT("TeamResult!"&"R" & (ROW()-1)/2 +1& "C" & COLUMN()+2,FALSE) -> 0.051828472 | S17: =INDIRECT("TeamResult!"&"R" & (ROW()-1)/2 +1& "C" & COLUMN()+2,FALSE) -> 4 | X17: =INDIRECT("TeamResult!"&"R" & (ROW()-1)/2 +1& "C" & COLUMN()+2,FALSE) -> 0.079660208 | Y17: =INDIRECT("TeamResult!"&"R" & (ROW()-1)/2 +1& "C" & COLUMN()+2,FALSE) -> 8
A18: =INDIRECT("TeamResult!"&"R"&ROW()/2+1&"C"&COLUMN(),FALSE) -> 163 | B18: =INDIRECT("TeamResult!"&"R"&ROW()/2+1&"C"&COLUMN(),FALSE) -> Falkirk_Victoria_Harr | C18: =INDIRECT("TeamResult!"&"R"&ROW()/2+1&"C"&COLUMN(),FALSE) -> F | D18: =INDIRECT("TeamResult!"&"R"&ROW()/2+1&"C"&COLUMN(),FALSE) -> 897 | E18: =INDIRECT("TeamResult!"&"R"&ROW()/2+1&"C"&COLUMN(),FALSE) -> Lorna Kennedy (F40) | F18: =INDIRECT("TeamResult!"&"R"&ROW()/2+1&"C"&COLUMN(),FALSE) -> 0.015002269 | G18: =INDIRECT("TeamResult!"&"R"&ROW()/2+1&"C"&COLUMN(),FALSE) -> 23 | K18: =INDIRECT("TeamResult!"&"R"&ROW()/2+1&"C"&COLUMN(),FALSE) -> Claire Moffett (F Sen) | L18: =INDIRECT("TeamResult!"&"R"&ROW()/2+1&"C"&COLUMN(),FALSE) -> 0.024454016 | M18: =INDIRECT("TeamResult!"&"R"&ROW()/2+1&"C"&COLUMN(),FALSE) -> 5 | Q18: =INDIRECT("TeamResult!"&"R"&ROW()/2+1&"C"&COLUMN(),FALSE) -> Megan Davidson (F Sen) | R18: =INDIRECT("TeamResult!"&"R"&ROW()/2+1&"C"&COLUMN(),FALSE) -> 0.014918021 | S18: =INDIRECT("TeamResult!"&"R"&ROW()/2+1&"C"&COLUMN(),FALSE) -> 14 | W18: =INDIRECT("TeamResult!"&"R"&ROW()/2+1&"C"&COLUMN(),FALSE) -> Fiona Matheson (F55) | X18: =INDIRECT("TeamResult!"&"R"&ROW()/2+1&"C"&COLUMN(),FALSE) -> 0.025820069 | Y18: =INDIRECT("TeamResult!"&"R"&ROW()/2+1&"C"&COLUMN(),FALSE) -> 4
F19: =INDIRECT("TeamResult!"&"R" & (ROW()-1)/2 +1& "C" & COLUMN()+2,FALSE) -> 0.015002269 | G19: =INDIRECT("TeamResult!"&"R" & (ROW()-1)/2 +1& "C" & COLUMN()+2,FALSE) -> 23 | L19: =INDIRECT("TeamResult!"&"R" & (ROW()-1)/2 +1& "C" & COLUMN()+2,FALSE) -> 0.039456285 | M19: =INDIRECT("TeamResult!"&"R" & (ROW()-1)/2 +1& "C" & COLUMN()+2,FALSE) -> 8 | R19: =INDIRECT("TeamResult!"&"R" & (ROW()-1)/2 +1& "C" & COLUMN()+2,FALSE) -> 0.054374306 | S19: =INDIRECT("TeamResult!"&"R" & (ROW()-1)/2 +1& "C" & COLUMN()+2,FALSE) -> 9 | X19: =INDIRECT("TeamResult!"&"R" & (ROW()-1)/2 +1& "C" & COLUMN()+2,FALSE) -> 0.080194375 | Y19: =INDIRECT("TeamResult!"&"R" & (ROW()-1)/2 +1& "C" & COLUMN()+2,FALSE) -> 9
A20: =INDIRECT("TeamResult!"&"R"&ROW()/2+1&"C"&COLUMN(),FALSE) -> 171 | B20: =INDIRECT("TeamResult!"&"R"&ROW()/2+1&"C"&COLUMN(),FALSE) -> Gala_Harriers_(A) | C20: =INDIRECT("TeamResult!"&"R"&ROW()/2+1&"C"&COLUMN(),FALSE) -> F | D20: =INDIRECT("TeamResult!"&"R"&ROW()/2+1&"C"&COLUMN(),FALSE) -> 929 | E20: =INDIRECT("TeamResult!"&"R"&ROW()/2+1&"C"&COLUMN(),FALSE) -> Zoe Pflug (FU20) | F20: =INDIRECT("TeamResult!"&"R"&ROW()/2+1&"C"&COLUMN(),FALSE) -> 0.013513912 | G20: =INDIRECT("TeamResult!"&"R"&ROW()/2+1&"C"&COLUMN(),FALSE) -> 9 | K20: =INDIRECT("TeamResult!"&"R"&ROW()/2+1&"C"&COLUMN(),FALSE) -> Sara Green (F Sen) | L20: =INDIRECT("TeamResult!"&"R"&ROW()/2+1&"C"&COLUMN(),FALSE) -> 0.026372211 | M20: =INDIRECT("TeamResult!"&"R"&ROW()/2+1&"C"&COLUMN(),FALSE) -> 9 | Q20: =INDIRECT("TeamResult!"&"R"&ROW()/2+1&"C"&COLUMN(),FALSE) -> Eileen Maxwell (F55) | R20: =INDIRECT("TeamResult!"&"R"&ROW()/2+1&"C"&COLUMN(),FALSE) -> 0.016743403 | S20: =INDIRECT("TeamResult!"&"R"&ROW()/2+1&"C"&COLUMN(),FALSE) -> 23 | W20: =INDIRECT("TeamResult!"&"R"&ROW()/2+1&"C"&COLUMN(),FALSE) -> Kirstin Maxwell (F Sen) | X20: =INDIRECT("TeamResult!"&"R"&ROW()/2+1&"C"&COLUMN(),FALSE) -> 0.025820845 | Y20: =INDIRECT("TeamResult!"&"R"&ROW()/2+1&"C"&COLUMN(),FALSE) -> 5
F21: =INDIRECT("TeamResult!"&"R" & (ROW()-1)/2 +1& "C" & COLUMN()+2,FALSE) -> 0.013513912 | G21: =INDIRECT("TeamResult!"&"R" & (ROW()-1)/2 +1& "C" & COLUMN()+2,FALSE) -> 9 | L21: =INDIRECT("TeamResult!"&"R" & (ROW()-1)/2 +1& "C" & COLUMN()+2,FALSE) -> 0.039886123 | M21: =INDIRECT("TeamResult!"&"R" & (ROW()-1)/2 +1& "C" & COLUMN()+2,FALSE) -> 10 | R21: =INDIRECT("TeamResult!"&"R" & (ROW()-1)/2 +1& "C" & COLUMN()+2,FALSE) -> 0.056629525 | S21: =INDIRECT("TeamResult!"&"R" & (ROW()-1)/2 +1& "C" & COLUMN()+2,FALSE) -> 13 | X21: =INDIRECT("TeamResult!"&"R" & (ROW()-1)/2 +1& "C" & COLUMN()+2,FALSE) -> 0.08245037 | Y21: =INDIRECT("TeamResult!"&"R" & (ROW()-1)/2 +1& "C" & COLUMN()+2,FALSE) -> 10
A22: =INDIRECT("TeamResult!"&"R"&ROW()/2+1&"C"&COLUMN(),FALSE) -> 150 | B22: =INDIRECT("TeamResult!"&"R"&ROW()/2+1&"C"&COLUMN(),FALSE) -> Central_Athletics_Clu | C22: =INDIRECT("TeamResult!"&"R"&ROW()/2+1&"C"&COLUMN(),FALSE) -> F | D22: =INDIRECT("TeamResult!"&"R"&ROW()/2+1&"C"&COLUMN(),FALSE) -> 845 | E22: =INDIRECT("TeamResult!"&"R"&ROW()/2+1&"C"&COLUMN(),FALSE) -> Fiona Davies (FU20) | F22: =INDIRECT("TeamResult!"&"R"&ROW()/2+1&"C"&COLUMN(),FALSE) -> 0.014403461 | G22: =INDIRECT("TeamResult!"&"R"&ROW()/2+1&"C"&COLUMN(),FALSE) -> 17 | K22: =INDIRECT("TeamResult!"&"R"&ROW()/2+1&"C"&COLUMN(),FALSE) -> Claire Houston (F Sen) | L22: =INDIRECT("TeamResult!"&"R"&ROW()/2+1&"C"&COLUMN(),FALSE) -> 0.02758728 | M22: =INDIRECT("TeamResult!"&"R"&ROW()/2+1&"C"&COLUMN(),FALSE) -> 14 | Q22: =INDIRECT("TeamResult!"&"R"&ROW()/2+1&"C"&COLUMN(),FALSE) -> Natalie sTEWART (F Sen) | R22: =INDIRECT("TeamResult!"&"R"&ROW()/2+1&"C"&COLUMN(),FALSE) -> 0.013497373 | S22: =INDIRECT("TeamResult!"&"R"&ROW()/2+1&"C"&COLUMN(),FALSE) -> 5 | W22: =INDIRECT("TeamResult!"&"R"&ROW()/2+1&"C"&COLUMN(),FALSE) -> Lauren McCulloch (FU20) | X22: =INDIRECT("TeamResult!"&"R"&ROW()/2+1&"C"&COLUMN(),FALSE) -> 0.027830405 | Y22: =INDIRECT("TeamResult!"&"R"&ROW()/2+1&"C"&COLUMN(),FALSE) -> 12
F23: =INDIRECT("TeamResult!"&"R" & (ROW()-1)/2 +1& "C" & COLUMN()+2,FALSE) -> 0.014403461 | G23: =INDIRECT("TeamResult!"&"R" & (ROW()-1)/2 +1& "C" & COLUMN()+2,FALSE) -> 17 | L23: =INDIRECT("TeamResult!"&"R" & (ROW()-1)/2 +1& "C" & COLUMN()+2,FALSE) -> 0.041990741 | M23: =INDIRECT("TeamResult!"&"R" & (ROW()-1)/2 +1& "C" & COLUMN()+2,FALSE) -> 14 | R23: =INDIRECT("TeamResult!"&"R" & (ROW()-1)/2 +1& "C" & COLUMN()+2,FALSE) -> 0.055488113 | S23: =INDIRECT("TeamResult!"&"R" & (ROW()-1)/2 +1& "C" & COLUMN()+2,FALSE) -> 10 | X23: =INDIRECT("TeamResult!"&"R" & (ROW()-1)/2 +1& "C" & COLUMN()+2,FALSE) -> 0.083318519 | Y23: =INDIRECT("TeamResult!"&"R" & (ROW()-1)/2 +1& "C" & COLUMN()+2,FALSE) -> 11
A24: =INDIRECT("TeamResult!"&"R"&ROW()/2+1&"C"&COLUMN(),FALSE) -> 186 | B24: =INDIRECT("TeamResult!"&"R"&ROW()/2+1&"C"&COLUMN(),FALSE) -> Lothian_Running_Club_ | C24: =INDIRECT("TeamResult!"&"R"&ROW()/2+1&"C"&COLUMN(),FALSE) -> F | D24: =INDIRECT("TeamResult!"&"R"&ROW()/2+1&"C"&COLUMN(),FALSE) -> 989 | E24: =INDIRECT("TeamResult!"&"R"&ROW()/2+1&"C"&COLUMN(),FALSE) -> Yvonne Crilly (F55) | F24: =INDIRECT("TeamResult!"&"R"&ROW()/2+1&"C"&COLUMN(),FALSE) -> 0.014115486 | G24: =INDIRECT("TeamResult!"&"R"&ROW()/2+1&"C"&COLUMN(),FALSE) -> 14 | K24: =INDIRECT("TeamResult!"&"R"&ROW()/2+1&"C"&COLUMN(),FALSE) -> Mel Zobel (F Sen) | L24: =INDIRECT("TeamResult!"&"R"&ROW()/2+1&"C"&COLUMN(),FALSE) -> 0.028268773 | M24: =INDIRECT("TeamResult!"&"R"&ROW()/2+1&"C"&COLUMN(),FALSE) -> 16 | Q24: =INDIRECT("TeamResult!"&"R"&ROW()/2+1&"C"&COLUMN(),FALSE) -> Emma Jackson (F Sen) | R24: =INDIRECT("TeamResult!"&"R"&ROW()/2+1&"C"&COLUMN(),FALSE) -> 0.013748218 | S24: =INDIRECT("TeamResult!"&"R"&ROW()/2+1&"C"&COLUMN(),FALSE) -> 6 | W24: =INDIRECT("TeamResult!"&"R"&ROW()/2+1&"C"&COLUMN(),FALSE) -> Christine MacVarish (F45) | X24: =INDIRECT("TeamResult!"&"R"&ROW()/2+1&"C"&COLUMN(),FALSE) -> 0.028317326 | Y24: =INDIRECT("TeamResult!"&"R"&ROW()/2+1&"C"&COLUMN(),FALSE) -> 15
F25: =INDIRECT("TeamResult!"&"R" & (ROW()-1)/2 +1& "C" & COLUMN()+2,FALSE) -> 0.014115486 | G25: =INDIRECT("TeamResult!"&"R" & (ROW()-1)/2 +1& "C" & COLUMN()+2,FALSE) -> 14 | L25: =INDIRECT("TeamResult!"&"R" & (ROW()-1)/2 +1& "C" & COLUMN()+2,FALSE) -> 0.042384259 | M25: =INDIRECT("TeamResult!"&"R" & (ROW()-1)/2 +1& "C" & COLUMN()+2,FALSE) -> 15 | R25: =INDIRECT("TeamResult!"&"R" & (ROW()-1)/2 +1& "C" & COLUMN()+2,FALSE) -> 0.056132477 | S25: =INDIRECT("TeamResult!"&"R" & (ROW()-1)/2 +1& "C" & COLUMN()+2,FALSE) -> 11 | X25: =INDIRECT("TeamResult!"&"R" & (ROW()-1)/2 +1& "C" & COLUMN()+2,FALSE) -> 0.084449803 | Y25: =INDIRECT("TeamResult!"&"R" & (ROW()-1)/2 +1& "C" & COLUMN()+2,FALSE) -> 12
A26: =INDIRECT("TeamResult!"&"R"&ROW()/2+1&"C"&COLUMN(),FALSE) -> 172 | B26: =INDIRECT("TeamResult!"&"R"&ROW()/2+1&"C"&COLUMN(),FALSE) -> Gala_Harriers_(B) | C26: =INDIRECT("TeamResult!"&"R"&ROW()/2+1&"C"&COLUMN(),FALSE) -> F40 | D26: =INDIRECT("TeamResult!"&"R"&ROW()/2+1&"C"&COLUMN(),FALSE) -> 933 | E26: =INDIRECT("TeamResult!"&"R"&ROW()/2+1&"C"&COLUMN(),FALSE) -> Fiona Dalgleish (F45) | F26: =INDIRECT("TeamResult!"&"R"&ROW()/2+1&"C"&COLUMN(),FALSE) -> 0.014460625 | G26: =INDIRECT("TeamResult!"&"R"&ROW()/2+1&"C"&COLUMN(),FALSE) -> 18 | K26: =INDIRECT("TeamResult!"&"R"&ROW()/2+1&"C"&COLUMN(),FALSE) -> Jennifer Forbes (F45) | L26: =INDIRECT("TeamResult!"&"R"&ROW()/2+1&"C"&COLUMN(),FALSE) -> 0.026754653 | M26: =INDIRECT("TeamResult!"&"R"&ROW()/2+1&"C"&COLUMN(),FALSE) -> 11 | Q26: =INDIRECT("TeamResult!"&"R"&ROW()/2+1&"C"&COLUMN(),FALSE) -> Gillian Duncan (F45) | R26: =INDIRECT("TeamResult!"&"R"&ROW()/2+1&"C"&COLUMN(),FALSE) -> 0.015075567 | S26: =INDIRECT("TeamResult!"&"R"&ROW()/2+1&"C"&COLUMN(),FALSE) -> 15 | W26: =INDIRECT("TeamResult!"&"R"&ROW()/2+1&"C"&COLUMN(),FALSE) -> Kate Jenkins (F40) | X26: =INDIRECT("TeamResult!"&"R"&ROW()/2+1&"C"&COLUMN(),FALSE) -> 0.028949919 | Y26: =INDIRECT("TeamResult!"&"R"&ROW()/2+1&"C"&COLUMN(),FALSE) -> 17
F27: =INDIRECT("TeamResult!"&"R" & (ROW()-1)/2 +1& "C" & COLUMN()+2,FALSE) -> 0.014460625 | G27: =INDIRECT("TeamResult!"&"R" & (ROW()-1)/2 +1& "C" & COLUMN()+2,FALSE) -> 18 | L27: =INDIRECT("TeamResult!"&"R" & (ROW()-1)/2 +1& "C" & COLUMN()+2,FALSE) -> 0.041215278 | M27: =INDIRECT("TeamResult!"&"R" & (ROW()-1)/2 +1& "C" & COLUMN()+2,FALSE) -> 11 | R27: =INDIRECT("TeamResult!"&"R" & (ROW()-1)/2 +1& "C" & COLUMN()+2,FALSE) -> 0.056290845 | S27: =INDIRECT("TeamResult!"&"R" & (ROW()-1)/2 +1& "C" & COLUMN()+2,FALSE) -> 12 | X27: =INDIRECT("TeamResult!"&"R" & (ROW()-1)/2 +1& "C" & COLUMN()+2,FALSE) -> 0.085240764 | Y27: =INDIRECT("TeamResult!"&"R" & (ROW()-1)/2 +1& "C" & COLUMN()+2,FALSE) -> 13
A28: =INDIRECT("TeamResult!"&"R"&ROW()/2+1&"C"&COLUMN(),FALSE) -> 159 | B28: =INDIRECT("TeamResult!"&"R"&ROW()/2+1&"C"&COLUMN(),FALSE) -> Edinburgh_University_ | C28: =INDIRECT("TeamResult!"&"R"&ROW()/2+1&"C"&COLUMN(),FALSE) -> F | D28: =INDIRECT("TeamResult!"&"R"&ROW()/2+1&"C"&COLUMN(),FALSE) -> 881 | E28: =INDIRECT("TeamResult!"&"R"&ROW()/2+1&"C"&COLUMN(),FALSE) -> Rhiannon Kirk (FU20) | F28: =INDIRECT("TeamResult!"&"R"&ROW()/2+1&"C"&COLUMN(),FALSE) -> 0.013701354 | G28: =INDIRECT("TeamResult!"&"R"&ROW()/2+1&"C"&COLUMN(),FALSE) -> 11 | K28: =INDIRECT("TeamResult!"&"R"&ROW()/2+1&"C"&COLUMN(),FALSE) -> Polly Edwards (FU20) | L28: =INDIRECT("TeamResult!"&"R"&ROW()/2+1&"C"&COLUMN(),FALSE) -> 0.02944735 | M28: =INDIRECT("TeamResult!"&"R"&ROW()/2+1&"C"&COLUMN(),FALSE) -> 22 | Q28: =INDIRECT("TeamResult!"&"R"&ROW()/2+1&"C"&COLUMN(),FALSE) -> Morgan Blevins (F Sen) | R28: =INDIRECT("TeamResult!"&"R"&ROW()/2+1&"C"&COLUMN(),FALSE) -> 0.013489444 | S28: =INDIRECT("TeamResult!"&"R"&ROW()/2+1&"C"&COLUMN(),FALSE) -> 4 | W28: =INDIRECT("TeamResult!"&"R"&ROW()/2+1&"C"&COLUMN(),FALSE) -> Jennifer Glass (FU20) | X28: =INDIRECT("TeamResult!"&"R"&ROW()/2+1&"C"&COLUMN(),FALSE) -> 0.029181354 | Y28: =INDIRECT("TeamResult!"&"R"&ROW()/2+1&"C"&COLUMN(),FALSE) -> 18
F29: =INDIRECT("TeamResult!"&"R" & (ROW()-1)/2 +1& "C" & COLUMN()+2,FALSE) -> 0.013701354 | G29: =INDIRECT("TeamResult!"&"R" & (ROW()-1)/2 +1& "C" & COLUMN()+2,FALSE) -> 11 | L29: =INDIRECT("TeamResult!"&"R" & (ROW()-1)/2 +1& "C" & COLUMN()+2,FALSE) -> 0.043148704 | M29: =INDIRECT("TeamResult!"&"R" & (ROW()-1)/2 +1& "C" & COLUMN()+2,FALSE) -> 16 | R29: =INDIRECT("TeamResult!"&"R" & (ROW()-1)/2 +1& "C" & COLUMN()+2,FALSE) -> 0.056638148 | S29: =INDIRECT("TeamResult!"&"R" & (ROW()-1)/2 +1& "C" & COLUMN()+2,FALSE) -> 14 | X29: =INDIRECT("TeamResult!"&"R" & (ROW()-1)/2 +1& "C" & COLUMN()+2,FALSE) -> 0.085819502 | Y29: =INDIRECT("TeamResult!"&"R" & (ROW()-1)/2 +1& "C" & COLUMN()+2,FALSE) -> 14
A30: =INDIRECT("TeamResult!"&"R"&ROW()/2+1&"C"&COLUMN(),FALSE) -> 153 | B30: =INDIRECT("TeamResult!"&"R"&ROW()/2+1&"C"&COLUMN(),FALSE) -> Dundee_Hawkhill_Harri | C30: =INDIRECT("TeamResult!"&"R"&ROW()/2+1&"C"&COLUMN(),FALSE) -> F | D30: =INDIRECT("TeamResult!"&"R"&ROW()/2+1&"C"&COLUMN(),FALSE) -> 857 | E30: =INDIRECT("TeamResult!"&"R"&ROW()/2+1&"C"&COLUMN(),FALSE) -> Katie Anderson (FU20) | F30: =INDIRECT("TeamResult!"&"R"&ROW()/2+1&"C"&COLUMN(),FALSE) -> 0.014523611 | G30: =INDIRECT("TeamResult!"&"R"&ROW()/2+1&"C"&COLUMN(),FALSE) -> 20 | K30: =INDIRECT("TeamResult!"&"R"&ROW()/2+1&"C"&COLUMN(),FALSE) -> Portia McRobbie (F Sen) | L30: =INDIRECT("TeamResult!"&"R"&ROW()/2+1&"C"&COLUMN(),FALSE) -> 0.028711898 | M30: =INDIRECT("TeamResult!"&"R"&ROW()/2+1&"C"&COLUMN(),FALSE) -> 18 | Q30: =INDIRECT("TeamResult!"&"R"&ROW()/2+1&"C"&COLUMN(),FALSE) -> Nicola Tully (F40) | R30: =INDIRECT("TeamResult!"&"R"&ROW()/2+1&"C"&COLUMN(),FALSE) -> 0.016541574 | S30: =INDIRECT("TeamResult!"&"R"&ROW()/2+1&"C"&COLUMN(),FALSE) -> 22 | W30: =INDIRECT("TeamResult!"&"R"&ROW()/2+1&"C"&COLUMN(),FALSE) -> Jennifer Learmonth (F Sen) | X30: =INDIRECT("TeamResult!"&"R"&ROW()/2+1&"C"&COLUMN(),FALSE) -> 0.026927199 | Y30: =INDIRECT("TeamResult!"&"R"&ROW()/2+1&"C"&COLUMN(),FALSE) -> 10
F31: =INDIRECT("TeamResult!"&"R" & (ROW()-1)/2 +1& "C" & COLUMN()+2,FALSE) -> 0.014523611 | G31: =INDIRECT("TeamResult!"&"R" & (ROW()-1)/2 +1& "C" & COLUMN()+2,FALSE) -> 20 | L31: =INDIRECT("TeamResult!"&"R" & (ROW()-1)/2 +1& "C" & COLUMN()+2,FALSE) -> 0.043235509 | M31: =INDIRECT("TeamResult!"&"R" & (ROW()-1)/2 +1& "C" & COLUMN()+2,FALSE) -> 17 | R31: =INDIRECT("TeamResult!"&"R" & (ROW()-1)/2 +1& "C" & COLUMN()+2,FALSE) -> 0.059777083 | S31: =INDIRECT("TeamResult!"&"R" & (ROW()-1)/2 +1& "C" & COLUMN()+2,FALSE) -> 17 | X31: =INDIRECT("TeamResult!"&"R" & (ROW()-1)/2 +1& "C" & COLUMN()+2,FALSE) -> 0.086704282 | Y31: =INDIRECT("TeamResult!"&"R" & (ROW()-1)/2 +1& "C" & COLUMN()+2,FALSE) -> 15
A32: =INDIRECT("TeamResult!"&"R"&ROW()/2+1&"C"&COLUMN(),FALSE) -> 181 | B32: =INDIRECT("TeamResult!"&"R"&ROW()/2+1&"C"&COLUMN(),FALSE) -> Kirkintilloch_Olympia | C32: =INDIRECT("TeamResult!"&"R"&ROW()/2+1&"C"&COLUMN(),FALSE) -> F40 | D32: =INDIRECT("TeamResult!"&"R"&ROW()/2+1&"C"&COLUMN(),FALSE) -> 969 | E32: =INDIRECT("TeamResult!"&"R"&ROW()/2+1&"C"&COLUMN(),FALSE) -> Suzanne Shaw (F40) | F32: =INDIRECT("TeamResult!"&"R"&ROW()/2+1&"C"&COLUMN(),FALSE) -> 0.014823472 | G32: =INDIRECT("TeamResult!"&"R"&ROW()/2+1&"C"&COLUMN(),FALSE) -> 22 | K32: =INDIRECT("TeamResult!"&"R"&ROW()/2+1&"C"&COLUMN(),FALSE) -> Elaine Hogg (F45) | L32: =INDIRECT("TeamResult!"&"R"&ROW()/2+1&"C"&COLUMN(),FALSE) -> 0.028789595 | M32: =INDIRECT("TeamResult!"&"R"&ROW()/2+1&"C"&COLUMN(),FALSE) -> 19 | Q32: =INDIRECT("TeamResult!"&"R"&ROW()/2+1&"C"&COLUMN(),FALSE) -> Anne Crombie-Brown (F40) | R32: =INDIRECT("TeamResult!"&"R"&ROW()/2+1&"C"&COLUMN(),FALSE) -> 0.016288021 | S32: =INDIRECT("TeamResult!"&"R"&ROW()/2+1&"C"&COLUMN(),FALSE) -> 19 | W32: =INDIRECT("TeamResult!"&"R"&ROW()/2+1&"C"&COLUMN(),FALSE) -> Annemarie McGregor (F40) | X32: =INDIRECT("TeamResult!"&"R"&ROW()/2+1&"C"&COLUMN(),FALSE) -> 0.028274225 | Y32: =INDIRECT("TeamResult!"&"R"&ROW()/2+1&"C"&COLUMN(),FALSE) -> 14
F33: =INDIRECT("TeamResult!"&"R" & (ROW()-1)/2 +1& "C" & COLUMN()+2,FALSE) -> 0.014823472 | G33: =INDIRECT("TeamResult!"&"R" & (ROW()-1)/2 +1& "C" & COLUMN()+2,FALSE) -> 22 | L33: =INDIRECT("TeamResult!"&"R" & (ROW()-1)/2 +1& "C" & COLUMN()+2,FALSE) -> 0.043613067 | M33: =INDIRECT("TeamResult!"&"R" & (ROW()-1)/2 +1& "C" & COLUMN()+2,FALSE) -> 19 | R33: =INDIRECT("TeamResult!"&"R" & (ROW()-1)/2 +1& "C" & COLUMN()+2,FALSE) -> 0.059901088 | S33: =INDIRECT("TeamResult!"&"R" & (ROW()-1)/2 +1& "C" & COLUMN()+2,FALSE) -> 18 | X33: =INDIRECT("TeamResult!"&"R" & (ROW()-1)/2 +1& "C" & COLUMN()+2,FALSE) -> 0.088175312 | Y33: =INDIRECT("TeamResult!"&"R" & (ROW()-1)/2 +1& "C" & COLUMN()+2,FALSE) -> 16
A34: =INDIRECT("TeamResult!"&"R"&ROW()/2+1&"C"&COLUMN(),FALSE) -> 187 | B34: =INDIRECT("TeamResult!"&"R"&ROW()/2+1&"C"&COLUMN(),FALSE) -> Metro_Aberdeen_Runnin | C34: =INDIRECT("TeamResult!"&"R"&ROW()/2+1&"C"&COLUMN(),FALSE) -> F | D34: =INDIRECT("TeamResult!"&"R"&ROW()/2+1&"C"&COLUMN(),FALSE) -> 993 | E34: =INDIRECT("TeamResult!"&"R"&ROW()/2+1&"C"&COLUMN(),FALSE) -> Claire Bruce (F Sen) | F34: =INDIRECT("TeamResult!"&"R"&ROW()/2+1&"C"&COLUMN(),FALSE) -> 0.012801551 | G34: =INDIRECT("TeamResult!"&"R"&ROW()/2+1&"C"&COLUMN(),FALSE) -> 2 | K34: =INDIRECT("TeamResult!"&"R"&ROW()/2+1&"C"&COLUMN(),FALSE) -> Kerstin Hunter (F Sen) | L34: =INDIRECT("TeamResult!"&"R"&ROW()/2+1&"C"&COLUMN(),FALSE) -> 0.029142894 | M34: =INDIRECT("TeamResult!"&"R"&ROW()/2+1&"C"&COLUMN(),FALSE) -> 20 | Q34: =INDIRECT("TeamResult!"&"R"&ROW()/2+1&"C"&COLUMN(),FALSE) -> Vicki Inglis (F Sen) | R34: =INDIRECT("TeamResult!"&"R"&ROW()/2+1&"C"&COLUMN(),FALSE) -> 0.01751375 | S34: =INDIRECT("TeamResult!"&"R"&ROW()/2+1&"C"&COLUMN(),FALSE) -> 27 | W34: =INDIRECT("TeamResult!"&"R"&ROW()/2+1&"C"&COLUMN(),FALSE) -> Lisa Michie (F Sen) | X34: =INDIRECT("TeamResult!"&"R"&ROW()/2+1&"C"&COLUMN(),FALSE) -> 0.031897546 | Y34: =INDIRECT("TeamResult!"&"R"&ROW()/2+1&"C"&COLUMN(),FALSE) -> 24
F35: =INDIRECT("TeamResult!"&"R" & (ROW()-1)/2 +1& "C" & COLUMN()+2,FALSE) -> 0.012801551 | G35: =INDIRECT("TeamResult!"&"R" & (ROW()-1)/2 +1& "C" & COLUMN()+2,FALSE) -> 2 | L35: =INDIRECT("TeamResult!"&"R" & (ROW()-1)/2 +1& "C" & COLUMN()+2,FALSE) -> 0.041944444 | M35: =INDIRECT("TeamResult!"&"R" & (ROW()-1)/2 +1& "C" & COLUMN()+2,FALSE) -> 13 | R35: =INDIRECT("TeamResult!"&"R" & (ROW()-1)/2 +1& "C" & COLUMN()+2,FALSE) -> 0.059458194 | S35: =INDIRECT("TeamResult!"&"R" & (ROW()-1)/2 +1& "C" & COLUMN()+2,FALSE) -> 16 | X35: =INDIRECT("TeamResult!"&"R" & (ROW()-1)/2 +1& "C" & COLUMN()+2,FALSE) -> 0.091355741 | Y35: =INDIRECT("TeamResult!"&"R" & (ROW()-1)/2 +1& "C" & COLUMN()+2,FALSE) -> 17
A36: =INDIRECT("TeamResult!"&"R"&ROW()/2+1&"C"&COLUMN(),FALSE) -> 174 | B36: =INDIRECT("TeamResult!"&"R"&ROW()/2+1&"C"&COLUMN(),FALSE) -> Giffnock_North_AC_(A) | C36: =INDIRECT("TeamResult!"&"R"&ROW()/2+1&"C"&COLUMN(),FALSE) -> F | D36: =INDIRECT("TeamResult!"&"R"&ROW()/2+1&"C"&COLUMN(),FALSE) -> 941 | E36: =INDIRECT("TeamResult!"&"R"&ROW()/2+1&"C"&COLUMN(),FALSE) -> Kathleen McLachlan (F Sen) | F36: =INDIRECT("TeamResult!"&"R"&ROW()/2+1&"C"&COLUMN(),FALSE) -> 0.016298889 | G36: =INDIRECT("TeamResult!"&"R"&ROW()/2+1&"C"&COLUMN(),FALSE) -> 28 | K36: =INDIRECT("TeamResult!"&"R"&ROW()/2+1&"C"&COLUMN(),FALSE) -> Mary McCutcheon (F50) | L36: =INDIRECT("TeamResult!"&"R"&ROW()/2+1&"C"&COLUMN(),FALSE) -> 0.027180174 | M36: =INDIRECT("TeamResult!"&"R"&ROW()/2+1&"C"&COLUMN(),FALSE) -> 13 | Q36: =INDIRECT("TeamResult!"&"R"&ROW()/2+1&"C"&COLUMN(),FALSE) -> Sarah Smith (F45) | R36: =INDIRECT("TeamResult!"&"R"&ROW()/2+1&"C"&COLUMN(),FALSE) -> 0.021773148 | S36: =INDIRECT("TeamResult!"&"R"&ROW()/2+1&"C"&COLUMN(),FALSE) -> 37 | W36: =INDIRECT("TeamResult!"&"R"&ROW()/2+1&"C"&COLUMN(),FALSE) -> Jill Smylie (F Sen) | X36: =INDIRECT("TeamResult!"&"R"&ROW()/2+1&"C"&COLUMN(),FALSE) -> 0.027164282 | Y36: =INDIRECT("TeamResult!"&"R"&ROW()/2+1&"C"&COLUMN(),FALSE) -> 11
F37: =INDIRECT("TeamResult!"&"R" & (ROW()-1)/2 +1& "C" & COLUMN()+2,FALSE) -> 0.016298889 | G37: =INDIRECT("TeamResult!"&"R" & (ROW()-1)/2 +1& "C" & COLUMN()+2,FALSE) -> 28 | L37: =INDIRECT("TeamResult!"&"R" & (ROW()-1)/2 +1& "C" & COLUMN()+2,FALSE) -> 0.043479063 | M37: =INDIRECT("TeamResult!"&"R" & (ROW()-1)/2 +1& "C" & COLUMN()+2,FALSE) -> 18 | R37: =INDIRECT("TeamResult!"&"R" & (ROW()-1)/2 +1& "C" & COLUMN()+2,FALSE) -> 0.065252211 | S37: =INDIRECT("TeamResult!"&"R" & (ROW()-1)/2 +1& "C" & COLUMN()+2,FALSE) -> 26 | X37: =INDIRECT("TeamResult!"&"R" & (ROW()-1)/2 +1& "C" & COLUMN()+2,FALSE) -> 0.092416493 | Y37: =INDIRECT("TeamResult!"&"R" & (ROW()-1)/2 +1& "C" & COLUMN()+2,FALSE) -> 18
A38: =INDIRECT("TeamResult!"&"R"&ROW()/2+1&"C"&COLUMN(),FALSE) -> 151 | B38: =INDIRECT("TeamResult!"&"R"&ROW()/2+1&"C"&COLUMN(),FALSE) -> Corstorphine_AAC_(A) | C38: =INDIRECT("TeamResult!"&"R"&ROW()/2+1&"C"&COLUMN(),FALSE) -> F | D38: =INDIRECT("TeamResult!"&"R"&ROW()/2+1&"C"&COLUMN(),FALSE) -> 849 | E38: =INDIRECT("TeamResult!"&"R"&ROW()/2+1&"C"&COLUMN(),FALSE) -> Alison Mair (F Sen) | F38: =INDIRECT("TeamResult!"&"R"&ROW()/2+1&"C"&COLUMN(),FALSE) -> 0.016996435 | G38: =INDIRECT("TeamResult!"&"R"&ROW()/2+1&"C"&COLUMN(),FALSE) -> 34 | K38: =INDIRECT("TeamResult!"&"R"&ROW()/2+1&"C"&COLUMN(),FALSE) -> Anne Ewing (F Sen) | L38: =INDIRECT("TeamResult!"&"R"&ROW()/2+1&"C"&COLUMN(),FALSE) -> 0.026991123 | M38: =INDIRECT("TeamResult!"&"R"&ROW()/2+1&"C"&COLUMN(),FALSE) -> 12 | Q38: =INDIRECT("TeamResult!"&"R"&ROW()/2+1&"C"&COLUMN(),FALSE) -> Mhairi Bagnall (F40) | R38: =INDIRECT("TeamResult!"&"R"&ROW()/2+1&"C"&COLUMN(),FALSE) -> 0.017365336 | S38: =INDIRECT("TeamResult!"&"R"&ROW()/2+1&"C"&COLUMN(),FALSE) -> 26 | W38: =INDIRECT("TeamResult!"&"R"&ROW()/2+1&"C"&COLUMN(),FALSE) -> Janet Grigor (F50) | X38: =INDIRECT("TeamResult!"&"R"&ROW()/2+1&"C"&COLUMN(),FALSE) -> 0.03110941 | Y38: =INDIRECT("TeamResult!"&"R"&ROW()/2+1&"C"&COLUMN(),FALSE) -> 22
F39: =INDIRECT("TeamResult!"&"R" & (ROW()-1)/2 +1& "C" & COLUMN()+2,FALSE) -> 0.016996435 | G39: =INDIRECT("TeamResult!"&"R" & (ROW()-1)/2 +1& "C" & COLUMN()+2,FALSE) -> 34 | L39: =INDIRECT("TeamResult!"&"R" & (ROW()-1)/2 +1& "C" & COLUMN()+2,FALSE) -> 0.043987558 | M39: =INDIRECT("TeamResult!"&"R" & (ROW()-1)/2 +1& "C" & COLUMN()+2,FALSE) -> 20 | R39: =INDIRECT("TeamResult!"&"R" & (ROW()-1)/2 +1& "C" & COLUMN()+2,FALSE) -> 0.061352894 | S39: =INDIRECT("TeamResult!"&"R" & (ROW()-1)/2 +1& "C" & COLUMN()+2,FALSE) -> 21 | X39: =INDIRECT("TeamResult!"&"R" & (ROW()-1)/2 +1& "C" & COLUMN()+2,FALSE) -> 0.092462303 | Y39: =INDIRECT("TeamResult!"&"R" & (ROW()-1)/2 +1& "C" & COLUMN()+2,FALSE) -> 19
A40: =INDIRECT("TeamResult!"&"R"&ROW()/2+1&"C"&COLUMN(),FALSE) -> 145 | B40: =INDIRECT("TeamResult!"&"R"&ROW()/2+1&"C"&COLUMN(),FALSE) -> Bellahouston_Harriers | C40: =INDIRECT("TeamResult!"&"R"&ROW()/2+1&"C"&COLUMN(),FALSE) -> F | D40: =INDIRECT("TeamResult!"&"R"&ROW()/2+1&"C"&COLUMN(),FALSE) -> 826 | E40: =INDIRECT("TeamResult!"&"R"&ROW()/2+1&"C"&COLUMN(),FALSE) -> Kristina Greig (F Sen) | F40: =INDIRECT("TeamResult!"&"R"&ROW()/2+1&"C"&COLUMN(),FALSE) -> 0.016240058 | G40: =INDIRECT("TeamResult!"&"R"&ROW()/2+1&"C"&COLUMN(),FALSE) -> 27 | K40: =INDIRECT("TeamResult!"&"R"&ROW()/2+1&"C"&COLUMN(),FALSE) -> Maria Spedsberg (F Sen) | L40: =INDIRECT("TeamResult!"&"R"&ROW()/2+1&"C"&COLUMN(),FALSE) -> 0.030150139 | M40: =INDIRECT("TeamResult!"&"R"&ROW()/2+1&"C"&COLUMN(),FALSE) -> 25 | Q40: =INDIRECT("TeamResult!"&"R"&ROW()/2+1&"C"&COLUMN(),FALSE) -> Rebecca Simister (F Sen) | R40: =INDIRECT("TeamResult!"&"R"&ROW()/2+1&"C"&COLUMN(),FALSE) -> 0.018126597 | S40: =INDIRECT("TeamResult!"&"R"&ROW()/2+1&"C"&COLUMN(),FALSE) -> 31 | W40: =INDIRECT("TeamResult!"&"R"&ROW()/2+1&"C"&COLUMN(),FALSE) -> Lynne Bruce (F40) | X40: =INDIRECT("TeamResult!"&"R"&ROW()/2+1&"C"&COLUMN(),FALSE) -> 0.028938461 | Y40: =INDIRECT("TeamResult!"&"R"&ROW()/2+1&"C"&COLUMN(),FALSE) -> 16
...
