Workbook

Sheet TeamResult
A1: Team | B1: Team Name | C1: Class | D1: Leg 1 Chip | E1: Leg 1 Runner | F1: Runner 1 Time | G1: Runner 1 Rank | H1: Leg 1 Time | I1: Leg 1 Position | J1: Leg 2 Chip | K1: Leg 2 Runner | L1: Runner 2 Time | M1: Runner 2 Rank | N1: Leg 2 Time | O1: Leg 2 Position | P1: Leg 3 Chip | Q1: Leg 3 Runner | R1: Runner 3 Time | S1: Runner 3 Rank | T1: Leg 3 Time | U1: Leg 3 Position | V1: Leg 4 Chip | W1: Leg 4 Runner | X1: Runner 4 Time | Y1: Runner 4 Rank | Z1: Leg 4 Time | AA1: Leg 4 Position
A2: 165 | B2: Fife_Athletic_Club_(A) | C2: F | D2: 905 | E2: =VLOOKUP(D2,NameLookup!$A$1:$H$1058,7,FALSE) -> Megan Crawford (F Sen) | F2: 0.012960613 | G2: 3 | H2: 0.012960613 | I2: 3 | J2: 906 | K2: =VLOOKUP(J2,NameLookup!$A$1:$H$1058,7,FALSE) -> Annabel Simpson (F Sen) | L2: 0.024064306 | M2: 3 | N2: 0.037024919 | O2: 2 | P2: 907 | Q2: =VLOOKUP(P2,NameLookup!$A$1:$H$1058,7,FALSE) -> Helen Sharpe (F Sen) | R2: 0.012974398 | S2: 1 | T2: 0.049999317 | U2: 1 | V2: 908 | W2: =VLOOKUP(V2,NameLookup!$A$1:$H$1058,7,FALSE) -> Stephanie Pennycook (F Sen) | X2: 0.023276273 | Y2: 1 | Z2: 0.07327559 | AA2: 1
A3: 185 | B3: Lothian_Running_Club_ | C3: F | D3: 985 | E3: =VLOOKUP(D3,NameLookup!$A$1:$H$1058,7,FALSE) -> Lana Turnbull (F Sen) | F3: 0.014306806 | G3: 16 | H3: 0.014306806 | I3: 16 | J3: 986 | K3: =VLOOKUP(J3,NameLookup!$A$1:$H$1058,7,FALSE) -> Jo Williams (F Sen) | L3: 0.02406294 | M3: 2 | N3: 0.038369745 | O3: 5 | P3: 987 | Q3: =VLOOKUP(P3,NameLookup!$A$1:$H$1058,7,FALSE) -> Siobhan Coleman (F Sen) | R3: 0.013334931 | S3: 3 | T3: 0.051704676 | U3: 3 | V3: 988 | W3: =VLOOKUP(V3,NameLookup!$A$1:$H$1058,7,FALSE) -> Sarah Inglis (F Sen) | X3: 0.023285023 | Y3: 2 | Z3: 0.074989699 | AA3: 2
A4: 162 | B4: Edinburgh_University_ | C4: F | D4: 893 | E4: =VLOOKUP(D4,NameLookup!$A$1:$H$1058,7,FALSE) -> Naomi Lang (FU20) | F4: 0.012434444 | G4: 1 | H4: 0.012434444 | I4: 1 | J4: 894 | K4: =VLOOKUP(J4,NameLookup!$A$1:$H$1058,7,FALSE) -> Mhairi Maclennan (F Sen) | L4: 0.023983218 | M4: 1 | N4: 0.036417662 | O4: 1 | P4: 895 | Q4: =VLOOKUP(P4,NameLookup!$A$1:$H$1058,7,FALSE) -> Helen Jones (F Sen) | R4: 0.014281458 | S4: 10 | T4: 0.05069912 | U4: 2 | V4: 896 | W4: =VLOOKUP(V4,NameLookup!$A$1:$H$1058,7,FALSE) -> Amy Frankland (F Sen) | X4: 0.025855891 | Y4: 6 | Z4: 0.076555012 | AA4: 3
A5: 154 | B5: Edinburgh_Athletics_C | C5: F | D5: 861 | E5: =VLOOKUP(D5,NameLookup!$A$1:$H$1058,7,FALSE) -> Victoria Riddell (F Sen) | F5: 0.013928704 | G5: 13 | H5: 0.013928704 | I5: 13 | J5: 862 | K5: =VLOOKUP(J5,NameLookup!$A$1:$H$1058,7,FALSE) -> Lauren Wilson (F Sen) | L5: 0.024729028 | M5: 6 | N5: 0.038657731 | O5: 6 | P5: 863 | Q5: =VLOOKUP(P5,NameLookup!$A$1:$H$1058,7,FALSE) -> Lyndsey Fraser (F40) | R5: 0.014036169 | S5: 8 | T5: 0.0526939 | U5: 5 | V5: 864 | W5: =VLOOKUP(V5,NameLookup!$A$1:$H$1058,7,FALSE) -> Jennifer MacLean (F40) | X5: 0.025521273 | Y5: 3 | Z5: 0.078215174 | AA5: 4
A6: 195 | B6: Shettleston_Harriers_ | C6: F | D6: 1025 | E6: =VLOOKUP(D6,NameLookup!$A$1:$H$1058,7,FALSE) -> Kathryn Pennel (F Sen) | F6: 0.013334201 | G6: 7 | H6: 0.013334201 | I6: 7 | J6: 1026 | K6: =VLOOKUP(J6,NameLookup!$A$1:$H$1058,7,FALSE) -> Ruth Joss (F Sen) | L6: 0.025662674 | M6: 8 | N6: 0.038996875 | O6: 7 | P6: 1027 | Q6: =VLOOKUP(P6,NameLookup!$A$1:$H$1058,7,FALSE) -> CharleneSophia Manley (F Sen) | R6: 0.014128194 | S6: 9 | T6: 0.053125069 | U6: 8 | V6: 1028 | W6: =VLOOKUP(V6,NameLookup!$A$1:$H$1058,7,FALSE) -> Avril Mason (F40) | X6: 0.025925417 | Y6: 7 | Z6: 0.079050486 | AA6: 5
A7: 166 | B7: Fife_Athletic_Club_(B) | C7: F | D7: 909 | E7: =VLOOKUP(D7,NameLookup!$A$1:$H$1058,7,FALSE) -> Katie Jones (F Sen) | F7: 0.013447824 | G7: 8 | H7: 0.013447824 | I7: 8 | J7: 910 | K7: =VLOOKUP(J7,NameLookup!$A$1:$H$1058,7,FALSE) -> Halina Rees (F Sen) | L7: 0.026409479 | M7: 10 | N7: 0.039857303 | O7: 9 | P7: 911 | Q7: =VLOOKUP(P7,NameLookup!$A$1:$H$1058,7,FALSE) -> Jenny Selman (F Sen) | R7: 0.013032963 | S7: 2 | T7: 0.052890266 | U7: 7 | V7: 912 | W7: =VLOOKUP(V7,NameLookup!$A$1:$H$1058,7,FALSE) -> Sophie Mullins (F Sen) | X7: 0.026307998 | Y7: 8 | Z7: 0.079198264 | AA7: 6
A8: 175 | B8: Hunters_Bog_Trotters_ | C8: F | D8: 945 | E8: =VLOOKUP(D8,NameLookup!$A$1:$H$1058,7,FALSE) -> Eilis McKechanie (F Sen) | F8: 0.014182338 | G8: 15 | H8: 0.014182338 | I8: 15 | J8: 946 | K8: =VLOOKUP(J8,NameLookup!$A$1:$H$1058,7,FALSE) -> Shona McIntosh (F Sen) | L8: 0.02417794 | M8: 4 | N8: 0.038360278 | O8: 4 | P8: 947 | Q8: =VLOOKUP(P8,NameLookup!$A$1:$H$1058,7,FALSE) -> Megan Mowbray (F40) | R8: 0.014494618 | S8: 12 | T8: 0.052854896 | U8: 6 | V8: 948 | W8: =VLOOKUP(V8,NameLookup!$A$1:$H$1058,7,FALSE) -> Megan Wright (F40) | X8: 0.026455833 | Y8: 9 | Z8: 0.079310729 | AA8: 7
A9: 177 | B9: Kilbarchan_AAC_(A) | C9: F | D9: 953 | E9: =VLOOKUP(D9,NameLookup!$A$1:$H$1058,7,FALSE) -> Christina Rankin (F Sen) | F9: 0.013008079 | G9: 4 | H9: 0.013008079 | I9: 4 | J9: 954 | K9: =VLOOKUP(J9,NameLookup!$A$1:$H$1058,7,FALSE) -> Elspeth Curran (F Sen) | L9: 0.024978542 | M9: 7 | N9: 0.03798662 | O9: 3 | P9: 955 | Q9: =VLOOKUP(P9,NameLookup!$A$1:$H$1058,7,FALSE) -> Holly Thompson (FU20) | R9: 0.013841852 | S9: 7 | T9: 0.051828472 | U9: 4 | V9: 956 | W9: =VLOOKUP(V9,NameLookup!$A$1:$H$1058,7,FALSE) -> Elaine Eadie (F Sen) | X9: 0.027831736 | Y9: 13 | Z9: 0.079660208 | AA9: 8
A10: 163 | B10: Falkirk_Victoria_Harr | C10: F | D10: 897 | E10: =VLOOKUP(D10,NameLookup!$A$1:$H$1058,7,FALSE) -> Lorna Kennedy (F40) | F10: 0.015002269 | G10: 23 | H10: 0.015002269 | I10: 23 | J10: 898 | K10: =VLOOKUP(J10,NameLookup!$A$1:$H$1058,7,FALSE) -> Claire Moffett (F Sen) | L10: 0.024454016 | M10: 5 | N10: 0.039456285 | O10: 8 | P10: 899 | Q10: =VLOOKUP(P10,NameLookup!$A$1:$H$1058,7,FALSE) -> Megan Davidson (F Sen) | R10: 0.014918021 | S10: 14 | T10: 0.054374306 | U10: 9 | V10: 900 | W10: =VLOOKUP(V10,NameLookup!$A$1:$H$1058,7,FALSE) -> Fiona Matheson (F55) | X10: 0.025820069 | Y10: 4 | Z10: 0.080194375 | AA10: 9
A11: 171 | B11: Gala_Harriers_(A) | C11: F | D11: 929 | E11: =VLOOKUP(D11,NameLookup!$A$1:$H$1058,7,FALSE) -> Zoe Pflug (FU20) | F11: 0.013513912 | G11: 9 | H11: 0.013513912 | I11: 9 | J11: 930 | K11: =VLOOKUP(J11,NameLookup!$A$1:$H$1058,7,FALSE) -> Sara Green (F Sen) | L11: 0.026372211 | M11: 9 | N11: 0.039886123 | O11: 10 | P11: 931 | Q11: =VLOOKUP(P11,NameLookup!$A$1:$H$1058,7,FALSE) -> Eileen Maxwell (F55) | R11: 0.016743403 | S11: 23 | T11: 0.056629525 | U11: 13 | V11: 932 | W11: =VLOOKUP(V11,NameLookup!$A$1:$H$1058,7,FALSE) -> Kirstin Maxwell (F Sen) | X11: 0.025820845 | Y11: 5 | Z11: 0.08245037 | AA11: 10
A12: 150 | B12: Central_Athletics_Clu | C12: F | D12: 845 | E12: =VLOOKUP(D12,NameLookup!$A$1:$H$1058,7,FALSE) -> Fiona Davies (FU20) | F12: 0.014403461 | G12: 17 | H12: 0.014403461 | I12: 17 | J12: 846 | K12: =VLOOKUP(J12,NameLookup!$A$1:$H$1058,7,FALSE) -> Claire Houston (F Sen) | L12: 0.02758728 | M12: 14 | N12: 0.041990741 | O12: 14 | P12: 847 | Q12: =VLOOKUP(P12,NameLookup!$A$1:$H$1058,7,FALSE) -> Natalie sTEWART (F Sen) | R12: 0.013497373 | S12: 5 | T12: 0.055488113 | U12: 10 | V12: 848 | W12: =VLOOKUP(V12,NameLookup!$A$1:$H$1058,7,FALSE) -> Lauren McCulloch (FU20) | X12: 0.027830405 | Y12: 12 | Z12: 0.083318519 | AA12: 11
A13: 186 | B13: Lothian_Running_Club_ | C13: F | D13: 989 | E13: =VLOOKUP(D13,NameLookup!$A$1:$H$1058,7,FALSE) -> Yvonne Crilly (F55) | F13: 0.014115486 | G13: 14 | H13: 0.014115486 | I13: 14 | J13: 990 | K13: =VLOOKUP(J13,NameLookup!$A$1:$H$1058,7,FALSE) -> Mel Zobel (F Sen) | L13: 0.028268773 | M13: 16 | N13: 0.042384259 | O13: 15 | P13: 991 | Q13: =VLOOKUP(P13,NameLookup!$A$1:$H$1058,7,FALSE) -> Emma Jackson (F Sen) | R13: 0.013748218 | S13: 6 | T13: 0.056132477 | U13: 11 | V13: 992 | W13: =VLOOKUP(V13,NameLookup!$A$1:$H$1058,7,FALSE) -> Christine MacVarish (F45) | X13: 0.028317326 | Y13: 15 | Z13: 0.084449803 | AA13: 12
... A32: 146 | B32: Bellahouston_Harriers | C32: F | D32: 831 | E32: =VLOOKUP(D32,NameLookup!$A$1:$H$1058,7,FALSE) -> Gillian Glass (F45) | F32: 0.018367199 | G32: 42 | H32: 0.018367199 | I32: 42 | J32: 832 | K32: =VLOOKUP(J32,NameLookup!$A$1:$H$1058,7,FALSE) -> Christine. McKay (F55) | L32: 0.033798183 | M32: 34 | N32: 0.052165382 | O32: 36 | P32: 829 | Q32: =VLOOKUP(P32,NameLookup!$A$1:$H$1058,7,FALSE) -> Elaine. Macdonald (F Sen) | R32: 0.02147515 | S32: 35 | T32: 0.073640532 | U32: 37 | V32: 830 | W32: =VLOOKUP(V32,NameLookup!$A$1:$H$1058,7,FALSE) -> Jasmin Shields (F Sen) | X32: 0.040024873 | Y32: 31 | Z32: 0.11366541 | AA32: 31
A33: 155 | B33: Edinburgh_Athletics_C | C33: F | D33: 865 | E33: =VLOOKUP(D33,NameLookup!$A$1:$H$1058,7,FALSE) -> SarahRussell Brown (F Sen) | F33: 0.013046123 | G33: 5 | H33: 0.013046123 | I33: 5 | J33: 866 | K33: =VLOOKUP(J33,NameLookup!$A$1:$H$1058,7,FALSE) -> Dee Watters (F Sen) | L33: 0.028655266 | M33: 17 | N33: 0.041701389 | O33: 12 | P33: 867 | Q33: =VLOOKUP(P33,NameLookup!$A$1:$H$1058,7,FALSE) -> Leanne Webster (F Sen) | R33: 0.015632025 | S33: 18 | T33: 0.057333414 | U33: 15
A34: 158 | B34: Edinburgh_University_ | C34: F | D34: 877 | E34: =VLOOKUP(D34,NameLookup!$A$1:$H$1058,7,FALSE) -> Linette Knudsen (F Sen) | F34: 0.019303403 | G34: 43 | H34: 0.019303403 | I34: 43 | J34: 878 | K34: =VLOOKUP(J34,NameLookup!$A$1:$H$1058,7,FALSE) -> Leda Olia (F Sen) | L34: 0.032440972 | M34: 31 | N34: 0.051744375 | O34: 34 | P34: 879 | Q34: =VLOOKUP(P34,NameLookup!$A$1:$H$1058,7,FALSE) -> Rachel Stewart (F Sen) | R34: 0.018757141 | S34: 33 | T34: 0.070501516 | U34: 36
A35: 191 | B35: Motherwell_AC_(B) | C35: F | D35: 1009 | E35: =VLOOKUP(D35,NameLookup!$A$1:$H$1058,7,FALSE) -> Clare Hughes (F Sen) | F35: 0.013858576 | G35: 12 | H35: 0.013858576 | I35: 12 | J35: 1010 | K35: =VLOOKUP(J35,NameLookup!$A$1:$H$1058,7,FALSE) -> Alison Jardine (F Sen) | L35: 0.031327569 | M35: 27 | N35: 0.045186146 | O35: 21
A36: 196 | B36: Shettleston_Harriers_ | C36: F | D36: 1029 | E36: =VLOOKUP(D36,NameLookup!$A$1:$H$1058,7,FALSE) -> Cara McCafferty (FU20) | F36: 0.016666192 | G36: 32 | H36: 0.016666192 | I36: 32 | J36: 1030 | K36: =VLOOKUP(J36,NameLookup!$A$1:$H$1058,7,FALSE) -> Gillian Mckinlay (F Sen) | L36: 0.0368164 | M36: 39 | N36: 0.053482593 | O36: 39
A37: 147 | B37: Bellahouston_Harriers | C37: F | D37: 833 | E37: =VLOOKUP(D37,NameLookup!$A$1:$H$1058,7,FALSE) -> Deirdre Hoyle (F65) | F37: 0.019514144 | G37: 45 | H37: 0.019514144 | I37: 45 | J37: 834 | K37: =VLOOKUP(J37,NameLookup!$A$1:$H$1058,7,FALSE) -> June MacLeod (F55) | L37: 0.038299225 | M37: 40 | N37: 0.057813368 | O37: 40
A38: 149 | B38: Cambuslang_Harriers_( | C38: F | D38: 841 | E38: =VLOOKUP(D38,NameLookup!$A$1:$H$1058,7,FALSE) -> Katie Bristow (F Sen) | F38: 0.013179502 | G38: 6 | H38: 0.013179502 | I38: 6
A39: 160 | B39: Edinburgh_University_ | C39: F | D39: 885 | E39: =VLOOKUP(D39,NameLookup!$A$1:$H$1058,7,FALSE) -> Lydia Blythe (FU20) | F39: 0.01474456 | G39: 21 | H39: 0.01474456 | I39: 21
A40: 176 | B40: Hunters_Bog_Trotters_ | C40: F | D40: 949 | E40: =VLOOKUP(D40,NameLookup!$A$1:$H$1058,7,FALSE) -> Phyllis O'Brien (F55) | F40: 0.015964178 | G40: 26 | H40: 0.015964178 | I40: 26
A41: 199 | B41: Teviotdale_Harriers_( | C41: F | D41: 1041 | E41: =VLOOKUP(D41,NameLookup!$A$1:$H$1058,7,FALSE) -> Lauren Corbett (F Sen) | F41: 0.016531204 | G41: 31 | H41: 0.016531204 | I41: 31
A42: 148 | B42: Calderglen_Harriers_( | C42: F | D42: 837 | E42: =VLOOKUP(D42,NameLookup!$A$1:$H$1058,7,FALSE) -> Alexandra Hayden (F Sen) | F42: 0.01785625 | G42: 39 | H42: 0.01785625 | I42: 39
A43: 189 | B43: Metro_Aberdeen_Runnin | C43: F | D43: 1001 | E43: =VLOOKUP(D43,NameLookup!$A$1:$H$1058,7,FALSE) -> Amy Mackie (F45) | F43: 0.019450775 | G43: 44 | H43: 0.019450775 | I43: 44
A45: 156 | B45: Edinburgh_Athletics_C | C45: F50 | D45: 869 | E45: =VLOOKUP(D45,NameLookup!$A$1:$H$1058,7,FALSE) -> Angela Routledge (F50) | F45: 0.018170775 | G45: 41 | H45: 0.018170775 | I45: 41 | J45: 870 | K45: =VLOOKUP(J45,NameLookup!$A$1:$H$1058,7,FALSE) -> Jill Morrow (F50) | L45: 0.027884884 | M45: 15 | N45: 0.04605566 | O45: 22 | P45: 871 | Q45: =VLOOKUP(P45,NameLookup!$A$1:$H$1058,7,FALSE) -> Karen Dobbie (F50) | R45: 0.014753183 | S45: 13 | T45: 0.060808843 | U45: 19
A46: 168 | B46: Fife_Athletic_Club_(D) | C46: F50 | D46: 917 | E46: =VLOOKUP(D46,NameLookup!$A$1:$H$1058,7,FALSE) -> Innes Bracegirdle (F60) | F46: 0.016377454 | G46: 30 | H46: 0.016377454 | I46: 30 | J46: 918 | K46: =VLOOKUP(J46,NameLookup!$A$1:$H$1058,7,FALSE) -> Addy Gerrard (F55) | L46: 0.029849549 | M46: 24 | N46: 0.046227002 | O46: 23 | P46: 919 | Q46: =VLOOKUP(P46,NameLookup!$A$1:$H$1058,7,FALSE) -> Lynne Stephen (F55) | R46: 0.015588854 | S46: 17 | T46: 0.061815856 | U46: 22
A47: 182 | B47: Kirkintilloch_Olympia | C47: F50 | D47: 973 | E47: =VLOOKUP(D47,NameLookup!$A$1:$H$1058,7,FALSE) -> Shirley MacNab (F50) | F47: 0.017032488 | G47: 36 | H47: 0.017032488 | I47: 36 | J47: 974 | K47: =VLOOKUP(J47,NameLookup!$A$1:$H$1058,7,FALSE) -> Marie McChord (F55) | L47: 0.031152813 | M47: 26 | N47: 0.048185301 | O47: 29 | P47: 975 | Q47: =VLOOKUP(P47,NameLookup!$A$1:$H$1058,7,FALSE) -> Ada Stewart (F50) | R47: 0.016417234 | S47: 20 | T47: 0.064602535 | U47: 25
A48: 190 | B48: Motherwell_AC_(A) | C48: F50 | D48: 1005 | E48: =VLOOKUP(D48,NameLookup!$A$1:$H$1058,7,FALSE) -> Barbara Hogg (F50) | F48: 0.019694387 | G48: 46 | H48: 0.019694387 | I48: 46 | J48: 1006 | K48: =VLOOKUP(J48,NameLookup!$A$1:$H$1058,7,FALSE) -> Joyce Allardice (F50) | L48: 0.0325711 | M48: 32 | N48: 0.052265486 | O48: 37 | P48: 1007 | Q48: =VLOOKUP(P48,NameLookup!$A$1:$H$1058,7,FALSE) -> Mae McIsaac (F60) | R48: 0.018045926 | S48: 30 | T48: 0.070311412 | U48: 35

Sheet Short Leg Results
A1: Chip | B1: Runner | C1: Short | D1: Rank
A2: 893 | B2: Naomi Lang | C2: 0.012434444 | D2: 1
A3: 993 | B3: Claire Bruce | C3: 0.012801551 | D3: 2
A4: 905 | B4: Megan Crawford | C4: 0.012960613 | D4: 3
A5: 907 | B5: Helen Sharpe | C5: 0.012974398 | D5: 4
A6: 953 | B6: Christina Rankin | C6: 0.013008079 | D6: 5
A7: 911 | B7: Jenny Selman | C7: 0.013032963 | D7: 6
A8: 865 | B8: SarahRussell Brown | C8: 0.013046123 | D8: 7
A9: 841 | B9: Katie Bristow | C9: 0.013179502 | D9: 8
A10: 1025 | B10: Kathryn Pennel | C10: 0.013334201 | D10: 9
A11: 987 | B11: Siobhan Coleman | C11: 0.013334931 | D11: 10
A12: 909 | B12: Katie Jones | C12: 0.013447824 | D12: 11
A13: 883 | B13: Morgan Blevins | C13: 0.013489444 | D13: 12
... A84: 943 | B84: Sarah Smith | C84: 0.021773148 | D84: 83

Sheet Long Leg Results
A1: Chip | B1: Runner | C1: Long | D1: Rank
A2: 908 | B2: Stephanie Pennycook | C2: 0.023276273 | D2: 1
A3: 988 | B3: Sarah Inglis | C3: 0.023285023 | D3: 2
A4: 894 | B4: Mhairi Maclennan | C4: 0.023983218 | D4: 3
A5: 986 | B5: Jo Williams | C5: 0.02406294 | D5: 4
A6: 906 | B6: Annabel Simpson | C6: 0.024064306 | D6: 5
A7: 946 | B7: Shona McIntosh | C7: 0.02417794 | D7: 6
A8: 898 | B8: Claire Moffett | C8: 0.024454016 | D8: 7
A9: 862 | B9: Lauren Wilson | C9: 0.024729028 | D9: 8
A10: 954 | B10: Elspeth Curran | C10: 0.024978542 | D10: 9
A11: 864 | B11: Jennifer MacLean | C11: 0.025521273 | D11: 10
A12: 1026 | B12: Ruth Joss | C12: 0.025662674 | D12: 11
A13: 900 | B13: Fiona Matheson | C13: 0.025820069 | D13: 12
... A72: 830 | B72: Christine McKay | C72: 0.040024873 | D72: 71

Sheet NameLookup
A1: Bib# | B1: SAL Number | C1: Race No | D1: Forename | E1: Surname | F1: Age Group | G1: Programme Name | H1: Club
A2: 201 | B2: SA00869 | C2: 13 | D2: Rory | E2: Muir | F2: (M Sen) | G2: Rory Muir (M Sen) | H2: Aberdeen AAC
A3: 202 | B3: SA35394 | C3: 11 | D3: Will | E3: Mackay | F3: (M Sen) | G3: Will Mackay (M Sen) | H3: Aberdeen AAC
A4: 203 | B4: SA12214 | C4: 5 | D4: Michael | E4: Ferguson | F4: (M Sen) | G4: Michael Ferguson (M Sen) | H4: Aberdeen AAC
A5: 204 | B5: SA46710 | C5: 2 | D5: Owain | E5: Bristow | F5: (M Sen) | G5: Owain Bristow (M Sen) | H5: Aberdeen AAC
A6: 205 | B6: SA38733 | C6: 19 | D6: Fearghas | E6: Thomson | F6: (M Sen) | G6: Fearghas Thomson (M Sen) | H6: Aberdeen AAC
A7: 206 | B7: SA44330 | C7: 9 | D7: James | E7: Hoad | F7: (M Sen) | G7: James Hoad (M Sen) | H7: Aberdeen AAC
A8: 207 | B8: SA45888 | C8: 15 | D8: Philip | E8: Neilson | F8: (MU20) | G8: Philip Neilson (MU20) | H8: Aberdeen AAC
A9: 208 | B9: SA19422 | C9: 14 | D9: Steven | E9: Murray | F9: (M Sen) | G9: Steven Murray (M Sen) | H9: Aberdeen AAC
A10: 209 | B10: SA24086 | C10: 17 | D10: Aaron | E10: Odentz | F10: (MU20) | G10: Aaron Odentz (MU20) | H10: Aberdeen AAC
A11: 210 | B11: SA13129 | C11: 20 | D11: Euan | E11: Webster | F11: (M Sen) | G11: Euan Webster (M Sen) | H11: Aberdeen AAC
A12: 211 | B12: SA14973 | C12: 12 | D12: Eoghan | E12: MacNamara | F12: (M Sen) | G12: Eoghan MacNamara (M Sen) | H12: Aberdeen AAC
A13: 212 | B13: SA32204 | C13: 1 | D13: Joe | E13: Barton | F13: (MU20) | G13: Joe Barton (MU20) | H13: Aberdeen AAC
... A297: 627 | B297: SA46547 | C297: 573 | D297: Tony | E297: Quinn | F297: (M60) | G297: Tony Quinn (M60) | H297: Kirkintilloch Olympians
A298: 628 | C298: 563 | D298: James | E298: Gallacher | F298: (M55) | G298: James Gallacher (M55) | H298: Kirkintilloch Olympians
A299: 629 | B299: SA06813 | C299: 575 | D299: Robert | E299: Rogerson | F299: (M55) | G299: Robert Rogerson (M55) | H299: Kirkintilloch Olympians
A300: 630 | B300: SA18492 | C300: 581 | D300: Robert | E300: Watson | F300: (M55) | G300: Robert Watson (M55) | H300: Kirkintilloch Olympians
A301: 633 | B301: SA32425 | C301: 583 | D301: Mark | E301: Welsford | F301: (M40) | G301: Mark Welsford (M40) | H301: Kirkintilloch Olympians
A302: 634 | B302: SA47525 | C302: 582 | D302: John | E302: Wells | F302: (M45) | G302: John Wells (M45) | H302: Kirkintilloch Olympians
A303: 635 | B303: SA44268 | C303: 566 | D303: Norman | E303: Mcneill | F303: (M40) | G303: Norman Mcneill (M40) | H303: Kirkintilloch Olympians
A304: 636 | B304: SA35103 | C304: 576 | D304: Gary | E304: Shaw | F304: (M40) | G304: Gary Shaw (M40) | H304: Kirkintilloch Olympians
A305: 637 | B305: SA44678 | C305: 560 | D305: Robert | E305: Conroy | F305: (M40) | G305: Robert Conroy (M40) | H305: Kirkintilloch Olympians
A306: 638 | B306: SA25010 | C306: 564 | D306: Graham | E306: McCabe | F306: (M45) | G306: Graham McCabe (M45) | H306: Kirkintilloch Olympians
A307: 639 | B307: SA31033 | C307: 565 | D307: Edward | E307: McLoone | F307: (M Sen) | G307: Edward McLoone (M Sen) | H307: Kirkintilloch Olympians
A308: 640 | B308: SA23710 | C308: 561 | D308: Euan | E308: Craig | F308: (M Sen) | G308: Euan Craig (M Sen) | H308: Kirkintilloch Olympians
A309: 641 | B309: SA31204 | C309: 571 | D309: Teginder | E309: Padda | F309: (M40) | G309: Teginder Padda (M40) | H309: Kirkintilloch Olympians
A310: 642 | C310: 570 | D310: David | E310: Murray | F310: (M Sen) | G310: David Murray (M Sen) | H310: Kirkintilloch Olympians
A311: 643 | C311: 569 | D311: Owen | E311: Murphy | F311: #N/A | G311: #N/A | H311: Kirkintilloch Olympians
A312: 644 | C312: 574 | D312: Kenny | E312: Robertson | F312: #N/A | G312: #N/A | H312: Kirkintilloch Olympians
A313: 645 | B313: SA23993 | C313: 577 | D313: Colin | E313: Simpson | F313: (M60) | G313: Colin Simpson (M60) | H313: Kirkintilloch Olympians
A314: 646 | C314: 578 | D314: Stephen | E314: tominey | F314: (M50) | G314: Stephen tominey (M50) | H314: Kirkintilloch Olympians
A315: 657 | B315: SA42761 | C315: 605 | D315: Will | E315: Moffat | F315: (M45) | G315: Will Moffat (M45) | H315: Lothian Running Club
A316: 658 | B316: SA28303 | C316: 615 | D316: Owen | E316: Williams | F316: (M Sen) | G316: Owen Williams (M Sen) | H316: Lothian Running Club
A317: 659 | B317: SA07508 | C317: 614 | D317: Peter | E317: West | F317: (M60) | G317: Peter West (M60) | H317: Lothian Running Club
A318: 660 | B318: SA39107 | C318: 588 | D318: Ryan | E318: Ferguson | F318: (M Sen) | G318: Ryan Ferguson (M Sen) | H318: Lothian Running Club
A319: 661 | B319: SA29933 | C319: 592 | D319: Robert | E319: Kennedy | F319: (M Sen) | G319: Robert Kennedy (M Sen) | H319: Lothian Running Club
A320: 662 | B320: SA29495 | C320: 595 | D320: Martin | E320: Leadbetter | F320: (M60) | G320: Martin Leadbetter (M60) | H320: Lothian Running Club
A321: 663 | B321: SA32308 | C321: 601 | D321: Barry | E321: McComish | F321: (M40) | G321: Barry McComish (M40) | H321: Lothian Running Club
A322: 664 | B322: SA30962 | C322: 594 | D322: Malcolm | E322: Lang | F322: (M40) | G322: Malcolm Lang (M40) | H322: Lothian Running Club
A323: 665 | B323: SA22716 | C323: 602 | D323: Euan | E323: McInnes | F323: (M40) | G323: Euan McInnes (M40) | H323: Lothian Running Club
A324: 666 | B324: SA37327 | C324: 593 | D324: Alan | E324: Knowles | F324: (M40) | G324: Alan Knowles (M40) | H324: Lothian Running Club
A325: 667 | B325: SA47539 | C325: 611 | D325: Craig | E325: Pirie | F325: (M45) | G325: Craig Pirie (M45) | H325: Lothian Running Club
A326: 668 | B326: SA18592 | C326: 610 | D326: Colin | E326: Partridge | F326: (M40) | G326: Colin Partridge (M40) | H326: Lothian Running Club
... A532: 971 | B532: sa37907 | C532: 1201 | D532: Anne | E532: Crombie-Brown | F532: (F40) | G532: Anne Crombie-Brown (F40) | H532: Kirkintilloch Olympians
A533: 972 | C533: 1207 | D533: Annemarie | E533: McGregor | F533: (F40) | G533: Annemarie McGregor (F40) | H533: Kirkintilloch Olympians
A534: 973 | B534: sa24463 | C534: 1205 | D534: Shirley | E534: MacNab | F534: (F50) | G534: Shirley MacNab (F50) | H534: Kirkintilloch Olympians
A535: 974 | B535: sa07578 | C535: 1206 | D535: Marie | E535: McChord | F535: (F55) | G535: Marie McChord (F55) | H535: Kirkintilloch Olympians
A536: 975 | B536: sa08705 | C536: 1212 | D536: Ada | E536: Stewart | F536: (F50) | G536: Ada Stewart (F50) | H536: Kirkintilloch Olympians
A537: 977 | B537: sa34397 | C537: 1208 | D537: Jennifer | E537: Muir | F537: (FU20) | G537: Jennifer Muir (FU20) | H537: Kirkintilloch Olympians
A538: 978 | B538: sa29137 | C538: 1211 | D538: Moira | E538: Smith | F538: (F50) | G538: Moira Smith (F50) | H538: Kirkintilloch Olympians
A539: 980 | B539: sa16213 | C539: 1202 | D539: Vivien | E539: Fraser | F539: (F50) | G539: Vivien Fraser (F50) | H539: Kirkintilloch Olympians
A540: 985 | B540: SA10211 | C540: 1224 | D540: Lana | E540: Turnbull | F540: (F Sen) | G540: Lana Turnbull (F Sen) | H540: Lothian Running Club
A541: 986 | B541: SA27920 | C541: 1226 | D541: Jo | E541: Williams | F541: (F Sen) | G541: Jo Williams (F Sen) | H541: Lothian Running Club
A542: 987 | B542: SA42645 | C542: 1215 | D542: Siobhan | E542: Coleman | F542: (F Sen) | G542: Siobhan Coleman (F Sen) | H542: Lothian Running Club
A543: 988 | B543: SA11699 | C543: 1218 | D543: Sarah | E543: Inglis | F543: (F Sen) | G543: Sarah Inglis (F Sen) | H543: Lothian Running Club
A544: 989 | B544: SA09702 | C544: 1216 | D544: Yvonne | E544: Crilly | F544: (F55) | G544: Yvonne Crilly (F55) | H544: Lothian Running Club
A545: 990 | B545: SA39448 | C545: 1227 | D545: Mel | E545: Zobel | F545: (F Sen) | G545: Mel Zobel (F Sen) | H545: Lothian Running Club
... A584: 1041 | B584: SA27329 | C584: 1280 | D584: Lauren | E584: Corbett | F584: (F Sen) | G584: Lauren Corbett (F Sen) | H584: Teviotdale Harriers
A585: #N/A | B585: SA32167 | C585: 3 | D585: Athol | E585: Burnett | F585: (M55) | G585: Athol Burnett (M55) | H585: Aberdeen AAC
A586: #N/A | B586: SA27637 | C586: 4 | D586: Lukasz | E586: Czyzycki | F586: (M Sen) | G586: Lukasz Czyzycki (M Sen) | H586: Aberdeen AAC
A587: #N/A | B587: SA12211 | C587: 6 | D587: AndrewJohn | E587: Ferguson | F587: (M Sen) | G587: AndrewJohn Ferguson (M Sen) | H587: Aberdeen AAC
A588: #N/A | B588: SA38263 | C588: 8 | D588: Daniel | E588: Hatfield | F588: (MU20) | G588: Daniel Hatfield (MU20) | H588: Aberdeen AAC
A589: #N/A | B589: SA28677 | C589: 18 | D589: Callum | E589: Symmons | F589: (M Sen) | G589: Callum Symmons (M Sen) | H589: Aberdeen AAC
A590: #N/A | B590: SA24452 | C590: 21 | D590: Tyler | E590: White | F590: (MU20) | G590: Tyler White (MU20) | H590: Aberdeen AAC
A591: #N/A | B591: SA34206 | C591: 30 | D591: Brent | E591: Brodie | F591: (M45) | G591: Brent Brodie (M45) | H591: Bellahouston Harriers
A592: #N/A | B592: SA18140 | C592: 34 | D592: Graeme | E592: Gemmell | F592: (M50) | G592: Graeme Gemmell (M50) | H592: Bellahouston Harriers
A593: #N/A | B593: SA45573 | C593: 40 | D593: Simon | E593: McDougall | F593: (M Sen) | G593: Simon McDougall (M Sen) | H593: Bellahouston Harriers
A594: #N/A | B594: SA33036 | C594: 48 | D594: Kenneth | E594: Taylor | F594: (M Sen) | G594: Kenneth Taylor (M Sen) | H594: Bellahouston Harriers
A595: #N/A | B595: SA46386 | C595: 49 | D595: Greg | E595: Templeton | F595: (M Sen) | G595: Greg Templeton (M Sen) | H595: Bellahouston Harriers
A596: #N/A | B596: SA46954 | C596: 52 | D596: Crispin | E596: Walsh | F596: (M45) | G596: Crispin Walsh (M45) | H596: Bellahouston Harriers
... A773: #N/A | B773: SA18842 | C773: 436 | D773: Joseph | E773: Lowrie | F773: (MU20) | G773: Joseph Lowrie (MU20) | H773: Giffnock North AC
A774: #N/A | C774: 441 | D774: Sandy | E774: Nimmo | F774: (M Sen) | G774: Sandy Nimmo (M Sen) | H774: Giffnock North AC
A775: #N/A | B775: SA46104 | C775: 443 | D775: John | E775: O'Donnell | F775: (M40) | G775: John O'Donnell (M40) | H775: Giffnock North AC
A776: #N/A | B776: SA07642 | C776: 445 | D776: David | E776: Phee | F776: (M Sen) | G776: David Phee (M Sen) | H776: Giffnock North AC
A777: #N/A | B777: SA33167 | C777: 446 | D777: David | E777: Sawyer | F777: (M45) | G777: David Sawyer (M45) | H777: Giffnock North AC
A778: #N/A | B778: SA31140 | C778: 447 | D778: Jason | E778: Steele | F778: (M40) | G778: Jason Steele (M40) | H778: Giffnock North AC
A779: #N/A | B779: SA22549 | C779: 449 | D779: Luke | E779: Traynor | F779: (M Sen) | G779: Luke Traynor (M Sen) | H779: Giffnock North AC
A780: #N/A | B780: SA42629 | C780: 451 | D780: Scott | E780: Wilson | F780: (M40) | G780: Scott Wilson (M40) | H780: Giffnock North AC
A781: #N/A | B781: SA28387 | C781: 452 | D781: Colin | E781: Wylie | F781: (M45) | G781: Colin Wylie (M45) | H781: Giffnock North AC
A782: #N/A | B782: sa08145 | C782: 453 | D782: Alasdair | E782: Anthony | F782: (M40) | G782: Alasdair Anthony (M40) | H782: Hunters Bog Trotters
A783: #N/A | B783: sa08268 | C783: 454 | D783: Ian | E783: Campbell | F783: (M50) | G783: Ian Campbell (M50) | H783: Hunters Bog Trotters
A784: #N/A | B784: sa07260 | C784: 455 | D784: Oleg | E784: Chepelin | F784: (M Sen) | G784: Oleg Chepelin (M Sen) | H784: Hunters Bog Trotters
A785: #N/A | B785: sa21720 | C785: 456 | D785: Ross | E785: Clark | F785: (M Sen) | G785: Ross Clark (M Sen) | H785: Hunters Bog Trotters
A786: #N/A | B786: SA20955 | C786: 457 | D786: Ewan | E786: Crawford | F786: (M Sen) | G786: Ewan Crawford (M Sen) | H786: Hunters Bog Trotters
... A845: #N/A | B845: SA36112 | C845: 556 | D845: Gordon | E845: Reid | F845: (M45) | G845: Gordon Reid (M45) | H845: Kilmarnock H&AC
A846: #N/A | C846: 557 | D846: Ken | E846: Wales | F846: (M50) | G846: Ken Wales (M50) | H846: Kilmarnock H&AC
A847: #N/A | B847: SA01526 | C847: 558 | D847: James | E847: Wales | F847: (M Sen) | G847: James Wales (M Sen) | H847: Kilmarnock H&AC
A848: #N/A | B848: SA18276 | C848: 559 | D848: Cameron | E848: Wilson | F848: (M Sen) | G848: Cameron Wilson (M Sen) | H848: Kilmarnock H&AC
A849: #N/A | B849: SA08789 | C849: 562 | D849: Alastair | E849: Dunlop | F849: (M60) | G849: Alastair Dunlop (M60) | H849: Kirkintilloch Olympians
A850: #N/A | C850: 567 | D850: Craig | E850: McWilliam | F850: #N/A | G850: #N/A | H850: Kirkintilloch Olympians
A851: #N/A | B851: SA05224 | C851: 568 | D851: Gary | E851: Mitchell | F851: #N/A | G851: #N/A | H851: Kirkintilloch Olympians
A852: #N/A | B852: SA24449 | C852: 572 | D852: John | E852: Pugh | F852: (M50) | G852: John Pugh (M50) | H852: Kirkintilloch Olympians
A853: #N/A | B853: SA45805 | C853: 579 | D853: Mark | E853: Tyrrell | F853: (M Sen) | G853: Mark Tyrrell (M Sen) | H853: Kirkintilloch Olympians
A854: #N/A | B854: SA45652 | C854: 580 | D854: Paul | E854: Waters | F854: (M40) | G854: Paul Waters (M40) | H854: Kirkintilloch Olympians
A855: #N/A | B855: SA45432 | C855: 584 | D855: Alan | E855: Cunningham | F855: (M45) | G855: Alan Cunningham (M45) | H855: Lothian Running Club
A856: #N/A | B856: SA36366 | C856: 585 | D856: Joshua | E856: Dack | F856: (M Sen) | G856: Joshua Dack (M Sen) | H856: Lothian Running Club
A857: #N/A | B857: SA06831 | C857: 586 | D857: David | E857: Eades | F857: (M50) | G857: David Eades (M50) | H857: Lothian Running Club
A858: #N/A | B858: SA06831 | C858: 587 | D858: David | E858: Eades | F858: (M50) | G858: David Eades (M50) | H858: Lothian Running Club
A859: #N/A | B859: SA06115 | C859: 589 | D859: Ted | E859: Finch | F859: (M65) | G859: Ted Finch (M65) | H859: Lothian Running Club
A860: #N/A | B860: SA39183 | C860: 590 | D860: Kevin | E860: Godfrey | F860: (M50) | G860: Kevin Godfrey (M50) | H860: Lothian Running Club
...

Sheet TeamResults2
A1: Team | B1: Team Name | C1: Class | E1: Leg 1 | F1: Time | G1: Rank | K1: Leg 2 | L1: Time | M1: Rank | Q1: Leg 3 | R1: Time | S1: Rank | W1: Leg 4 | X1: Time | Y1: Rank
A2: =INDIRECT("TeamResult!"&"R"&ROW()/2+1&"C"&COLUMN(),FALSE) -> 165 | B2: =INDIRECT("TeamResult!"&"R"&ROW()/2+1&"C"&COLUMN(),FALSE) -> Fife_Athletic_Club_(A) | C2: =INDIRECT("TeamResult!"&"R"&ROW()/2+1&"C"&COLUMN(),FALSE) -> F | D2: =INDIRECT("TeamResult!"&"R"&ROW()/2+1&"C"&COLUMN(),FALSE) -> 905 | E2: =INDIRECT("TeamResult!"&"R"&ROW()/2+1&"C"&COLUMN(),FALSE) -> Megan Crawford (F Sen) | F2: =INDIRECT("TeamResult!"&"R"&ROW()/2+1&"C"&COLUMN(),FALSE) -> 0.012960613 | G2: =INDIRECT("TeamResult!"&"R"&ROW()/2+1&"C"&COLUMN(),FALSE) -> 3 | K2: =INDIRECT("TeamResult!"&"R"&ROW()/2+1&"C"&COLUMN(),FALSE) -> Annabel Simpson (F Sen) | L2: =INDIRECT("TeamResult!"&"R"&ROW()/2+1&"C"&COLUMN(),FALSE) -> 0.024064306 | M2: =INDIRECT("TeamResult!"&"R"&ROW()/2+1&"C"&COLUMN(),FALSE) -> 3 | Q2: =INDIRECT("TeamResult!"&"R"&ROW()/2+1&"C"&COLUMN(),FALSE) -> Helen Sharpe (F Sen) | R2: =INDIRECT("TeamResult!"&"R"&ROW()/2+1&"C"&COLUMN(),FALSE) -> 0.012974398 | S2: =INDIRECT("TeamResult!"&"R"&ROW()/2+1&"C"&COLUMN(),FALSE) -> 1 | W2: =INDIRECT("TeamResult!"&"R"&ROW()/2+1&"C"&COLUMN(),FALSE) -> Stephanie Pennycook (F Sen) | X2: =INDIRECT("TeamResult!"&"R"&ROW()/2+1&"C"&COLUMN(),FALSE) -> 0.023276273 | Y2: =INDIRECT("TeamResult!"&"R"&ROW()/2+1&"C"&COLUMN(),FALSE) -> 1
F3: =INDIRECT("TeamResult!"&"R" & (ROW()-1)/2 +1& "C" & COLUMN()+2,FALSE) -> 0.012960613 | G3: =INDIRECT("TeamResult!"&"R" & (ROW()-1)/2 +1& "C" & COLUMN()+2,FALSE) -> 3 | L3: =INDIRECT("TeamResult!"&"R" & (ROW()-1)/2 +1& "C" & COLUMN()+2,FALSE) -> 0.037024919 | M3: =INDIRECT("TeamResult!"&"R" & (ROW()-1)/2 +1& "C" & COLUMN()+2,FALSE) -> 2 | R3: =INDIRECT("TeamResult!"&"R" & (ROW()-1)/2 +1& "C" & COLUMN()+2,FALSE) -> 0.049999317 | S3: =INDIRECT("TeamResult!"&"R" & (ROW()-1)/2 +1& "C" & COLUMN()+2,FALSE) -> 1 | X3: =INDIRECT("TeamResult!"&"R" & (ROW()-1)/2 +1& "C" & COLUMN()+2,FALSE) -> 0.07327559 | Y3: =INDIRECT("TeamResult!"&"R" & (ROW()-1)/2 +1& "C" & COLUMN()+2,FALSE) -> 1
A4: =INDIRECT("TeamResult!"&"R"&ROW()/2+1&"C"&COLUMN(),FALSE) -> 185 | B4: =INDIRECT("TeamResult!"&"R"&ROW()/2+1&"C"&COLUMN(),FALSE) -> Lothian_Running_Club_ | C4: =INDIRECT("TeamResult!"&"R"&ROW()/2+1&"C"&COLUMN(),FALSE) -> F | D4: =INDIRECT("TeamResult!"&"R"&ROW()/2+1&"C"&COLUMN(),FALSE) -> 985 | E4: =INDIRECT("TeamResult!"&"R"&ROW()/2+1&"C"&COLUMN(),FALSE) -> Lana Turnbull (F Sen) | F4: =INDIRECT("TeamResult!"&"R"&ROW()/2+1&"C"&COLUMN(),FALSE) -> 0.014306806 | G4: =INDIRECT("TeamResult!"&"R"&ROW()/2+1&"C"&COLUMN(),FALSE) -> 16 | K4: =INDIRECT("TeamResult!"&"R"&ROW()/2+1&"C"&COLUMN(),FALSE) -> Jo Williams (F Sen) | L4: =INDIRECT("TeamResult!"&"R"&ROW()/2+1&"C"&COLUMN(),FALSE) -> 0.02406294 | M4: =INDIRECT("TeamResult!"&"R"&ROW()/2+1&"C"&COLUMN(),FALSE) -> 2 | Q4: =INDIRECT("TeamResult!"&"R"&ROW()/2+1&"C"&COLUMN(),FALSE) -> Siobhan Coleman (F Sen) | R4: =INDIRECT("TeamResult!"&"R"&ROW()/2+1&"C"&COLUMN(),FALSE) -> 0.013334931 | S4: =INDIRECT("TeamResult!"&"R"&ROW()/2+1&"C"&COLUMN(),FALSE) -> 3 | W4: =INDIRECT("TeamResult!"&"R"&ROW()/2+1&"C"&COLUMN(),FALSE) -> Sarah Inglis (F Sen) | X4: =INDIRECT("TeamResult!"&"R"&ROW()/2+1&"C"&COLUMN(),FALSE) -> 0.023285023 | Y4: =INDIRECT("TeamResult!"&"R"&ROW()/2+1&"C"&COLUMN(),FALSE) -> 2
F5: =INDIRECT("TeamResult!"&"R" & (ROW()-1)/2 +1& "C" & COLUMN()+2,FALSE) -> 0.014306806 | G5: =INDIRECT("TeamResult!"&"R" & (ROW()-1)/2 +1& "C" & COLUMN()+2,FALSE) -> 16 | L5: =INDIRECT("TeamResult!"&"R" & (ROW()-1)/2 +1& "C" & COLUMN()+2,FALSE) -> 0.038369745 | M5: =INDIRECT("TeamResult!"&"R" & (ROW()-1)/2 +1& "C" & COLUMN()+2,FALSE) -> 5 | R5: =INDIRECT("TeamResult!"&"R" & (ROW()-1)/2 +1& "C" & COLUMN()+2,FALSE) -> 0.051704676 | S5: =INDIRECT("TeamResult!"&"R" & (ROW()-1)/2 +1& "C" & COLUMN()+2,FALSE) -> 3 | X5: =INDIRECT("TeamResult!"&"R" & (ROW()-1)/2 +1& "C" & COLUMN()+2,FALSE) -> 0.074989699 | Y5: =INDIRECT("TeamResult!"&"R" & (ROW()-1)/2 +1& "C" & COLUMN()+2,FALSE) -> 2
A6: =INDIRECT("TeamResult!"&"R"&ROW()/2+1&"C"&COLUMN(),FALSE) -> 162 | B6: =INDIRECT("TeamResult!"&"R"&ROW()/2+1&"C"&COLUMN(),FALSE) -> Edinburgh_University_ | C6: =INDIRECT("TeamResult!"&"R"&ROW()/2+1&"C"&COLUMN(),FALSE) -> F | D6: =INDIRECT("TeamResult!"&"R"&ROW()/2+1&"C"&COLUMN(),FALSE) -> 893 | E6: =INDIRECT("TeamResult!"&"R"&ROW()/2+1&"C"&COLUMN(),FALSE) -> Naomi Lang (FU20) | F6: =INDIRECT("TeamResult!"&"R"&ROW()/2+1&"C"&COLUMN(),FALSE) -> 0.012434444 | G6: =INDIRECT("TeamResult!"&"R"&ROW()/2+1&"C"&COLUMN(),FALSE) -> 1 | K6: =INDIRECT("TeamResult!"&"R"&ROW()/2+1&"C"&COLUMN(),FALSE) -> Mhairi Maclennan (F Sen) | L6: =INDIRECT("TeamResult!"&"R"&ROW()/2+1&"C"&COLUMN(),FALSE) -> 0.023983218 | M6: =INDIRECT("TeamResult!"&"R"&ROW()/2+1&"C"&COLUMN(),FALSE) -> 1 | Q6: =INDIRECT("TeamResult!"&"R"&ROW()/2+1&"C"&COLUMN(),FALSE) -> Helen Jones (F Sen) | R6: =INDIRECT("TeamResult!"&"R"&ROW()/2+1&"C"&COLUMN(),FALSE) -> 0.014281458 | S6: =INDIRECT("TeamResult!"&"R"&ROW()/2+1&"C"&COLUMN(),FALSE) -> 10 | W6: =INDIRECT("TeamResult!"&"R"&ROW()/2+1&"C"&COLUMN(),FALSE) -> Amy Frankland (F Sen) | X6: =INDIRECT("TeamResult!"&"R"&ROW()/2+1&"C"&COLUMN(),FALSE) -> 0.025855891 | Y6: =INDIRECT("TeamResult!"&"R"&ROW()/2+1&"C"&COLUMN(),FALSE) -> 6
F7: =INDIRECT("TeamResult!"&"R" & (ROW()-1)/2 +1& "C" & COLUMN()+2,FALSE) -> 0.012434444 | G7: =INDIRECT("TeamResult!"&"R" & (ROW()-1)/2 +1& "C" & COLUMN()+2,FALSE) -> 1 | L7: =INDIRECT("TeamResult!"&"R" & (ROW()-1)/2 +1& "C" & COLUMN()+2,FALSE) -> 0.036417662 | M7: =INDIRECT("TeamResult!"&"R" & (ROW()-1)/2 +1& "C" & COLUMN()+2,FALSE) -> 1 | R7: =INDIRECT("TeamResult!"&"R" & (ROW()-1)/2 +1& "C" & COLUMN()+2,FALSE) -> 0.05069912 | S7: =INDIRECT("TeamResult!"&"R" & (ROW()-1)/2 +1& "C" & COLUMN()+2,FALSE) -> 2 | X7: =INDIRECT("TeamResult!"&"R" & (ROW()-1)/2 +1& "C" & COLUMN()+2,FALSE) -> 0.076555012 | Y7: =INDIRECT("TeamResult!"&"R" & (ROW()-1)/2 +1& "C" & COLUMN()+2,FALSE) -> 3
A8: =INDIRECT("TeamResult!"&"R"&ROW()/2+1&"C"&COLUMN(),FALSE) -> 154 | B8: =INDIRECT("TeamResult!"&"R"&ROW()/2+1&"C"&COLUMN(),FALSE) -> Edinburgh_Athletics_C | C8: =INDIRECT("TeamResult!"&"R"&ROW()/2+1&"C"&COLUMN(),FALSE) -> F | D8: =INDIRECT("TeamResult!"&"R"&ROW()/2+1&"C"&COLUMN(),FALSE) -> 861 | E8: =INDIRECT("TeamResult!"&"R"&ROW()/2+1&"C"&COLUMN(),FALSE) -> Victoria Riddell (F Sen) | F8: =INDIRECT("TeamResult!"&"R"&ROW()/2+1&"C"&COLUMN(),FALSE) -> 0.013928704 | G8: =INDIRECT("TeamResult!"&"R"&ROW()/2+1&"C"&COLUMN(),FALSE) -> 13 | K8: =INDIRECT("TeamResult!"&"R"&ROW()/2+1&"C"&COLUMN(),FALSE) -> Lauren Wilson (F Sen) | L8: =INDIRECT("TeamResult!"&"R"&ROW()/2+1&"C"&COLUMN(),FALSE) -> 0.024729028 | M8: =INDIRECT("TeamResult!"&"R"&ROW()/2+1&"C"&COLUMN(),FALSE) -> 6 | Q8: =INDIRECT("TeamResult!"&"R"&ROW()/2+1&"C"&COLUMN(),FALSE) -> Lyndsey Fraser (F40) | R8: =INDIRECT("TeamResult!"&"R"&ROW()/2+1&"C"&COLUMN(),FALSE) -> 0.014036169 | S8: =INDIRECT("TeamResult!"&"R"&ROW()/2+1&"C"&COLUMN(),FALSE) -> 8 | W8: =INDIRECT("TeamResult!"&"R"&ROW()/2+1&"C"&COLUMN(),FALSE) -> Jennifer MacLean (F40) | X8: =INDIRECT("TeamResult!"&"R"&ROW()/2+1&"C"&COLUMN(),FALSE) -> 0.025521273 | Y8: =INDIRECT("TeamResult!"&"R"&ROW()/2+1&"C"&COLUMN(),FALSE) -> 3
F9: =INDIRECT("TeamResult!"&"R" & (ROW()-1)/2 +1& "C" & COLUMN()+2,FALSE) -> 0.013928704 | G9: =INDIRECT("TeamResult!"&"R" & (ROW()-1)/2 +1& "C" & COLUMN()+2,FALSE) -> 13 | L9: =INDIRECT("TeamResult!"&"R" & (ROW()-1)/2 +1& "C" & COLUMN()+2,FALSE) -> 0.038657731 | M9: =INDIRECT("TeamResult!"&"R" & (ROW()-1)/2 +1& "C" & COLUMN()+2,FALSE) -> 6 | R9: =INDIRECT("TeamResult!"&"R" & (ROW()-1)/2 +1& "C" & COLUMN()+2,FALSE) -> 0.0526939 | S9: =INDIRECT("TeamResult!"&"R" & (ROW()-1)/2 +1& "C" & COLUMN()+2,FALSE) -> 5 | X9: =INDIRECT("TeamResult!"&"R" & (ROW()-1)/2 +1& "C" & COLUMN()+2,FALSE) -> 0.078215174 | Y9: =INDIRECT("TeamResult!"&"R" & (ROW()-1)/2 +1& "C" & COLUMN()+2,FALSE) -> 4
A10: =INDIRECT("TeamResult!"&"R"&ROW()/2+1&"C"&COLUMN(),FALSE) -> 195 | B10: =INDIRECT("TeamResult!"&"R"&ROW()/2+1&"C"&COLUMN(),FALSE) -> Shettleston_Harriers_ | C10: =INDIRECT("TeamResult!"&"R"&ROW()/2+1&"C"&COLUMN(),FALSE) -> F | D10: =INDIRECT("TeamResult!"&"R"&ROW()/2+1&"C"&COLUMN(),FALSE) -> 1025 | E10: =INDIRECT("TeamResult!"&"R"&ROW()/2+1&"C"&COLUMN(),FALSE) -> Kathryn Pennel (F Sen) | F10: =INDIRECT("TeamResult!"&"R"&ROW()/2+1&"C"&COLUMN(),FALSE) -> 0.013334201 | G10: =INDIRECT("TeamResult!"&"R"&ROW()/2+1&"C"&COLUMN(),FALSE) -> 7 | K10: =INDIRECT("TeamResult!"&"R"&ROW()/2+1&"C"&COLUMN(),FALSE) -> Ruth Joss (F Sen) | L10: =INDIRECT("TeamResult!"&"R"&ROW()/2+1&"C"&COLUMN(),FALSE) -> 0.025662674 | M10: =INDIRECT("TeamResult!"&"R"&ROW()/2+1&"C"&COLUMN(),FALSE) -> 8 | Q10: =INDIRECT("TeamResult!"&"R"&ROW()/2+1&"C"&COLUMN(),FALSE) -> CharleneSophia Manley (F Sen) | R10: =INDIRECT("TeamResult!"&"R"&ROW()/2+1&"C"&COLUMN(),FALSE) -> 0.014128194 | S10: =INDIRECT("TeamResult!"&"R"&ROW()/2+1&"C"&COLUMN(),FALSE) -> 9 | W10: =INDIRECT("TeamResult!"&"R"&ROW()/2+1&"C"&COLUMN(),FALSE) -> Avril Mason (F40) | X10: =INDIRECT("TeamResult!"&"R"&ROW()/2+1&"C"&COLUMN(),FALSE) -> 0.025925417 | Y10: =INDIRECT("TeamResult!"&"R"&ROW()/2+1&"C"&COLUMN(),FALSE) -> 7
F11: =INDIRECT("TeamResult!"&"R" & (ROW()-1)/2 +1& "C" & COLUMN()+2,FALSE) -> 0.013334201 | G11: =INDIRECT("TeamResult!"&"R" & (ROW()-1)/2 +1& "C" & COLUMN()+2,FALSE) -> 7 | L11: =INDIRECT("TeamResult!"&"R" & (ROW()-1)/2 +1& "C" & COLUMN()+2,FALSE) -> 0.038996875 | M11: =INDIRECT("TeamResult!"&"R" & (ROW()-1)/2 +1& "C" & COLUMN()+2,FALSE) -> 7 | R11: =INDIRECT("TeamResult!"&"R" & (ROW()-1)/2 +1& "C" & COLUMN()+2,FALSE) -> 0.053125069 | S11: =INDIRECT("TeamResult!"&"R" & (ROW()-1)/2 +1& "C" & COLUMN()+2,FALSE) -> 8 | X11: =INDIRECT("TeamResult!"&"R" & (ROW()-1)/2 +1& "C" & COLUMN()+2,FALSE) -> 0.079050486 | Y11: =INDIRECT("TeamResult!"&"R" & (ROW()-1)/2 +1& "C" & COLUMN()+2,FALSE) -> 5
A12: =INDIRECT("TeamResult!"&"R"&ROW()/2+1&"C"&COLUMN(),FALSE) -> 166 | B12: =INDIRECT("TeamResult!"&"R"&ROW()/2+1&"C"&COLUMN(),FALSE) -> Fife_Athletic_Club_(B) | C12: =INDIRECT("TeamResult!"&"R"&ROW()/2+1&"C"&COLUMN(),FALSE) -> F | D12: =INDIRECT("TeamResult!"&"R"&ROW()/2+1&"C"&COLUMN(),FALSE) -> 909 | E12: =INDIRECT("TeamResult!"&"R"&ROW()/2+1&"C"&COLUMN(),FALSE) -> Katie Jones (F Sen) | F12: =INDIRECT("TeamResult!"&"R"&ROW()/2+1&"C"&COLUMN(),FALSE) -> 0.013447824 | G12: =INDIRECT("TeamResult!"&"R"&ROW()/2+1&"C"&COLUMN(),FALSE) -> 8 | K12: =INDIRECT("TeamResult!"&"R"&ROW()/2+1&"C"&COLUMN(),FALSE) -> Halina Rees (F Sen) | L12: =INDIRECT("TeamResult!"&"R"&ROW()/2+1&"C"&COLUMN(),FALSE) -> 0.026409479 | M12: =INDIRECT("TeamResult!"&"R"&ROW()/2+1&"C"&COLUMN(),FALSE) -> 10 | Q12: =INDIRECT("TeamResult!"&"R"&ROW()/2+1&"C"&COLUMN(),FALSE) -> Jenny Selman (F Sen) | R12: =INDIRECT("TeamResult!"&"R"&ROW()/2+1&"C"&COLUMN(),FALSE) -> 0.013032963 | S12: =INDIRECT("TeamResult!"&"R"&ROW()/2+1&"C"&COLUMN(),FALSE) -> 2 | W12: =INDIRECT("TeamResult!"&"R"&ROW()/2+1&"C"&COLUMN(),FALSE) -> Sophie Mullins (F Sen) | X12: =INDIRECT("TeamResult!"&"R"&ROW()/2+1&"C"&COLUMN(),FALSE) -> 0.026307998 | Y12: =INDIRECT("TeamResult!"&"R"&ROW()/2+1&"C"&COLUMN(),FALSE) -> 8
F13: =INDIRECT("TeamResult!"&"R" & (ROW()-1)/2 +1& "C" & COLUMN()+2,FALSE) -> 0.013447824 | G13: =INDIRECT("TeamResult!"&"R" & (ROW()-1)/2 +1& "C" & COLUMN()+2,FALSE) -> 8 | L13: =INDIRECT("TeamResult!"&"R" & (ROW()-1)/2 +1& "C" & COLUMN()+2,FALSE) -> 0.039857303 | M13: =INDIRECT("TeamResult!"&"R" & (ROW()-1)/2 +1& "C" & COLUMN()+2,FALSE) -> 9 | R13: =INDIRECT("TeamResult!"&"R" & (ROW()-1)/2 +1& "C" & COLUMN()+2,FALSE) -> 0.052890266 | S13: =INDIRECT("TeamResult!"&"R" & (ROW()-1)/2 +1& "C" & COLUMN()+2,FALSE) -> 7 | X13: =INDIRECT("TeamResult!"&"R" & (ROW()-1)/2 +1& "C" & COLUMN()+2,FALSE) -> 0.079198264 | Y13: =INDIRECT("TeamResult!"&"R" & (ROW()-1)/2 +1& "C" & COLUMN()+2,FALSE) -> 6
A14: =INDIRECT("TeamResult!"&"R"&ROW()/2+1&"C"&COLUMN(),FALSE) -> 175 | B14: =INDIRECT("TeamResult!"&"R"&ROW()/2+1&"C"&COLUMN(),FALSE) -> Hunters_Bog_Trotters_ | C14: =INDIRECT("TeamResult!"&"R"&ROW()/2+1&"C"&COLUMN(),FALSE) -> F | D14: =INDIRECT("TeamResult!"&"R"&ROW()/2+1&"C"&COLUMN(),FALSE) -> 945 | E14: =INDIRECT("TeamResult!"&"R"&ROW()/2+1&"C"&COLUMN(),FALSE) -> Eilis McKechanie (F Sen) | F14: =INDIRECT("TeamResult!"&"R"&ROW()/2+1&"C"&COLUMN(),FALSE) -> 0.014182338 | G14: =INDIRECT("TeamResult!"&"R"&ROW()/2+1&"C"&COLUMN(),FALSE) -> 15 | K14: =INDIRECT("TeamResult!"&"R"&ROW()/2+1&"C"&COLUMN(),FALSE) -> Shona McIntosh (F Sen) | L14: =INDIRECT("TeamResult!"&"R"&ROW()/2+1&"C"&COLUMN(),FALSE) -> 0.02417794 | M14: =INDIRECT("TeamResult!"&"R"&ROW()/2+1&"C"&COLUMN(),FALSE) -> 4 | Q14: =INDIRECT("TeamResult!"&"R"&ROW()/2+1&"C"&COLUMN(),FALSE) -> Megan Mowbray (F40) | R14: =INDIRECT("TeamResult!"&"R"&ROW()/2+1&"C"&COLUMN(),FALSE) -> 0.014494618 | S14: =INDIRECT("TeamResult!"&"R"&ROW()/2+1&"C"&COLUMN(),FALSE) -> 12 | W14: =INDIRECT("TeamResult!"&"R"&ROW()/2+1&"C"&COLUMN(),FALSE) -> Megan Wright (F40) | X14: =INDIRECT("TeamResult!"&"R"&ROW()/2+1&"C"&COLUMN(),FALSE) -> 0.026455833 | Y14: =INDIRECT("TeamResult!"&"R"&ROW()/2+1&"C"&COLUMN(),FALSE) -> 9
F15: =INDIRECT("TeamResult!"&"R" & (ROW()-1)/2 +1& "C" & COLUMN()+2,FALSE) -> 0.014182338 | G15: =INDIRECT("TeamResult!"&"R" & (ROW()-1)/2 +1& "C" & COLUMN()+2,FALSE) -> 15 | L15: =INDIRECT("TeamResult!"&"R" & (ROW()-1)/2 +1& "C" & COLUMN()+2,FALSE) -> 0.038360278 | M15: =INDIRECT("TeamResult!"&"R" & (ROW()-1)/2 +1& "C" & COLUMN()+2,FALSE) -> 4 | R15: =INDIRECT("TeamResult!"&"R" & (ROW()-1)/2 +1& "C" & COLUMN()+2,FALSE) -> 0.052854896 | S15: =INDIRECT("TeamResult!"&"R" & (ROW()-1)/2 +1& "C" & COLUMN()+2,FALSE) -> 6 | X15: =INDIRECT("TeamResult!"&"R" & (ROW()-1)/2 +1& "C" & COLUMN()+2,FALSE) -> 0.079310729 | Y15: =INDIRECT("TeamResult!"&"R" & (ROW()-1)/2 +1& "C" & COLUMN()+2,FALSE) -> 7
A16: =INDIRECT("TeamResult!"&"R"&ROW()/2+1&"C"&COLUMN(),FALSE) -> 177 | B16: =INDIRECT("TeamResult!"&"R"&ROW()/2+1&"C"&COLUMN(),FALSE) -> Kilbarchan_AAC_(A) | C16: =INDIRECT("TeamResult!"&"R"&ROW()/2+1&"C"&COLUMN(),FALSE) -> F | D16: =INDIRECT("TeamResult!"&"R"&ROW()/2+1&"C"&COLUMN(),FALSE) -> 953 | E16: =INDIRECT("TeamResult!"&"R"&ROW()/2+1&"C"&COLUMN(),FALSE) -> Christina Rankin (F Sen) | F16: =INDIRECT("TeamResult!"&"R"&ROW()/2+1&"C"&COLUMN(),FALSE) -> 0.013008079 | G16: =INDIRECT("TeamResult!"&"R"&ROW()/2+1&"C"&COLUMN(),FALSE) -> 4 | K16: =INDIRECT("TeamResult!"&"R"&ROW()/2+1&"C"&COLUMN(),FALSE) -> Elspeth Curran (F Sen) | L16: =INDIRECT("TeamResult!"&"R"&ROW()/2+1&"C"&COLUMN(),FALSE) -> 0.024978542 | M16: =INDIRECT("TeamResult!"&"R"&ROW()/2+1&"C"&COLUMN(),FALSE) -> 7 | Q16: =INDIRECT("TeamResult!"&"R"&ROW()/2+1&"C"&COLUMN(),FALSE) -> Holly Thompson (FU20) | R16: =INDIRECT("TeamResult!"&"R"&ROW()/2+1&"C"&COLUMN(),FALSE) -> 0.013841852 | S16: =INDIRECT("TeamResult!"&"R"&ROW()/2+1&"C"&COLUMN(),FALSE) -> 7 | W16: =INDIRECT("TeamResult!"&"R"&ROW()/2+1&"C"&COLUMN(),FALSE) -> Elaine Eadie (F Sen) | X16: =INDIRECT("TeamResult!"&"R"&ROW()/2+1&"C"&COLUMN(),FALSE) -> 0.027831736 | Y16: =INDIRECT("TeamResult!"&"R"&ROW()/2+1&"C"&COLUMN(),FALSE) -> 13
F17: =INDIRECT("TeamResult!"&"R" & (ROW()-1)/2 +1& "C" & COLUMN()+2,FALSE) -> 0.013008079 | G17: =INDIRECT("TeamResult!"&"R" & (ROW()-1)/2 +1& "C" & COLUMN()+2,FALSE) -> 4 | L17: =INDIRECT("TeamResult!"&"R" & (ROW()-1)/2 +1& "C" & COLUMN()+2,FALSE) -> 0.03798662 | M17: =INDIRECT("TeamResult!"&"R" & (ROW()-1)/2 +1& "C" & COLUMN()+2,FALSE) -> 3 | R17: =INDIRECT("TeamResult!"&"R" & (ROW()-1)/2 +1& "C" & COLUMN()+2,FALSE) -> 0.051828472 | S17: =INDIRECT("TeamResult!"&"R" & (ROW()-1)/2 +1& "C" & COLUMN()+2,FALSE) -> 4 | X17: =INDIRECT("TeamResult!"&"R" & (ROW()-1)/2 +1& "C" & COLUMN()+2,FALSE) -> 0.079660208 | Y17: =INDIRECT("TeamResult!"&"R" & (ROW()-1)/2 +1& "C" & COLUMN()+2,FALSE) -> 8
A18: =INDIRECT("TeamResult!"&"R"&ROW()/2+1&"C"&COLUMN(),FALSE) -> 163 | B18: =INDIRECT("TeamResult!"&"R"&ROW()/2+1&"C"&COLUMN(),FALSE) -> Falkirk_Victoria_Harr | C18: =INDIRECT("TeamResult!"&"R"&ROW()/2+1&"C"&COLUMN(),FALSE) -> F | D18: =INDIRECT("TeamResult!"&"R"&ROW()/2+1&"C"&COLUMN(),FALSE) -> 897 | E18: =INDIRECT("TeamResult!"&"R"&ROW()/2+1&"C"&COLUMN(),FALSE) -> Lorna Kennedy (F40) | F18: =INDIRECT("TeamResult!"&"R"&ROW()/2+1&"C"&COLUMN(),FALSE) -> 0.015002269 | G18: =INDIRECT("TeamResult!"&"R"&ROW()/2+1&"C"&COLUMN(),FALSE) -> 23 | K18: =INDIRECT("TeamResult!"&"R"&ROW()/2+1&"C"&COLUMN(),FALSE) -> Claire Moffett (F Sen) | L18: =INDIRECT("TeamResult!"&"R"&ROW()/2+1&"C"&COLUMN(),FALSE) -> 0.024454016 | M18: =INDIRECT("TeamResult!"&"R"&ROW()/2+1&"C"&COLUMN(),FALSE) -> 5 | Q18: =INDIRECT("TeamResult!"&"R"&ROW()/2+1&"C"&COLUMN(),FALSE) -> Megan Davidson (F Sen) | R18: =INDIRECT("TeamResult!"&"R"&ROW()/2+1&"C"&COLUMN(),FALSE) -> 0.014918021 | S18: =INDIRECT("TeamResult!"&"R"&ROW()/2+1&"C"&COLUMN(),FALSE) -> 14 | W18: =INDIRECT("TeamResult!"&"R"&ROW()/2+1&"C"&COLUMN(),FALSE) -> Fiona Matheson (F55) | X18: =INDIRECT("TeamResult!"&"R"&ROW()/2+1&"C"&COLUMN(),FALSE) -> 0.025820069 | Y18: =INDIRECT("TeamResult!"&"R"&ROW()/2+1&"C"&COLUMN(),FALSE) -> 4
F19: =INDIRECT("TeamResult!"&"R" & (ROW()-1)/2 +1& "C" & COLUMN()+2,FALSE) -> 0.015002269 | G19: =INDIRECT("TeamResult!"&"R" & (ROW()-1)/2 +1& "C" & COLUMN()+2,FALSE) -> 23 | L19: =INDIRECT("TeamResult!"&"R" & (ROW()-1)/2 +1& "C" & COLUMN()+2,FALSE) -> 0.039456285 | M19: =INDIRECT("TeamResult!"&"R" & (ROW()-1)/2 +1& "C" & COLUMN()+2,FALSE) -> 8 | R19: =INDIRECT("TeamResult!"&"R" & (ROW()-1)/2 +1& "C" & COLUMN()+2,FALSE) -> 0.054374306 | S19: =INDIRECT("TeamResult!"&"R" & (ROW()-1)/2 +1& "C" & COLUMN()+2,FALSE) -> 9 | X19: =INDIRECT("TeamResult!"&"R" & (ROW()-1)/2 +1& "C" & COLUMN()+2,FALSE) -> 0.080194375 | Y19: =INDIRECT("TeamResult!"&"R" & (ROW()-1)/2 +1& "C" & COLUMN()+2,FALSE) -> 9
A20: =INDIRECT("TeamResult!"&"R"&ROW()/2+1&"C"&COLUMN(),FALSE) -> 171 | B20: =INDIRECT("TeamResult!"&"R"&ROW()/2+1&"C"&COLUMN(),FALSE) -> Gala_Harriers_(A) | C20: =INDIRECT("TeamResult!"&"R"&ROW()/2+1&"C"&COLUMN(),FALSE) -> F | D20: =INDIRECT("TeamResult!"&"R"&ROW()/2+1&"C"&COLUMN(),FALSE) -> 929 | E20: =INDIRECT("TeamResult!"&"R"&ROW()/2+1&"C"&COLUMN(),FALSE) -> Zoe Pflug (FU20) | F20: =INDIRECT("TeamResult!"&"R"&ROW()/2+1&"C"&COLUMN(),FALSE) -> 0.013513912 | G20: =INDIRECT("TeamResult!"&"R"&ROW()/2+1&"C"&COLUMN(),FALSE) -> 9 | K20: =INDIRECT("TeamResult!"&"R"&ROW()/2+1&"C"&COLUMN(),FALSE) -> Sara Green (F Sen) | L20: =INDIRECT("TeamResult!"&"R"&ROW()/2+1&"C"&COLUMN(),FALSE) -> 0.026372211 | M20: =INDIRECT("TeamResult!"&"R"&ROW()/2+1&"C"&COLUMN(),FALSE) -> 9 | Q20: =INDIRECT("TeamResult!"&"R"&ROW()/2+1&"C"&COLUMN(),FALSE) -> Eileen Maxwell (F55) | R20: =INDIRECT("TeamResult!"&"R"&ROW()/2+1&"C"&COLUMN(),FALSE) -> 0.016743403 | S20: =INDIRECT("TeamResult!"&"R"&ROW()/2+1&"C"&COLUMN(),FALSE) -> 23 | W20: =INDIRECT("TeamResult!"&"R"&ROW()/2+1&"C"&COLUMN(),FALSE) -> Kirstin Maxwell (F Sen) | X20: =INDIRECT("TeamResult!"&"R"&ROW()/2+1&"C"&COLUMN(),FALSE) -> 0.025820845 | Y20: =INDIRECT("TeamResult!"&"R"&ROW()/2+1&"C"&COLUMN(),FALSE) -> 5
F21: =INDIRECT("TeamResult!"&"R" & (ROW()-1)/2 +1& "C" & COLUMN()+2,FALSE) -> 0.013513912 | G21: =INDIRECT("TeamResult!"&"R" & (ROW()-1)/2 +1& "C" & COLUMN()+2,FALSE) -> 9 | L21: =INDIRECT("TeamResult!"&"R" & (ROW()-1)/2 +1& "C" & COLUMN()+2,FALSE) -> 0.039886123 | M21: =INDIRECT("TeamResult!"&"R" & (ROW()-1)/2 +1& "C" & COLUMN()+2,FALSE) -> 10 | R21: =INDIRECT("TeamResult!"&"R" & (ROW()-1)/2 +1& "C" & COLUMN()+2,FALSE) -> 0.056629525 | S21: =INDIRECT("TeamResult!"&"R" & (ROW()-1)/2 +1& "C" & COLUMN()+2,FALSE) -> 13 | X21: =INDIRECT("TeamResult!"&"R" & (ROW()-1)/2 +1& "C" & COLUMN()+2,FALSE) -> 0.08245037 | Y21: =INDIRECT("TeamResult!"&"R" & (ROW()-1)/2 +1& "C" & COLUMN()+2,FALSE) -> 10
A22: =INDIRECT("TeamResult!"&"R"&ROW()/2+1&"C"&COLUMN(),FALSE) -> 150 | B22: =INDIRECT("TeamResult!"&"R"&ROW()/2+1&"C"&COLUMN(),FALSE) -> Central_Athletics_Clu | C22: =INDIRECT("TeamResult!"&"R"&ROW()/2+1&"C"&COLUMN(),FALSE) -> F | D22: =INDIRECT("TeamResult!"&"R"&ROW()/2+1&"C"&COLUMN(),FALSE) -> 845 | E22: =INDIRECT("TeamResult!"&"R"&ROW()/2+1&"C"&COLUMN(),FALSE) -> Fiona Davies (FU20) | F22: =INDIRECT("TeamResult!"&"R"&ROW()/2+1&"C"&COLUMN(),FALSE) -> 0.014403461 | G22: =INDIRECT("TeamResult!"&"R"&ROW()/2+1&"C"&COLUMN(),FALSE) -> 17 | K22: =INDIRECT("TeamResult!"&"R"&ROW()/2+1&"C"&COLUMN(),FALSE) -> Claire Houston (F Sen) | L22: =INDIRECT("TeamResult!"&"R"&ROW()/2+1&"C"&COLUMN(),FALSE) -> 0.02758728 | M22: =INDIRECT("TeamResult!"&"R"&ROW()/2+1&"C"&COLUMN(),FALSE) -> 14 | Q22: =INDIRECT("TeamResult!"&"R"&ROW()/2+1&"C"&COLUMN(),FALSE) -> Natalie sTEWART (F Sen) | R22: =INDIRECT("TeamResult!"&"R"&ROW()/2+1&"C"&COLUMN(),FALSE) -> 0.013497373 | S22: =INDIRECT("TeamResult!"&"R"&ROW()/2+1&"C"&COLUMN(),FALSE) -> 5 | W22: =INDIRECT("TeamResult!"&"R"&ROW()/2+1&"C"&COLUMN(),FALSE) -> Lauren McCulloch (FU20) | X22: =INDIRECT("TeamResult!"&"R"&ROW()/2+1&"C"&COLUMN(),FALSE) -> 0.027830405 | Y22: =INDIRECT("TeamResult!"&"R"&ROW()/2+1&"C"&COLUMN(),FALSE) -> 12
F23: =INDIRECT("TeamResult!"&"R" & (ROW()-1)/2 +1& "C" & COLUMN()+2,FALSE) -> 0.014403461 | G23: =INDIRECT("TeamResult!"&"R" & (ROW()-1)/2 +1& "C" & COLUMN()+2,FALSE) -> 17 | L23: =INDIRECT("TeamResult!"&"R" & (ROW()-1)/2 +1& "C" & COLUMN()+2,FALSE) -> 0.041990741 | M23: =INDIRECT("TeamResult!"&"R" & (ROW()-1)/2 +1& "C" & COLUMN()+2,FALSE) -> 14 | R23: =INDIRECT("TeamResult!"&"R" & (ROW()-1)/2 +1& "C" & COLUMN()+2,FALSE) -> 0.055488113 | S23: =INDIRECT("TeamResult!"&"R" & (ROW()-1)/2 +1& "C" & COLUMN()+2,FALSE) -> 10 | X23: =INDIRECT("TeamResult!"&"R" & (ROW()-1)/2 +1& "C" & COLUMN()+2,FALSE) -> 0.083318519 | Y23: =INDIRECT("TeamResult!"&"R" & (ROW()-1)/2 +1& "C" & COLUMN()+2,FALSE) -> 11
A24: =INDIRECT("TeamResult!"&"R"&ROW()/2+1&"C"&COLUMN(),FALSE) -> 186 | B24: =INDIRECT("TeamResult!"&"R"&ROW()/2+1&"C"&COLUMN(),FALSE) -> Lothian_Running_Club_ | C24: =INDIRECT("TeamResult!"&"R"&ROW()/2+1&"C"&COLUMN(),FALSE) -> F | D24: =INDIRECT("TeamResult!"&"R"&ROW()/2+1&"C"&COLUMN(),FALSE) -> 989 | E24: =INDIRECT("TeamResult!"&"R"&ROW()/2+1&"C"&COLUMN(),FALSE) -> Yvonne Crilly (F55) | F24: =INDIRECT("TeamResult!"&"R"&ROW()/2+1&"C"&COLUMN(),FALSE) -> 0.014115486 | G24: =INDIRECT("TeamResult!"&"R"&ROW()/2+1&"C"&COLUMN(),FALSE) -> 14 | K24: =INDIRECT("TeamResult!"&"R"&ROW()/2+1&"C"&COLUMN(),FALSE) -> Mel Zobel (F Sen) | L24: =INDIRECT("TeamResult!"&"R"&ROW()/2+1&"C"&COLUMN(),FALSE) -> 0.028268773 | M24: =INDIRECT("TeamResult!"&"R"&ROW()/2+1&"C"&COLUMN(),FALSE) -> 16 | Q24: =INDIRECT("TeamResult!"&"R"&ROW()/2+1&"C"&COLUMN(),FALSE) -> Emma Jackson (F Sen) | R24: =INDIRECT("TeamResult!"&"R"&ROW()/2+1&"C"&COLUMN(),FALSE) -> 0.013748218 | S24: =INDIRECT("TeamResult!"&"R"&ROW()/2+1&"C"&COLUMN(),FALSE) -> 6 | W24: =INDIRECT("TeamResult!"&"R"&ROW()/2+1&"C"&COLUMN(),FALSE) -> Christine MacVarish (F45) | X24: =INDIRECT("TeamResult!"&"R"&ROW()/2+1&"C"&COLUMN(),FALSE) -> 0.028317326 | Y24: =INDIRECT("TeamResult!"&"R"&ROW()/2+1&"C"&COLUMN(),FALSE) -> 15
F25: =INDIRECT("TeamResult!"&"R" & (ROW()-1)/2 +1& "C" & COLUMN()+2,FALSE) -> 0.014115486 | G25: =INDIRECT("TeamResult!"&"R" & (ROW()-1)/2 +1& "C" & COLUMN()+2,FALSE) -> 14 | L25: =INDIRECT("TeamResult!"&"R" & (ROW()-1)/2 +1& "C" & COLUMN()+2,FALSE) -> 0.042384259 | M25: =INDIRECT("TeamResult!"&"R" & (ROW()-1)/2 +1& "C" & COLUMN()+2,FALSE) -> 15 | R25: =INDIRECT("TeamResult!"&"R" & (ROW()-1)/2 +1& "C" & COLUMN()+2,FALSE) -> 0.056132477 | S25: =INDIRECT("TeamResult!"&"R" & (ROW()-1)/2 +1& "C" & COLUMN()+2,FALSE) -> 11 | X25: =INDIRECT("TeamResult!"&"R" & (ROW()-1)/2 +1& "C" & COLUMN()+2,FALSE) -> 0.084449803 | Y25: =INDIRECT("TeamResult!"&"R" & (ROW()-1)/2 +1& "C" & COLUMN()+2,FALSE) -> 12
A26: =INDIRECT("TeamResult!"&"R"&ROW()/2+1&"C"&COLUMN(),FALSE) -> 172 | B26: =INDIRECT("TeamResult!"&"R"&ROW()/2+1&"C"&COLUMN(),FALSE) -> Gala_Harriers_(B) | C26: =INDIRECT("TeamResult!"&"R"&ROW()/2+1&"C"&COLUMN(),FALSE) -> F40 | D26: =INDIRECT("TeamResult!"&"R"&ROW()/2+1&"C"&COLUMN(),FALSE) -> 933 | E26: =INDIRECT("TeamResult!"&"R"&ROW()/2+1&"C"&COLUMN(),FALSE) -> Fiona Dalgleish (F45) | F26: =INDIRECT("TeamResult!"&"R"&ROW()/2+1&"C"&COLUMN(),FALSE) -> 0.014460625 | G26: =INDIRECT("TeamResult!"&"R"&ROW()/2+1&"C"&COLUMN(),FALSE) -> 18 | K26: =INDIRECT("TeamResult!"&"R"&ROW()/2+1&"C"&COLUMN(),FALSE) -> Jennifer Forbes (F45) | L26: =INDIRECT("TeamResult!"&"R"&ROW()/2+1&"C"&COLUMN(),FALSE) -> 0.026754653 | M26: =INDIRECT("TeamResult!"&"R"&ROW()/2+1&"C"&COLUMN(),FALSE) -> 11 | Q26: =INDIRECT("TeamResult!"&"R"&ROW()/2+1&"C"&COLUMN(),FALSE) -> Gillian Duncan (F45) | R26: =INDIRECT("TeamResult!"&"R"&ROW()/2+1&"C"&COLUMN(),FALSE) -> 0.015075567 | S26: =INDIRECT("TeamResult!"&"R"&ROW()/2+1&"C"&COLUMN(),FALSE) -> 15 | W26: =INDIRECT("TeamResult!"&"R"&ROW()/2+1&"C"&COLUMN(),FALSE) -> Kate Jenkins (F40) | X26: =INDIRECT("TeamResult!"&"R"&ROW()/2+1&"C"&COLUMN(),FALSE) -> 0.028949919 | Y26: =INDIRECT("TeamResult!"&"R"&ROW()/2+1&"C"&COLUMN(),FALSE) -> 17
F27: =INDIRECT("TeamResult!"&"R" & (ROW()-1)/2 +1& "C" & COLUMN()+2,FALSE) -> 0.014460625 | G27: =INDIRECT("TeamResult!"&"R" & (ROW()-1)/2 +1& "C" & COLUMN()+2,FALSE) -> 18 | L27: =INDIRECT("TeamResult!"&"R" & (ROW()-1)/2 +1& "C" & COLUMN()+2,FALSE) -> 0.041215278 | M27: =INDIRECT("TeamResult!"&"R" & (ROW()-1)/2 +1& "C" & COLUMN()+2,FALSE) -> 11 | R27: =INDIRECT("TeamResult!"&"R" & (ROW()-1)/2 +1& "C" & COLUMN()+2,FALSE) -> 0.056290845 | S27: =INDIRECT("TeamResult!"&"R" & (ROW()-1)/2 +1& "C" & COLUMN()+2,FALSE) -> 12 | X27: =INDIRECT("TeamResult!"&"R" & (ROW()-1)/2 +1& "C" & COLUMN()+2,FALSE) -> 0.085240764 | Y27: =INDIRECT("TeamResult!"&"R" & (ROW()-1)/2 +1& "C" & COLUMN()+2,FALSE) -> 13
A28: =INDIRECT("TeamResult!"&"R"&ROW()/2+1&"C"&COLUMN(),FALSE) -> 159 | B28: =INDIRECT("TeamResult!"&"R"&ROW()/2+1&"C"&COLUMN(),FALSE) -> Edinburgh_University_ | C28: =INDIRECT("TeamResult!"&"R"&ROW()/2+1&"C"&COLUMN(),FALSE) -> F | D28: =INDIRECT("TeamResult!"&"R"&ROW()/2+1&"C"&COLUMN(),FALSE) -> 881 | E28: =INDIRECT("TeamResult!"&"R"&ROW()/2+1&"C"&COLUMN(),FALSE) -> Rhiannon Kirk (FU20) | F28: =INDIRECT("TeamResult!"&"R"&ROW()/2+1&"C"&COLUMN(),FALSE) -> 0.013701354 | G28: =INDIRECT("TeamResult!"&"R"&ROW()/2+1&"C"&COLUMN(),FALSE) -> 11 | K28: =INDIRECT("TeamResult!"&"R"&ROW()/2+1&"C"&COLUMN(),FALSE) -> Polly Edwards (FU20) | L28: =INDIRECT("TeamResult!"&"R"&ROW()/2+1&"C"&COLUMN(),FALSE) -> 0.02944735 | M28: =INDIRECT("TeamResult!"&"R"&ROW()/2+1&"C"&COLUMN(),FALSE) -> 22 | Q28: =INDIRECT("TeamResult!"&"R"&ROW()/2+1&"C"&COLUMN(),FALSE) -> Morgan Blevins (F Sen) | R28: =INDIRECT("TeamResult!"&"R"&ROW()/2+1&"C"&COLUMN(),FALSE) -> 0.013489444 | S28: =INDIRECT("TeamResult!"&"R"&ROW()/2+1&"C"&COLUMN(),FALSE) -> 4 | W28: =INDIRECT("TeamResult!"&"R"&ROW()/2+1&"C"&COLUMN(),FALSE) -> Jennifer Glass (FU20) | X28: =INDIRECT("TeamResult!"&"R"&ROW()/2+1&"C"&COLUMN(),FALSE) -> 0.029181354 | Y28: =INDIRECT("TeamResult!"&"R"&ROW()/2+1&"C"&COLUMN(),FALSE) -> 18
F29: =INDIRECT("TeamResult!"&"R" & (ROW()-1)/2 +1& "C" & COLUMN()+2,FALSE) -> 0.013701354 | G29: =INDIRECT("TeamResult!"&"R" & (ROW()-1)/2 +1& "C" & COLUMN()+2,FALSE) -> 11 | L29: =INDIRECT("TeamResult!"&"R" & (ROW()-1)/2 +1& "C" & COLUMN()+2,FALSE) -> 0.043148704 | M29: =INDIRECT("TeamResult!"&"R" & (ROW()-1)/2 +1& "C" & COLUMN()+2,FALSE) -> 16 | R29: =INDIRECT("TeamResult!"&"R" & (ROW()-1)/2 +1& "C" & COLUMN()+2,FALSE) -> 0.056638148 | S29: =INDIRECT("TeamResult!"&"R" & (ROW()-1)/2 +1& "C" & COLUMN()+2,FALSE) -> 14 | X29: =INDIRECT("TeamResult!"&"R" & (ROW()-1)/2 +1& "C" & COLUMN()+2,FALSE) -> 0.085819502 | Y29: =INDIRECT("TeamResult!"&"R" & (ROW()-1)/2 +1& "C" & COLUMN()+2,FALSE) -> 14
A30: =INDIRECT("TeamResult!"&"R"&ROW()/2+1&"C"&COLUMN(),FALSE) -> 153 | B30: =INDIRECT("TeamResult!"&"R"&ROW()/2+1&"C"&COLUMN(),FALSE) -> Dundee_Hawkhill_Harri | C30: =INDIRECT("TeamResult!"&"R"&ROW()/2+1&"C"&COLUMN(),FALSE) -> F | D30: =INDIRECT("TeamResult!"&"R"&ROW()/2+1&"C"&COLUMN(),FALSE) -> 857 | E30: =INDIRECT("TeamResult!"&"R"&ROW()/2+1&"C"&COLUMN(),FALSE) -> Katie Anderson (FU20) | F30: =INDIRECT("TeamResult!"&"R"&ROW()/2+1&"C"&COLUMN(),FALSE) -> 0.014523611 | G30: =INDIRECT("TeamResult!"&"R"&ROW()/2+1&"C"&COLUMN(),FALSE) -> 20 | K30: =INDIRECT("TeamResult!"&"R"&ROW()/2+1&"C"&COLUMN(),FALSE) -> Portia McRobbie (F Sen) | L30: =INDIRECT("TeamResult!"&"R"&ROW()/2+1&"C"&COLUMN(),FALSE) -> 0.028711898 | M30: =INDIRECT("TeamResult!"&"R"&ROW()/2+1&"C"&COLUMN(),FALSE) -> 18 | Q30: =INDIRECT("TeamResult!"&"R"&ROW()/2+1&"C"&COLUMN(),FALSE) -> Nicola Tully (F40) | R30: =INDIRECT("TeamResult!"&"R"&ROW()/2+1&"C"&COLUMN(),FALSE) -> 0.016541574 | S30: =INDIRECT("TeamResult!"&"R"&ROW()/2+1&"C"&COLUMN(),FALSE) -> 22 | W30: =INDIRECT("TeamResult!"&"R"&ROW()/2+1&"C"&COLUMN(),FALSE) -> Jennifer Learmonth (F Sen) | X30: =INDIRECT("TeamResult!"&"R"&ROW()/2+1&"C"&COLUMN(),FALSE) -> 0.026927199 | Y30: =INDIRECT("TeamResult!"&"R"&ROW()/2+1&"C"&COLUMN(),FALSE) -> 10
F31: =INDIRECT("TeamResult!"&"R" & (ROW()-1)/2 +1& "C" & COLUMN()+2,FALSE) -> 0.014523611 | G31: =INDIRECT("TeamResult!"&"R" & (ROW()-1)/2 +1& "C" & COLUMN()+2,FALSE) -> 20 | L31: =INDIRECT("TeamResult!"&"R" & (ROW()-1)/2 +1& "C" & COLUMN()+2,FALSE) -> 0.043235509 | M31: =INDIRECT("TeamResult!"&"R" & (ROW()-1)/2 +1& "C" & COLUMN()+2,FALSE) -> 17 | R31: =INDIRECT("TeamResult!"&"R" & (ROW()-1)/2 +1& "C" & COLUMN()+2,FALSE) -> 0.059777083 | S31: =INDIRECT("TeamResult!"&"R" & (ROW()-1)/2 +1& "C" & COLUMN()+2,FALSE) -> 17 | X31: =INDIRECT("TeamResult!"&"R" & (ROW()-1)/2 +1& "C" & COLUMN()+2,FALSE) -> 0.086704282 | Y31: =INDIRECT("TeamResult!"&"R" & (ROW()-1)/2 +1& "C" & COLUMN()+2,FALSE) -> 15
A32: =INDIRECT("TeamResult!"&"R"&ROW()/2+1&"C"&COLUMN(),FALSE) -> 181 | B32: =INDIRECT("TeamResult!"&"R"&ROW()/2+1&"C"&COLUMN(),FALSE) -> Kirkintilloch_Olympia | C32: =INDIRECT("TeamResult!"&"R"&ROW()/2+1&"C"&COLUMN(),FALSE) -> F40 | D32: =INDIRECT("TeamResult!"&"R"&ROW()/2+1&"C"&COLUMN(),FALSE) -> 969 | E32: =INDIRECT("TeamResult!"&"R"&ROW()/2+1&"C"&COLUMN(),FALSE) -> Suzanne Shaw (F40) | F32: =INDIRECT("TeamResult!"&"R"&ROW()/2+1&"C"&COLUMN(),FALSE) -> 0.014823472 | G32: =INDIRECT("TeamResult!"&"R"&ROW()/2+1&"C"&COLUMN(),FALSE) -> 22 | K32: =INDIRECT("TeamResult!"&"R"&ROW()/2+1&"C"&COLUMN(),FALSE) -> Elaine Hogg (F45) | L32: =INDIRECT("TeamResult!"&"R"&ROW()/2+1&"C"&COLUMN(),FALSE) -> 0.028789595 | M32: =INDIRECT("TeamResult!"&"R"&ROW()/2+1&"C"&COLUMN(),FALSE) -> 19 | Q32: =INDIRECT("TeamResult!"&"R"&ROW()/2+1&"C"&COLUMN(),FALSE) -> Anne Crombie-Brown (F40) | R32: =INDIRECT("TeamResult!"&"R"&ROW()/2+1&"C"&COLUMN(),FALSE) -> 0.016288021 | S32: =INDIRECT("TeamResult!"&"R"&ROW()/2+1&"C"&COLUMN(),FALSE) -> 19 | W32: =INDIRECT("TeamResult!"&"R"&ROW()/2+1&"C"&COLUMN(),FALSE) -> Annemarie McGregor (F40) | X32: =INDIRECT("TeamResult!"&"R"&ROW()/2+1&"C"&COLUMN(),FALSE) -> 0.028274225 | Y32: =INDIRECT("TeamResult!"&"R"&ROW()/2+1&"C"&COLUMN(),FALSE) -> 14
F33: =INDIRECT("TeamResult!"&"R" & (ROW()-1)/2 +1& "C" & COLUMN()+2,FALSE) -> 0.014823472 | G33: =INDIRECT("TeamResult!"&"R" & (ROW()-1)/2 +1& "C" & COLUMN()+2,FALSE) -> 22 | L33: =INDIRECT("TeamResult!"&"R" & (ROW()-1)/2 +1& "C" & COLUMN()+2,FALSE) -> 0.043613067 | M33: =INDIRECT("TeamResult!"&"R" & (ROW()-1)/2 +1& "C" & COLUMN()+2,FALSE) -> 19 | R33: =INDIRECT("TeamResult!"&"R" & (ROW()-1)/2 +1& "C" & COLUMN()+2,FALSE) -> 0.059901088 | S33: =INDIRECT("TeamResult!"&"R" & (ROW()-1)/2 +1& "C" & COLUMN()+2,FALSE) -> 18 | X33: =INDIRECT("TeamResult!"&"R" & (ROW()-1)/2 +1& "C" & COLUMN()+2,FALSE) -> 0.088175312 | Y33: =INDIRECT("TeamResult!"&"R" & (ROW()-1)/2 +1& "C" & COLUMN()+2,FALSE) -> 16
A34: =INDIRECT("TeamResult!"&"R"&ROW()/2+1&"C"&COLUMN(),FALSE) -> 187 | B34: =INDIRECT("TeamResult!"&"R"&ROW()/2+1&"C"&COLUMN(),FALSE) -> Metro_Aberdeen_Runnin | C34: =INDIRECT("TeamResult!"&"R"&ROW()/2+1&"C"&COLUMN(),FALSE) -> F | D34: =INDIRECT("TeamResult!"&"R"&ROW()/2+1&"C"&COLUMN(),FALSE) -> 993 | E34: =INDIRECT("TeamResult!"&"R"&ROW()/2+1&"C"&COLUMN(),FALSE) -> Claire Bruce (F Sen) | F34: =INDIRECT("TeamResult!"&"R"&ROW()/2+1&"C"&COLUMN(),FALSE) -> 0.012801551 | G34: =INDIRECT("TeamResult!"&"R"&ROW()/2+1&"C"&COLUMN(),FALSE) -> 2 | K34: =INDIRECT("TeamResult!"&"R"&ROW()/2+1&"C"&COLUMN(),FALSE) -> Kerstin Hunter (F Sen) | L34: =INDIRECT("TeamResult!"&"R"&ROW()/2+1&"C"&COLUMN(),FALSE) -> 0.029142894 | M34: =INDIRECT("TeamResult!"&"R"&ROW()/2+1&"C"&COLUMN(),FALSE) -> 20 | Q34: =INDIRECT("TeamResult!"&"R"&ROW()/2+1&"C"&COLUMN(),FALSE) -> Vicki Inglis (F Sen) | R34: =INDIRECT("TeamResult!"&"R"&ROW()/2+1&"C"&COLUMN(),FALSE) -> 0.01751375 | S34: =INDIRECT("TeamResult!"&"R"&ROW()/2+1&"C"&COLUMN(),FALSE) -> 27 | W34: =INDIRECT("TeamResult!"&"R"&ROW()/2+1&"C"&COLUMN(),FALSE) -> Lisa Michie (F Sen) | X34: =INDIRECT("TeamResult!"&"R"&ROW()/2+1&"C"&COLUMN(),FALSE) -> 0.031897546 | Y34: =INDIRECT("TeamResult!"&"R"&ROW()/2+1&"C"&COLUMN(),FALSE) -> 24
F35: =INDIRECT("TeamResult!"&"R" & (ROW()-1)/2 +1& "C" & COLUMN()+2,FALSE) -> 0.012801551 | G35: =INDIRECT("TeamResult!"&"R" & (ROW()-1)/2 +1& "C" & COLUMN()+2,FALSE) -> 2 | L35: =INDIRECT("TeamResult!"&"R" & (ROW()-1)/2 +1& "C" & COLUMN()+2,FALSE) -> 0.041944444 | M35: =INDIRECT("TeamResult!"&"R" & (ROW()-1)/2 +1& "C" & COLUMN()+2,FALSE) -> 13 | R35: =INDIRECT("TeamResult!"&"R" & (ROW()-1)/2 +1& "C" & COLUMN()+2,FALSE) -> 0.059458194 | S35: =INDIRECT("TeamResult!"&"R" & (ROW()-1)/2 +1& "C" & COLUMN()+2,FALSE) -> 16 | X35: =INDIRECT("TeamResult!"&"R" & (ROW()-1)/2 +1& "C" & COLUMN()+2,FALSE) -> 0.091355741 | Y35: =INDIRECT("TeamResult!"&"R" & (ROW()-1)/2 +1& "C" & COLUMN()+2,FALSE) -> 17
A36: =INDIRECT("TeamResult!"&"R"&ROW()/2+1&"C"&COLUMN(),FALSE) -> 174 | B36: =INDIRECT("TeamResult!"&"R"&ROW()/2+1&"C"&COLUMN(),FALSE) -> Giffnock_North_AC_(A) | C36: =INDIRECT("TeamResult!"&"R"&ROW()/2+1&"C"&COLUMN(),FALSE) -> F | D36: =INDIRECT("TeamResult!"&"R"&ROW()/2+1&"C"&COLUMN(),FALSE) -> 941 | E36: =INDIRECT("TeamResult!"&"R"&ROW()/2+1&"C"&COLUMN(),FALSE) -> Kathleen McLachlan (F Sen) | F36: =INDIRECT("TeamResult!"&"R"&ROW()/2+1&"C"&COLUMN(),FALSE) -> 0.016298889 | G36: =INDIRECT("TeamResult!"&"R"&ROW()/2+1&"C"&COLUMN(),FALSE) -> 28 | K36: =INDIRECT("TeamResult!"&"R"&ROW()/2+1&"C"&COLUMN(),FALSE) -> Mary McCutcheon (F50) | L36: =INDIRECT("TeamResult!"&"R"&ROW()/2+1&"C"&COLUMN(),FALSE) -> 0.027180174 | M36: =INDIRECT("TeamResult!"&"R"&ROW()/2+1&"C"&COLUMN(),FALSE) -> 13 | Q36: =INDIRECT("TeamResult!"&"R"&ROW()/2+1&"C"&COLUMN(),FALSE) -> Sarah Smith (F45) | R36: =INDIRECT("TeamResult!"&"R"&ROW()/2+1&"C"&COLUMN(),FALSE) -> 0.021773148 | S36: =INDIRECT("TeamResult!"&"R"&ROW()/2+1&"C"&COLUMN(),FALSE) -> 37 | W36: =INDIRECT("TeamResult!"&"R"&ROW()/2+1&"C"&COLUMN(),FALSE) -> Jill Smylie (F Sen) | X36: =INDIRECT("TeamResult!"&"R"&ROW()/2+1&"C"&COLUMN(),FALSE) -> 0.027164282 | Y36: =INDIRECT("TeamResult!"&"R"&ROW()/2+1&"C"&COLUMN(),FALSE) -> 11
F37: =INDIRECT("TeamResult!"&"R" & (ROW()-1)/2 +1& "C" & COLUMN()+2,FALSE) -> 0.016298889 | G37: =INDIRECT("TeamResult!"&"R" & (ROW()-1)/2 +1& "C" & COLUMN()+2,FALSE) -> 28 | L37: =INDIRECT("TeamResult!"&"R" & (ROW()-1)/2 +1& "C" & COLUMN()+2,FALSE) -> 0.043479063 | M37: =INDIRECT("TeamResult!"&"R" & (ROW()-1)/2 +1& "C" & COLUMN()+2,FALSE) -> 18 | R37: =INDIRECT("TeamResult!"&"R" & (ROW()-1)/2 +1& "C" & COLUMN()+2,FALSE) -> 0.065252211 | S37: =INDIRECT("TeamResult!"&"R" & (ROW()-1)/2 +1& "C" & COLUMN()+2,FALSE) -> 26 | X37: =INDIRECT("TeamResult!"&"R" & (ROW()-1)/2 +1& "C" & COLUMN()+2,FALSE) -> 0.092416493 | Y37: =INDIRECT("TeamResult!"&"R" & (ROW()-1)/2 +1& "C" & COLUMN()+2,FALSE) -> 18
A38: =INDIRECT("TeamResult!"&"R"&ROW()/2+1&"C"&COLUMN(),FALSE) -> 151 | B38: =INDIRECT("TeamResult!"&"R"&ROW()/2+1&"C"&COLUMN(),FALSE) -> Corstorphine_AAC_(A) | C38: =INDIRECT("TeamResult!"&"R"&ROW()/2+1&"C"&COLUMN(),FALSE) -> F | D38: =INDIRECT("TeamResult!"&"R"&ROW()/2+1&"C"&COLUMN(),FALSE) -> 849 | E38: =INDIRECT("TeamResult!"&"R"&ROW()/2+1&"C"&COLUMN(),FALSE) -> Alison Mair (F Sen) | F38: =INDIRECT("TeamResult!"&"R"&ROW()/2+1&"C"&COLUMN(),FALSE) -> 0.016996435 | G38: =INDIRECT("TeamResult!"&"R"&ROW()/2+1&"C"&COLUMN(),FALSE) -> 34 | K38: =INDIRECT("TeamResult!"&"R"&ROW()/2+1&"C"&COLUMN(),FALSE) -> Anne Ewing (F Sen) | L38: =INDIRECT("TeamResult!"&"R"&ROW()/2+1&"C"&COLUMN(),FALSE) -> 0.026991123 | M38: =INDIRECT("TeamResult!"&"R"&ROW()/2+1&"C"&COLUMN(),FALSE) -> 12 | Q38: =INDIRECT("TeamResult!"&"R"&ROW()/2+1&"C"&COLUMN(),FALSE) -> Mhairi Bagnall (F40) | R38: =INDIRECT("TeamResult!"&"R"&ROW()/2+1&"C"&COLUMN(),FALSE) -> 0.017365336 | S38: =INDIRECT("TeamResult!"&"R"&ROW()/2+1&"C"&COLUMN(),FALSE) -> 26 | W38: =INDIRECT("TeamResult!"&"R"&ROW()/2+1&"C"&COLUMN(),FALSE) -> Janet Grigor (F50) | X38: =INDIRECT("TeamResult!"&"R"&ROW()/2+1&"C"&COLUMN(),FALSE) -> 0.03110941 | Y38: =INDIRECT("TeamResult!"&"R"&ROW()/2+1&"C"&COLUMN(),FALSE) -> 22
F39: =INDIRECT("TeamResult!"&"R" & (ROW()-1)/2 +1& "C" & COLUMN()+2,FALSE) -> 0.016996435 | G39: =INDIRECT("TeamResult!"&"R" & (ROW()-1)/2 +1& "C" & COLUMN()+2,FALSE) -> 34 | L39: =INDIRECT("TeamResult!"&"R" & (ROW()-1)/2 +1& "C" & COLUMN()+2,FALSE) -> 0.043987558 | M39: =INDIRECT("TeamResult!"&"R" & (ROW()-1)/2 +1& "C" & COLUMN()+2,FALSE) -> 20 | R39: =INDIRECT("TeamResult!"&"R" & (ROW()-1)/2 +1& "C" & COLUMN()+2,FALSE) -> 0.061352894 | S39: =INDIRECT("TeamResult!"&"R" & (ROW()-1)/2 +1& "C" & COLUMN()+2,FALSE) -> 21 | X39: =INDIRECT("TeamResult!"&"R" & (ROW()-1)/2 +1& "C" & COLUMN()+2,FALSE) -> 0.092462303 | Y39: =INDIRECT("TeamResult!"&"R" & (ROW()-1)/2 +1& "C" & COLUMN()+2,FALSE) -> 19
A40: =INDIRECT("TeamResult!"&"R"&ROW()/2+1&"C"&COLUMN(),FALSE) -> 145 | B40: =INDIRECT("TeamResult!"&"R"&ROW()/2+1&"C"&COLUMN(),FALSE) -> Bellahouston_Harriers | C40: =INDIRECT("TeamResult!"&"R"&ROW()/2+1&"C"&COLUMN(),FALSE) -> F | D40: =INDIRECT("TeamResult!"&"R"&ROW()/2+1&"C"&COLUMN(),FALSE) -> 826 | E40: =INDIRECT("TeamResult!"&"R"&ROW()/2+1&"C"&COLUMN(),FALSE) -> Kristina Greig (F Sen) | F40: =INDIRECT("TeamResult!"&"R"&ROW()/2+1&"C"&COLUMN(),FALSE) -> 0.016240058 | G40: =INDIRECT("TeamResult!"&"R"&ROW()/2+1&"C"&COLUMN(),FALSE) -> 27 | K40: =INDIRECT("TeamResult!"&"R"&ROW()/2+1&"C"&COLUMN(),FALSE) -> Maria Spedsberg (F Sen) | L40: =INDIRECT("TeamResult!"&"R"&ROW()/2+1&"C"&COLUMN(),FALSE) -> 0.030150139 | M40: =INDIRECT("TeamResult!"&"R"&ROW()/2+1&"C"&COLUMN(),FALSE) -> 25 | Q40: =INDIRECT("TeamResult!"&"R"&ROW()/2+1&"C"&COLUMN(),FALSE) -> Rebecca Simister (F Sen) | R40: =INDIRECT("TeamResult!"&"R"&ROW()/2+1&"C"&COLUMN(),FALSE) -> 0.018126597 | S40: =INDIRECT("TeamResult!"&"R"&ROW()/2+1&"C"&COLUMN(),FALSE) -> 31 | W40: =INDIRECT("TeamResult!"&"R"&ROW()/2+1&"C"&COLUMN(),FALSE) -> Lynne Bruce (F40) | X40: =INDIRECT("TeamResult!"&"R"&ROW()/2+1&"C"&COLUMN(),FALSE) -> 0.028938461 | Y40: =INDIRECT("TeamResult!"&"R"&ROW()/2+1&"C"&COLUMN(),FALSE) -> 16
F41: =INDIRECT("TeamResult!"&"R" & (ROW()-1)/2 +1& "C" & COLUMN()+2,FALSE) -> 0.016240058 | G41: =INDIRECT("TeamResult!"&"R" & (ROW()-1)/2 +1& "C" & COLUMN()+2,FALSE) -> 27 | L41: =INDIRECT("TeamResult!"&"R" & (ROW()-1)/2 +1& "C" & COLUMN()+2,FALSE) -> 0.046390197 | M41: =INDIRECT("TeamResult!"&"R" & (ROW()-1)/2 +1& "C" & COLUMN()+2,FALSE) -> 24 | R41: =INDIRECT("TeamResult!"&"R" & (ROW()-1)/2 +1& "C" & COLUMN()+2,FALSE) -> 0.064516794 | S41: =INDIRECT("TeamResult!"&"R" & (ROW()-1)/2 +1& "C" & COLUMN()+2,FALSE) -> 24 | X41: =INDIRECT("TeamResult!"&"R" & (ROW()-1)/2 +1& "C" & COLUMN()+2,FALSE) -> 0.093455255 | Y41: =INDIRECT("TeamResult!"&"R" & (ROW()-1)/2 +1& "C" & COLUMN()+2,FALSE) -> 20
A42: =INDIRECT("TeamResult!"&"R"&ROW()/2+1&"C"&COLUMN(),FALSE) -> 197 | B42: =INDIRECT("TeamResult!"&"R"&ROW()/2+1&"C"&COLUMN(),FALSE) -> Strathclyde_Universit | C42: =INDIRECT("TeamResult!"&"R"&ROW()/2+1&"C"&COLUMN(),FALSE) -> F | D42: =INDIRECT("TeamResult!"&"R"&ROW()/2+1&"C"&COLUMN(),FALSE) -> 1033 | E42: =INDIRECT("TeamResult!"&"R"&ROW()/2+1&"C"&COLUMN(),FALSE) -> Emma Ratcliffe (FU20) | F42: =INDIRECT("TeamResult!"&"R"&ROW()/2+1&"C"&COLUMN(),FALSE) -> 0.01701081 | G42: =INDIRECT("TeamResult!"&"R"&ROW()/2+1&"C"&COLUMN(),FALSE) -> 35 | K42: =INDIRECT("TeamResult!"&"R"&ROW()/2+1&"C"&COLUMN(),FALSE) -> Olivia Steven (F Sen) | L42: =INDIRECT("TeamResult!"&"R"&ROW()/2+1&"C"&COLUMN(),FALSE) -> 0.031594965 | M42: =INDIRECT("TeamResult!"&"R"&ROW()/2+1&"C"&COLUMN(),FALSE) -> 28 | Q42: =INDIRECT("TeamResult!"&"R"&ROW()/2+1&"C"&COLUMN(),FALSE) -> Emily McNicol (FU20) | R42: =INDIRECT("TeamResult!"&"R"&ROW()/2+1&"C"&COLUMN(),FALSE) -> 0.015456539 | S42: =INDIRECT("TeamResult!"&"R"&ROW()/2+1&"C"&COLUMN(),FALSE) -> 16 | W42: =INDIRECT("TeamResult!"&"R"&ROW()/2+1&"C"&COLUMN(),FALSE) -> Madeleine Watson (F Sen) | X42: =INDIRECT("TeamResult!"&"R"&ROW()/2+1&"C"&COLUMN(),FALSE) -> 0.029678576 | Y42: =INDIRECT("TeamResult!"&"R"&ROW()/2+1&"C"&COLUMN(),FALSE) -> 19
F43: =INDIRECT("TeamResult!"&"R" & (ROW()-1)/2 +1& "C" & COLUMN()+2,FALSE) -> 0.01701081 | G43: =INDIRECT("TeamResult!"&"R" & (ROW()-1)/2 +1& "C" & COLUMN()+2,FALSE) -> 35 | L43: =INDIRECT("TeamResult!"&"R" & (ROW()-1)/2 +1& "C" & COLUMN()+2,FALSE) -> 0.048605775 | M43: =INDIRECT("TeamResult!"&"R" & (ROW()-1)/2 +1& "C" & COLUMN()+2,FALSE) -> 31 | R43: =INDIRECT("TeamResult!"&"R" & (ROW()-1)/2 +1& "C" & COLUMN()+2,FALSE) -> 0.064062315 | S43: =INDIRECT("TeamResult!"&"R" & (ROW()-1)/2 +1& "C" & COLUMN()+2,FALSE) -> 23 | X43: =INDIRECT("TeamResult!"&"R" & (ROW()-1)/2 +1& "C" & COLUMN()+2,FALSE) -> 0.093740891 | Y43: =INDIRECT("TeamResult!"&"R" & (ROW()-1)/2 +1& "C" & COLUMN()+2,FALSE) -> 21
A44: =INDIRECT("TeamResult!"&"R"&ROW()/2+1&"C"&COLUMN(),FALSE) -> 161 | B44: =INDIRECT("TeamResult!"&"R"&ROW()/2+1&"C"&COLUMN(),FALSE) -> Edinburgh_University_ | C44: =INDIRECT("TeamResult!"&"R"&ROW()/2+1&"C"&COLUMN(),FALSE) -> F | D44: =INDIRECT("TeamResult!"&"R"&ROW()/2+1&"C"&COLUMN(),FALSE) -> 889 | E44: =INDIRECT("TeamResult!"&"R"&ROW()/2+1&"C"&COLUMN(),FALSE) -> Lauren Sallade (F Sen) | F44: =INDIRECT("TeamResult!"&"R"&ROW()/2+1&"C"&COLUMN(),FALSE) -> 0.015468484 | G44: =INDIRECT("TeamResult!"&"R"&ROW()/2+1&"C"&COLUMN(),FALSE) -> 25 | K44: =INDIRECT("TeamResult!"&"R"&ROW()/2+1&"C"&COLUMN(),FALSE) -> Carla Willars (F Sen) | L44: =INDIRECT("TeamResult!"&"R"&ROW()/2+1&"C"&COLUMN(),FALSE) -> 0.032219097 | M44: =INDIRECT("TeamResult!"&"R"&ROW()/2+1&"C"&COLUMN(),FALSE) -> 30 | Q44: =INDIRECT("TeamResult!"&"R"&ROW()/2+1&"C"&COLUMN(),FALSE) -> Katie Cutforth (F Sen) | R44: =INDIRECT("TeamResult!"&"R"&ROW()/2+1&"C"&COLUMN(),FALSE) -> 0.017865081 | S44: =INDIRECT("TeamResult!"&"R"&ROW()/2+1&"C"&COLUMN(),FALSE) -> 29 | W44: =INDIRECT("TeamResult!"&"R"&ROW()/2+1&"C"&COLUMN(),FALSE) -> Sally Stewart (FU20) | X44: =INDIRECT("TeamResult!"&"R"&ROW()/2+1&"C"&COLUMN(),FALSE) -> 0.029826586 | Y44: =INDIRECT("TeamResult!"&"R"&ROW()/2+1&"C"&COLUMN(),FALSE) -> 20
F45: =INDIRECT("TeamResult!"&"R" & (ROW()-1)/2 +1& "C" & COLUMN()+2,FALSE) -> 0.015468484 | G45: =INDIRECT("TeamResult!"&"R" & (ROW()-1)/2 +1& "C" & COLUMN()+2,FALSE) -> 25 | L45: =INDIRECT("TeamResult!"&"R" & (ROW()-1)/2 +1& "C" & COLUMN()+2,FALSE) -> 0.047687581 | M45: =INDIRECT("TeamResult!"&"R" & (ROW()-1)/2 +1& "C" & COLUMN()+2,FALSE) -> 28 | R45: =INDIRECT("TeamResult!"&"R" & (ROW()-1)/2 +1& "C" & COLUMN()+2,FALSE) -> 0.065552662 | S45: =INDIRECT("TeamResult!"&"R" & (ROW()-1)/2 +1& "C" & COLUMN()+2,FALSE) -> 28 | X45: =INDIRECT("TeamResult!"&"R" & (ROW()-1)/2 +1& "C" & COLUMN()+2,FALSE) -> 0.095379248 | Y45: =INDIRECT("TeamResult!"&"R" & (ROW()-1)/2 +1& "C" & COLUMN()+2,FALSE) -> 22
A46: =INDIRECT("TeamResult!"&"R"&ROW()/2+1&"C"&COLUMN(),FALSE) -> 167 | B46: =INDIRECT("TeamResult!"&"R"&ROW()/2+1&"C"&COLUMN(),FALSE) -> Fife_Athletic_Club_(C) | C46: =INDIRECT("TeamResult!"&"R"&ROW()/2+1&"C"&COLUMN(),FALSE) -> F | D46: =INDIRECT("TeamResult!"&"R"&ROW()/2+1&"C"&COLUMN(),FALSE) -> 913 | E46: =INDIRECT("TeamResult!"&"R"&ROW()/2+1&"C"&COLUMN(),FALSE) -> Jocelyn Scott (F65) | F46: =INDIRECT("TeamResult!"&"R"&ROW()/2+1&"C"&COLUMN(),FALSE) -> 0.017469861 | G46: =INDIRECT("TeamResult!"&"R"&ROW()/2+1&"C"&COLUMN(),FALSE) -> 37 | K46: =INDIRECT("TeamResult!"&"R"&ROW()/2+1&"C"&COLUMN(),FALSE) -> Angela Howe (F45) | L46: =INDIRECT("TeamResult!"&"R"&ROW()/2+1&"C"&COLUMN(),FALSE) -> 0.029277245 | M46: =INDIRECT("TeamResult!"&"R"&ROW()/2+1&"C"&COLUMN(),FALSE) -> 21 | Q46: =INDIRECT("TeamResult!"&"R"&ROW()/2+1&"C"&COLUMN(),FALSE) -> Amie Watt (F Sen) | R46: =INDIRECT("TeamResult!"&"R"&ROW()/2+1&"C"&COLUMN(),FALSE) -> 0.014437917 | S46: =INDIRECT("TeamResult!"&"R"&ROW()/2+1&"C"&COLUMN(),FALSE) -> 11 | W46: =INDIRECT("TeamResult!"&"R"&ROW()/2+1&"C"&COLUMN(),FALSE) -> Katie Garner (F Sen) | X46: =INDIRECT("TeamResult!"&"R"&ROW()/2+1&"C"&COLUMN(),FALSE) -> 0.034221609 | Y46: =INDIRECT("TeamResult!"&"R"&ROW()/2+1&"C"&COLUMN(),FALSE) -> 27
F47: =INDIRECT("TeamResult!"&"R" & (ROW()-1)/2 +1& "C" & COLUMN()+2,FALSE) -> 0.017469861 | G47: =INDIRECT("TeamResult!"&"R" & (ROW()-1)/2 +1& "C" & COLUMN()+2,FALSE) -> 37 | L47: =INDIRECT("TeamResult!"&"R" & (ROW()-1)/2 +1& "C" & COLUMN()+2,FALSE) -> 0.046747106 | M47: =INDIRECT("TeamResult!"&"R" & (ROW()-1)/2 +1& "C" & COLUMN()+2,FALSE) -> 25 | R47: =INDIRECT("TeamResult!"&"R" & (ROW()-1)/2 +1& "C" & COLUMN()+2,FALSE) -> 0.061185023 | S47: =INDIRECT("TeamResult!"&"R" & (ROW()-1)/2 +1& "C" & COLUMN()+2,FALSE) -> 20 | X47: =INDIRECT("TeamResult!"&"R" & (ROW()-1)/2 +1& "C" & COLUMN()+2,FALSE) -> 0.095406632 | Y47: =INDIRECT("TeamResult!"&"R" & (ROW()-1)/2 +1& "C" & COLUMN()+2,FALSE) -> 23
A48: =INDIRECT("TeamResult!"&"R"&ROW()/2+1&"C"&COLUMN(),FALSE) -> 198 | B48: =INDIRECT("TeamResult!"&"R"&ROW()/2+1&"C"&COLUMN(),FALSE) -> Strathclyde_Universit | C48: =INDIRECT("TeamResult!"&"R"&ROW()/2+1&"C"&COLUMN(),FALSE) -> F | D48: =INDIRECT("TeamResult!"&"R"&ROW()/2+1&"C"&COLUMN(),FALSE) -> 1037 | E48: =INDIRECT("TeamResult!"&"R"&ROW()/2+1&"C"&COLUMN(),FALSE) -> Hannah May (FU20) | F48: =INDIRECT("TeamResult!"&"R"&ROW()/2+1&"C"&COLUMN(),FALSE) -> 0.016808542 | G48: =INDIRECT("TeamResult!"&"R"&ROW()/2+1&"C"&COLUMN(),FALSE) -> 33 | K48: =INDIRECT("TeamResult!"&"R"&ROW()/2+1&"C"&COLUMN(),FALSE) -> Natasha Martin (FU20) | L48: =INDIRECT("TeamResult!"&"R"&ROW()/2+1&"C"&COLUMN(),FALSE) -> 0.031600579 | M48: =INDIRECT("TeamResult!"&"R"&ROW()/2+1&"C"&COLUMN(),FALSE) -> 29 | Q48: =INDIRECT("TeamResult!"&"R"&ROW()/2+1&"C"&COLUMN(),FALSE) -> Marie-Louise Slater (F Sen) | R48: =INDIRECT("TeamResult!"&"R"&ROW()/2+1&"C"&COLUMN(),FALSE) -> 0.018492824 | S48: =INDIRECT("TeamResult!"&"R"&ROW()/2+1&"C"&COLUMN(),FALSE) -> 32 | W48: =INDIRECT("TeamResult!"&"R"&ROW()/2+1&"C"&COLUMN(),FALSE) -> Lucy Cameron (FU20) | X48: =INDIRECT("TeamResult!"&"R"&ROW()/2+1&"C"&COLUMN(),FALSE) -> 0.032209664 | Y48: =INDIRECT("TeamResult!"&"R"&ROW()/2+1&"C"&COLUMN(),FALSE) -> 25
F49: =INDIRECT("TeamResult!"&"R" & (ROW()-1)/2 +1& "C" & COLUMN()+2,FALSE) -> 0.016808542 | G49: =INDIRECT("TeamResult!"&"R" & (ROW()-1)/2 +1& "C" & COLUMN()+2,FALSE) -> 33 | L49: =INDIRECT("TeamResult!"&"R" & (ROW()-1)/2 +1& "C" & COLUMN()+2,FALSE) -> 0.04840912 | M49: =INDIRECT("TeamResult!"&"R" & (ROW()-1)/2 +1& "C" & COLUMN()+2,FALSE) -> 30 | R49: =INDIRECT("TeamResult!"&"R" & (ROW()-1)/2 +1& "C" & COLUMN()+2,FALSE) -> 0.066901944 | S49: =INDIRECT("TeamResult!"&"R" & (ROW()-1)/2 +1& "C" & COLUMN()+2,FALSE) -> 30 | X49: =INDIRECT("TeamResult!"&"R" & (ROW()-1)/2 +1& "C" & COLUMN()+2,FALSE) -> 0.099111609 | Y49: =INDIRECT("TeamResult!"&"R" & (ROW()-1)/2 +1& "C" & COLUMN()+2,FALSE) -> 24
A50: =INDIRECT("TeamResult!"&"R"&ROW()/2+1&"C"&COLUMN(),FALSE) -> 179 | B50: =INDIRECT("TeamResult!"&"R"&ROW()/2+1&"C"&COLUMN(),FALSE) -> Kilmarnock_Harrier_&_ | C50: =INDIRECT("TeamResult!"&"R"&ROW()/2+1&"C"&COLUMN(),FALSE) -> F | D50: =INDIRECT("TeamResult!"&"R"&ROW()/2+1&"C"&COLUMN(),FALSE) -> 961 | E50: =INDIRECT("TeamResult!"&"R"&ROW()/2+1&"C"&COLUMN(),FALSE) -> Kirsty Alexander (F45) | F50: =INDIRECT("TeamResult!"&"R"&ROW()/2+1&"C"&COLUMN(),FALSE) -> 0.014485752 | G50: =INDIRECT("TeamResult!"&"R"&ROW()/2+1&"C"&COLUMN(),FALSE) -> 19 | K50: =INDIRECT("TeamResult!"&"R"&ROW()/2+1&"C"&COLUMN(),FALSE) -> Amanda Bryden (F Sen) | L50: =INDIRECT("TeamResult!"&"R"&ROW()/2+1&"C"&COLUMN(),FALSE) -> 0.034382176 | M50: =INDIRECT("TeamResult!"&"R"&ROW()/2+1&"C"&COLUMN(),FALSE) -> 36 | Q50: =INDIRECT("TeamResult!"&"R"&ROW()/2+1&"C"&COLUMN(),FALSE) -> Kirsty McNulty (F40) | R50: =INDIRECT("TeamResult!"&"R"&ROW()/2+1&"C"&COLUMN(),FALSE) -> 0.016509329 | S50: =INDIRECT("TeamResult!"&"R"&ROW()/2+1&"C"&COLUMN(),FALSE) -> 21 | W50: =INDIRECT("TeamResult!"&"R"&ROW()/2+1&"C"&COLUMN(),FALSE) -> Karen Robertson (F50) | X50: =INDIRECT("TeamResult!"&"R"&ROW()/2+1&"C"&COLUMN(),FALSE) -> 0.034773426 | Y50: =INDIRECT("TeamResult!"&"R"&ROW()/2+1&"C"&COLUMN(),FALSE) -> 29
F51: =INDIRECT("TeamResult!"&"R" & (ROW()-1)/2 +1& "C" & COLUMN()+2,FALSE) -> 0.014485752 | G51: =INDIRECT("TeamResult!"&"R" & (ROW()-1)/2 +1& "C" & COLUMN()+2,FALSE) -> 19 | L51: =INDIRECT("TeamResult!"&"R" & (ROW()-1)/2 +1& "C" & COLUMN()+2,FALSE) -> 0.048867928 | M51: =INDIRECT("TeamResult!"&"R" & (ROW()-1)/2 +1& "C" & COLUMN()+2,FALSE) -> 32 | R51: =INDIRECT("TeamResult!"&"R" & (ROW()-1)/2 +1& "C" & COLUMN()+2,FALSE) -> 0.065377257 | S51: =INDIRECT("TeamResult!"&"R" & (ROW()-1)/2 +1& "C" & COLUMN()+2,FALSE) -> 27 | X51: =INDIRECT("TeamResult!"&"R" & (ROW()-1)/2 +1& "C" & COLUMN()+2,FALSE) -> 0.10015068 | Y51: =INDIRECT("TeamResult!"&"R" & (ROW()-1)/2 +1& "C" & COLUMN()+2,FALSE) -> 25
A52: =INDIRECT("TeamResult!"&"R"&ROW()/2+1&"C"&COLUMN(),FALSE) -> 193 | B52: =INDIRECT("TeamResult!"&"R"&ROW()/2+1&"C"&COLUMN(),FALSE) -> PH_Racing_Club_(A) | C52: =INDIRECT("TeamResult!"&"R"&ROW()/2+1&"C"&COLUMN(),FALSE) -> F | D52: =INDIRECT("TeamResult!"&"R"&ROW()/2+1&"C"&COLUMN(),FALSE) -> 1017 | E52: =INDIRECT("TeamResult!"&"R"&ROW()/2+1&"C"&COLUMN(),FALSE) -> Karen Kennedy (F45) | F52: =INDIRECT("TeamResult!"&"R"&ROW()/2+1&"C"&COLUMN(),FALSE) -> 0.013580637 | G52: =INDIRECT("TeamResult!"&"R"&ROW()/2+1&"C"&COLUMN(),FALSE) -> 10 | K52: =INDIRECT("TeamResult!"&"R"&ROW()/2+1&"C"&COLUMN(),FALSE) -> Jennifer Caldwell (F Sen) | L52: =INDIRECT("TeamResult!"&"R"&ROW()/2+1&"C"&COLUMN(),FALSE) -> 0.033425903 | M52: =INDIRECT("TeamResult!"&"R"&ROW()/2+1&"C"&COLUMN(),FALSE) -> 33 | Q52: =INDIRECT("TeamResult!"&"R"&ROW()/2+1&"C"&COLUMN(),FALSE) -> Lesley Mealing (F40) | R52: =INDIRECT("TeamResult!"&"R"&ROW()/2+1&"C"&COLUMN(),FALSE) -> 0.01940588 | S52: =INDIRECT("TeamResult!"&"R"&ROW()/2+1&"C"&COLUMN(),FALSE) -> 34 | W52: =INDIRECT("TeamResult!"&"R"&ROW()/2+1&"C"&COLUMN(),FALSE) -> Paula Frame (F45) | X52: =INDIRECT("TeamResult!"&"R"&ROW()/2+1&"C"&COLUMN(),FALSE) -> 0.034192164 | Y52: =INDIRECT("TeamResult!"&"R"&ROW()/2+1&"C"&COLUMN(),FALSE) -> 26
F53: =INDIRECT("TeamResult!"&"R" & (ROW()-1)/2 +1& "C" & COLUMN()+2,FALSE) -> 0.013580637 | G53: =INDIRECT("TeamResult!"&"R" & (ROW()-1)/2 +1& "C" & COLUMN()+2,FALSE) -> 10 | L53: =INDIRECT("TeamResult!"&"R" & (ROW()-1)/2 +1& "C" & COLUMN()+2,FALSE) -> 0.047006539 | M53: =INDIRECT("TeamResult!"&"R" & (ROW()-1)/2 +1& "C" & COLUMN()+2,FALSE) -> 26 | R53: =INDIRECT("TeamResult!"&"R" & (ROW()-1)/2 +1& "C" & COLUMN()+2,FALSE) -> 0.066412419 | S53: =INDIRECT("TeamResult!"&"R" & (ROW()-1)/2 +1& "C" & COLUMN()+2,FALSE) -> 29 | X53: =INDIRECT("TeamResult!"&"R" & (ROW()-1)/2 +1& "C" & COLUMN()+2,FALSE) -> 0.10060458 | Y53: =INDIRECT("TeamResult!"&"R" & (ROW()-1)/2 +1& "C" & COLUMN()+2,FALSE) -> 26
A54: =INDIRECT("TeamResult!"&"R"&ROW()/2+1&"C"&COLUMN(),FALSE) -> 192 | B54: =INDIRECT("TeamResult!"&"R"&ROW()/2+1&"C"&COLUMN(),FALSE) -> Penicuik_Harriers_(A) | C54: =INDIRECT("TeamResult!"&"R"&ROW()/2+1&"C"&COLUMN(),FALSE) -> F40 | D54: =INDIRECT("TeamResult!"&"R"&ROW()/2+1&"C"&COLUMN(),FALSE) -> 1013 | E54: =INDIRECT("TeamResult!"&"R"&ROW()/2+1&"C"&COLUMN(),FALSE) -> Lynne Stevely (F45) | F54: =INDIRECT("TeamResult!"&"R"&ROW()/2+1&"C"&COLUMN(),FALSE) -> 0.017784931 | G54: =INDIRECT("TeamResult!"&"R"&ROW()/2+1&"C"&COLUMN(),FALSE) -> 38 | K54: =INDIRECT("TeamResult!"&"R"&ROW()/2+1&"C"&COLUMN(),FALSE) -> Jan Dawson (F40) | L54: =INDIRECT("TeamResult!"&"R"&ROW()/2+1&"C"&COLUMN(),FALSE) -> 0.029809005 | M54: =INDIRECT("TeamResult!"&"R"&ROW()/2+1&"C"&COLUMN(),FALSE) -> 23 | Q54: =INDIRECT("TeamResult!"&"R"&ROW()/2+1&"C"&COLUMN(),FALSE) -> Romana Gorjanc (F40) | R54: =INDIRECT("TeamResult!"&"R"&ROW()/2+1&"C"&COLUMN(),FALSE) -> 0.021483102 | S54: =INDIRECT("TeamResult!"&"R"&ROW()/2+1&"C"&COLUMN(),FALSE) -> 36 | W54: =INDIRECT("TeamResult!"&"R"&ROW()/2+1&"C"&COLUMN(),FALSE) -> Sadie Kemp (F40) | X54: =INDIRECT("TeamResult!"&"R"&ROW()/2+1&"C"&COLUMN(),FALSE) -> 0.031541678 | Y54: =INDIRECT("TeamResult!"&"R"&ROW()/2+1&"C"&COLUMN(),FALSE) -> 23
F55: =INDIRECT("TeamResult!"&"R" & (ROW()-1)/2 +1& "C" & COLUMN()+2,FALSE) -> 0.017784931 | G55: =INDIRECT("TeamResult!"&"R" & (ROW()-1)/2 +1& "C" & COLUMN()+2,FALSE) -> 38 | L55: =INDIRECT("TeamResult!"&"R" & (ROW()-1)/2 +1& "C" & COLUMN()+2,FALSE) -> 0.047593935 | M55: =INDIRECT("TeamResult!"&"R" & (ROW()-1)/2 +1& "C" & COLUMN()+2,FALSE) -> 27 | R55: =INDIRECT("TeamResult!"&"R" & (ROW()-1)/2 +1& "C" & COLUMN()+2,FALSE) -> 0.069077037 | S55: =INDIRECT("TeamResult!"&"R" & (ROW()-1)/2 +1& "C" & COLUMN()+2,FALSE) -> 32 | X55: =INDIRECT("TeamResult!"&"R" & (ROW()-1)/2 +1& "C" & COLUMN()+2,FALSE) -> 0.10061872 | Y55: =INDIRECT("TeamResult!"&"R" & (ROW()-1)/2 +1& "C" & COLUMN()+2,FALSE) -> 27
A56: =INDIRECT("TeamResult!"&"R"&ROW()/2+1&"C"&COLUMN(),FALSE) -> 164 | B56: =INDIRECT("TeamResult!"&"R"&ROW()/2+1&"C"&COLUMN(),FALSE) -> Ferranti_AAC_(A) | C56: =INDIRECT("TeamResult!"&"R"&ROW()/2+1&"C"&COLUMN(),FALSE) -> F | D56: =INDIRECT("TeamResult!"&"R"&ROW()/2+1&"C"&COLUMN(),FALSE) -> 901 | E56: =INDIRECT("TeamResult!"&"R"&ROW()/2+1&"C"&COLUMN(),FALSE) -> Alison McDonald (F Sen) | F56: =INDIRECT("TeamResult!"&"R"&ROW()/2+1&"C"&COLUMN(),FALSE) -> 0.018168958 | G56: =INDIRECT("TeamResult!"&"R"&ROW()/2+1&"C"&COLUMN(),FALSE) -> 40 | K56: =INDIRECT("TeamResult!"&"R"&ROW()/2+1&"C"&COLUMN(),FALSE) -> Julia Loecherbach (F Sen) | L56: =INDIRECT("TeamResult!"&"R"&ROW()/2+1&"C"&COLUMN(),FALSE) -> 0.034255463 | M56: =INDIRECT("TeamResult!"&"R"&ROW()/2+1&"C"&COLUMN(),FALSE) -> 35 | Q56: =INDIRECT("TeamResult!"&"R"&ROW()/2+1&"C"&COLUMN(),FALSE) -> Pascaline Mollard (F Sen) | R56: =INDIRECT("TeamResult!"&"R"&ROW()/2+1&"C"&COLUMN(),FALSE) -> 0.01779485 | S56: =INDIRECT("TeamResult!"&"R"&ROW()/2+1&"C"&COLUMN(),FALSE) -> 28 | W56: =INDIRECT("TeamResult!"&"R"&ROW()/2+1&"C"&COLUMN(),FALSE) -> Claire Gilchrist (F50) | X56: =INDIRECT("TeamResult!"&"R"&ROW()/2+1&"C"&COLUMN(),FALSE) -> 0.031042512 | Y56: =INDIRECT("TeamResult!"&"R"&ROW()/2+1&"C"&COLUMN(),FALSE) -> 21
F57: =INDIRECT("TeamResult!"&"R" & (ROW()-1)/2 +1& "C" & COLUMN()+2,FALSE) -> 0.018168958 | G57: =INDIRECT("TeamResult!"&"R" & (ROW()-1)/2 +1& "C" & COLUMN()+2,FALSE) -> 40 | L57: =INDIRECT("TeamResult!"&"R" & (ROW()-1)/2 +1& "C" & COLUMN()+2,FALSE) -> 0.052424421 | M57: =INDIRECT("TeamResult!"&"R" & (ROW()-1)/2 +1& "C" & COLUMN()+2,FALSE) -> 38 | R57: =INDIRECT("TeamResult!"&"R" & (ROW()-1)/2 +1& "C" & COLUMN()+2,FALSE) -> 0.070219271 | S57: =INDIRECT("TeamResult!"&"R" & (ROW()-1)/2 +1& "C" & COLUMN()+2,FALSE) -> 34 | X57: =INDIRECT("TeamResult!"&"R" & (ROW()-1)/2 +1& "C" & COLUMN()+2,FALSE) -> 0.10126178 | Y57: =INDIRECT("TeamResult!"&"R" & (ROW()-1)/2 +1& "C" & COLUMN()+2,FALSE) -> 28
A58: =INDIRECT("TeamResult!"&"R"&ROW()/2+1&"C"&COLUMN(),FALSE) -> 183 | B58: =INDIRECT("TeamResult!"&"R"&ROW()/2+1&"C"&COLUMN(),FALSE) -> Kirkintilloch_Olympia | C58: =INDIRECT("TeamResult!"&"R"&ROW()/2+1&"C"&COLUMN(),FALSE) -> F | D58: =INDIRECT("TeamResult!"&"R"&ROW()/2+1&"C"&COLUMN(),FALSE) -> 977 | E58: =INDIRECT("TeamResult!"&"R"&ROW()/2+1&"C"&COLUMN(),FALSE) -> Jennifer Muir (FU20) | F58: =INDIRECT("TeamResult!"&"R"&ROW()/2+1&"C"&COLUMN(),FALSE) -> 0.015385278 | G58: =INDIRECT("TeamResult!"&"R"&ROW()/2+1&"C"&COLUMN(),FALSE) -> 24 | K58: =INDIRECT("TeamResult!"&"R"&ROW()/2+1&"C"&COLUMN(),FALSE) -> Moira Smith (F50) | L58: =INDIRECT("TeamResult!"&"R"&ROW()/2+1&"C"&COLUMN(),FALSE) -> 0.036694317 | M58: =INDIRECT("TeamResult!"&"R"&ROW()/2+1&"C"&COLUMN(),FALSE) -> 38 | Q58: =INDIRECT("TeamResult!"&"R"&ROW()/2+1&"C"&COLUMN(),FALSE) -> #N/A | R58: =INDIRECT("TeamResult!"&"R"&ROW()/2+1&"C"&COLUMN(),FALSE) -> 0.01728603 | S58: =INDIRECT("TeamResult!"&"R"&ROW()/2+1&"C"&COLUMN(),FALSE) -> 25 | W58: =INDIRECT("TeamResult!"&"R"&ROW()/2+1&"C"&COLUMN(),FALSE) -> Vivien Fraser (F50) | X58: =INDIRECT("TeamResult!"&"R"&ROW()/2+1&"C"&COLUMN(),FALSE) -> 0.034350046 | Y58: =INDIRECT("TeamResult!"&"R"&ROW()/2+1&"C"&COLUMN(),FALSE) -> 28
F59: =INDIRECT("TeamResult!"&"R" & (ROW()-1)/2 +1& "C" & COLUMN()+2,FALSE) -> 0.015385278 | G59: =INDIRECT("TeamResult!"&"R" & (ROW()-1)/2 +1& "C" & COLUMN()+2,FALSE) -> 24 | L59: =INDIRECT("TeamResult!"&"R" & (ROW()-1)/2 +1& "C" & COLUMN()+2,FALSE) -> 0.052079595 | M59: =INDIRECT("TeamResult!"&"R" & (ROW()-1)/2 +1& "C" & COLUMN()+2,FALSE) -> 35 | R59: =INDIRECT("TeamResult!"&"R" & (ROW()-1)/2 +1& "C" & COLUMN()+2,FALSE) -> 0.069365625 | S59: =INDIRECT("TeamResult!"&"R" & (ROW()-1)/2 +1& "C" & COLUMN()+2,FALSE) -> 33 | X59: =INDIRECT("TeamResult!"&"R" & (ROW()-1)/2 +1& "C" & COLUMN()+2,FALSE) -> 0.10371567 | Y59: =INDIRECT("TeamResult!"&"R" & (ROW()-1)/2 +1& "C" & COLUMN()+2,FALSE) -> 29
A60: =INDIRECT("TeamResult!"&"R"&ROW()/2+1&"C"&COLUMN(),FALSE) -> 188 | B60: =INDIRECT("TeamResult!"&"R"&ROW()/2+1&"C"&COLUMN(),FALSE) -> Metro_Aberdeen_Runnin | C60: =INDIRECT("TeamResult!"&"R"&ROW()/2+1&"C"&COLUMN(),FALSE) -> F | D60: =INDIRECT("TeamResult!"&"R"&ROW()/2+1&"C"&COLUMN(),FALSE) -> 997 | E60: =INDIRECT("TeamResult!"&"R"&ROW()/2+1&"C"&COLUMN(),FALSE) -> Laura Campbell (F Sen) | F60: =INDIRECT("TeamResult!"&"R"&ROW()/2+1&"C"&COLUMN(),FALSE) -> 0.016312778 | G60: =INDIRECT("TeamResult!"&"R"&ROW()/2+1&"C"&COLUMN(),FALSE) -> 29 | K60: =INDIRECT("TeamResult!"&"R"&ROW()/2+1&"C"&COLUMN(),FALSE) -> Naomi Milne (F Sen) | L60: =INDIRECT("TeamResult!"&"R"&ROW()/2+1&"C"&COLUMN(),FALSE) -> 0.035332697 | M60: =INDIRECT("TeamResult!"&"R"&ROW()/2+1&"C"&COLUMN(),FALSE) -> 37 | Q60: =INDIRECT("TeamResult!"&"R"&ROW()/2+1&"C"&COLUMN(),FALSE) -> Kim Menzies (F Sen) | R60: =INDIRECT("TeamResult!"&"R"&ROW()/2+1&"C"&COLUMN(),FALSE) -> 0.016785208 | S60: =INDIRECT("TeamResult!"&"R"&ROW()/2+1&"C"&COLUMN(),FALSE) -> 24 | W60: =INDIRECT("TeamResult!"&"R"&ROW()/2+1&"C"&COLUMN(),FALSE) -> Valerie Wilson (F50) | X60: =INDIRECT("TeamResult!"&"R"&ROW()/2+1&"C"&COLUMN(),FALSE) -> 0.03814728 | Y60: =INDIRECT("TeamResult!"&"R"&ROW()/2+1&"C"&COLUMN(),FALSE) -> 30
F61: =INDIRECT("TeamResult!"&"R" & (ROW()-1)/2 +1& "C" & COLUMN()+2,FALSE) -> 0.016312778 | G61: =INDIRECT("TeamResult!"&"R" & (ROW()-1)/2 +1& "C" & COLUMN()+2,FALSE) -> 29 | L61: =INDIRECT("TeamResult!"&"R" & (ROW()-1)/2 +1& "C" & COLUMN()+2,FALSE) -> 0.051645475 | M61: =INDIRECT("TeamResult!"&"R" & (ROW()-1)/2 +1& "C" & COLUMN()+2,FALSE) -> 33 | R61: =INDIRECT("TeamResult!"&"R" & (ROW()-1)/2 +1& "C" & COLUMN()+2,FALSE) -> 0.068430683 | S61: =INDIRECT("TeamResult!"&"R" & (ROW()-1)/2 +1& "C" & COLUMN()+2,FALSE) -> 31 | X61: =INDIRECT("TeamResult!"&"R" & (ROW()-1)/2 +1& "C" & COLUMN()+2,FALSE) -> 0.10657796 | Y61: =INDIRECT("TeamResult!"&"R" & (ROW()-1)/2 +1& "C" & COLUMN()+2,FALSE) -> 30
A62: =INDIRECT("TeamResult!"&"R"&ROW()/2+1&"C"&COLUMN(),FALSE) -> 146 | B62: =INDIRECT("TeamResult!"&"R"&ROW()/2+1&"C"&COLUMN(),FALSE) -> Bellahouston_Harriers | C62: =INDIRECT("TeamResult!"&"R"&ROW()/2+1&"C"&COLUMN(),FALSE) -> F | D62: =INDIRECT("TeamResult!"&"R"&ROW()/2+1&"C"&COLUMN(),FALSE) -> 831 | E62: =INDIRECT("TeamResult!"&"R"&ROW()/2+1&"C"&COLUMN(),FALSE) -> Gillian Glass (F45) | F62: =INDIRECT("TeamResult!"&"R"&ROW()/2+1&"C"&COLUMN(),FALSE) -> 0.018367199 | G62: =INDIRECT("TeamResult!"&"R"&ROW()/2+1&"C"&COLUMN(),FALSE) -> 42 | K62: =INDIRECT("TeamResult!"&"R"&ROW()/2+1&"C"&COLUMN(),FALSE) -> Christine. McKay (F55) | L62: =INDIRECT("TeamResult!"&"R"&ROW()/2+1&"C"&COLUMN(),FALSE) -> 0.033798183 | M62: =INDIRECT("TeamResult!"&"R"&ROW()/2+1&"C"&COLUMN(),FALSE) -> 34 | Q62: =INDIRECT("TeamResult!"&"R"&ROW()/2+1&"C"&COLUMN(),FALSE) -> Elaine. Macdonald (F Sen) | R62: =INDIRECT("TeamResult!"&"R"&ROW()/2+1&"C"&COLUMN(),FALSE) -> 0.02147515 | S62: =INDIRECT("TeamResult!"&"R"&ROW()/2+1&"C"&COLUMN(),FALSE) -> 35 | W62: =INDIRECT("TeamResult!"&"R"&ROW()/2+1&"C"&COLUMN(),FALSE) -> Jasmin Shields (F Sen) | X62: =INDIRECT("TeamResult!"&"R"&ROW()/2+1&"C"&COLUMN(),FALSE) -> 0.040024873 | Y62: =INDIRECT("TeamResult!"&"R"&ROW()/2+1&"C"&COLUMN(),FALSE) -> 31
F63: =INDIRECT("TeamResult!"&"R" & (ROW()-1)/2 +1& "C" & COLUMN()+2,FALSE) -> 0.018367199 | G63: =INDIRECT("TeamResult!"&"R" & (ROW()-1)/2 +1& "C" & COLUMN()+2,FALSE) -> 42 | L63: =INDIRECT("TeamResult!"&"R" & (ROW()-1)/2 +1& "C" & COLUMN()+2,FALSE) -> 0.052165382 | M63: =INDIRECT("TeamResult!"&"R" & (ROW()-1)/2 +1& "C" & COLUMN()+2,FALSE) -> 36 | R63: =INDIRECT("TeamResult!"&"R" & (ROW()-1)/2 +1& "C" & COLUMN()+2,FALSE) -> 0.073640532 | S63: =INDIRECT("TeamResult!"&"R" & (ROW()-1)/2 +1& "C" & COLUMN()+2,FALSE) -> 37 | X63: =INDIRECT("TeamResult!"&"R" & (ROW()-1)/2 +1& "C" & COLUMN()+2,FALSE) -> 0.11366541 | Y63: =INDIRECT("TeamResult!"&"R" & (ROW()-1)/2 +1& "C" & COLUMN()+2,FALSE) -> 31
A64: =INDIRECT("TeamResult!"&"R"&ROW()/2+1&"C"&COLUMN(),FALSE) -> 155 | B64: =INDIRECT("TeamResult!"&"R"&ROW()/2+1&"C"&COLUMN(),FALSE) -> Edinburgh_Athletics_C | C64: =INDIRECT("TeamResult!"&"R"&ROW()/2+1&"C"&COLUMN(),FALSE) -> F | D64: =INDIRECT("TeamResult!"&"R"&ROW()/2+1&"C"&COLUMN(),FALSE) -> 865 | E64: =INDIRECT("TeamResult!"&"R"&ROW()/2+1&"C"&COLUMN(),FALSE) -> SarahRussell Brown (F Sen) | F64: =INDIRECT("TeamResult!"&"R"&ROW()/2+1&"C"&COLUMN(),FALSE) -> 0.013046123 | G64: =INDIRECT("TeamResult!"&"R"&ROW()/2+1&"C"&COLUMN(),FALSE) -> 5 | K64: =INDIRECT("TeamResult!"&"R"&ROW()/2+1&"C"&COLUMN(),FALSE) -> Dee Watters (F Sen) | L64: =INDIRECT("TeamResult!"&"R"&ROW()/2+1&"C"&COLUMN(),FALSE) -> 0.028655266 | M64: =INDIRECT("TeamResult!"&"R"&ROW()/2+1&"C"&COLUMN(),FALSE) -> 17 | Q64: =INDIRECT("TeamResult!"&"R"&ROW()/2+1&"C"&COLUMN(),FALSE) -> Leanne Webster (F Sen) | R64: =INDIRECT("TeamResult!"&"R"&ROW()/2+1&"C"&COLUMN(),FALSE) -> 0.015632025 | S64: =INDIRECT("TeamResult!"&"R"&ROW()/2+1&"C"&COLUMN(),FALSE) -> 18
F65: =INDIRECT("TeamResult!"&"R" & (ROW()-1)/2 +1& "C" & COLUMN()+2,FALSE) -> 0.013046123 | G65: =INDIRECT("TeamResult!"&"R" & (ROW()-1)/2 +1& "C" & COLUMN()+2,FALSE) -> 5 | L65: =INDIRECT("TeamResult!"&"R" & (ROW()-1)/2 +1& "C" & COLUMN()+2,FALSE) -> 0.041701389 | M65: =INDIRECT("TeamResult!"&"R" & (ROW()-1)/2 +1& "C" & COLUMN()+2,FALSE) -> 12 | R65: =INDIRECT("TeamResult!"&"R" & (ROW()-1)/2 +1& "C" & COLUMN()+2,FALSE) -> 0.057333414 | S65: =INDIRECT("TeamResult!"&"R" & (ROW()-1)/2 +1& "C" & COLUMN()+2,FALSE) -> 15
A66: =INDIRECT("TeamResult!"&"R"&ROW()/2+1&"C"&COLUMN(),FALSE) -> 158 | B66: =INDIRECT("TeamResult!"&"R"&ROW()/2+1&"C"&COLUMN(),FALSE) -> Edinburgh_University_ | C66: =INDIRECT("TeamResult!"&"R"&ROW()/2+1&"C"&COLUMN(),FALSE) -> F | D66: =INDIRECT("TeamResult!"&"R"&ROW()/2+1&"C"&COLUMN(),FALSE) -> 877 | E66: =INDIRECT("TeamResult!"&"R"&ROW()/2+1&"C"&COLUMN(),FALSE) -> Linette Knudsen (F Sen) | F66: =INDIRECT("TeamResult!"&"R"&ROW()/2+1&"C"&COLUMN(),FALSE) -> 0.019303403 | G66: =INDIRECT("TeamResult!"&"R"&ROW()/2+1&"C"&COLUMN(),FALSE) -> 43 | K66: =INDIRECT("TeamResult!"&"R"&ROW()/2+1&"C"&COLUMN(),FALSE) -> Leda Olia (F Sen) | L66: =INDIRECT("TeamResult!"&"R"&ROW()/2+1&"C"&COLUMN(),FALSE) -> 0.032440972 | M66: =INDIRECT("TeamResult!"&"R"&ROW()/2+1&"C"&COLUMN(),FALSE) -> 31 | Q66: =INDIRECT("TeamResult!"&"R"&ROW()/2+1&"C"&COLUMN(),FALSE) -> Rachel Stewart (F Sen) | R66: =INDIRECT("TeamResult!"&"R"&ROW()/2+1&"C"&COLUMN(),FALSE) -> 0.018757141 | S66: =INDIRECT("TeamResult!"&"R"&ROW()/2+1&"C"&COLUMN(),FALSE) -> 33
F67: =INDIRECT("TeamResult!"&"R" & (ROW()-1)/2 +1& "C" & COLUMN()+2,FALSE) -> 0.019303403 | G67: =INDIRECT("TeamResult!"&"R" & (ROW()-1)/2 +1& "C" & COLUMN()+2,FALSE) -> 43 | L67: =INDIRECT("TeamResult!"&"R" & (ROW()-1)/2 +1& "C" & COLUMN()+2,FALSE) -> 0.051744375 | M67: =INDIRECT("TeamResult!"&"R" & (ROW()-1)/2 +1& "C" & COLUMN()+2,FALSE) -> 34 | R67: =INDIRECT("TeamResult!"&"R" & (ROW()-1)/2 +1& "C" & COLUMN()+2,FALSE) -> 0.070501516 | S67: =INDIRECT("TeamResult!"&"R" & (ROW()-1)/2 +1& "C" & COLUMN()+2,FALSE) -> 36
A68: =INDIRECT("TeamResult!"&"R"&ROW()/2+1&"C"&COLUMN(),FALSE) -> 191 | B68: =INDIRECT("TeamResult!"&"R"&ROW()/2+1&"C"&COLUMN(),FALSE) -> Motherwell_AC_(B) | C68: =INDIRECT("TeamResult!"&"R"&ROW()/2+1&"C"&COLUMN(),FALSE) -> F | D68: =INDIRECT("TeamResult!"&"R"&ROW()/2+1&"C"&COLUMN(),FALSE) -> 1009 | E68: =INDIRECT("TeamResult!"&"R"&ROW()/2+1&"C"&COLUMN(),FALSE) -> Clare Hughes (F Sen) | F68: =INDIRECT("TeamResult!"&"R"&ROW()/2+1&"C"&COLUMN(),FALSE) -> 0.013858576 | G68: =INDIRECT("TeamResult!"&"R"&ROW()/2+1&"C"&COLUMN(),FALSE) -> 12 | K68: =INDIRECT("TeamResult!"&"R"&ROW()/2+1&"C"&COLUMN(),FALSE) -> Alison Jardine (F Sen) | L68: =INDIRECT("TeamResult!"&"R"&ROW()/2+1&"C"&COLUMN(),FALSE) -> 0.031327569 | M68: =INDIRECT("TeamResult!"&"R"&ROW()/2+1&"C"&COLUMN(),FALSE) -> 27
F69: =INDIRECT("TeamResult!"&"R" & (ROW()-1)/2 +1& "C" & COLUMN()+2,FALSE) -> 0.013858576 | G69: =INDIRECT("TeamResult!"&"R" & (ROW()-1)/2 +1& "C" & COLUMN()+2,FALSE) -> 12 | L69: =INDIRECT("TeamResult!"&"R" & (ROW()-1)/2 +1& "C" & COLUMN()+2,FALSE) -> 0.045186146 | M69: =INDIRECT("TeamResult!"&"R" & (ROW()-1)/2 +1& "C" & COLUMN()+2,FALSE) -> 21
A70: =INDIRECT("TeamResult!"&"R"&ROW()/2+1&"C"&COLUMN(),FALSE) -> 196 | B70: =INDIRECT("TeamResult!"&"R"&ROW()/2+1&"C"&COLUMN(),FALSE) -> Shettleston_Harriers_ | C70: =INDIRECT("TeamResult!"&"R"&ROW()/2+1&"C"&COLUMN(),FALSE) -> F | D70: =INDIRECT("TeamResult!"&"R"&ROW()/2+1&"C"&COLUMN(),FALSE) -> 1029 | E70: =INDIRECT("TeamResult!"&"R"&ROW()/2+1&"C"&COLUMN(),FALSE) -> Cara McCafferty (FU20) | F70: =INDIRECT("TeamResult!"&"R"&ROW()/2+1&"C"&COLUMN(),FALSE) -> 0.016666192 | G70: =INDIRECT("TeamResult!"&"R"&ROW()/2+1&"C"&COLUMN(),FALSE) -> 32 | K70: =INDIRECT("TeamResult!"&"R"&ROW()/2+1&"C"&COLUMN(),FALSE) -> Gillian Mckinlay (F Sen) | L70: =INDIRECT("TeamResult!"&"R"&ROW()/2+1&"C"&COLUMN(),FALSE) -> 0.0368164 | M70: =INDIRECT("TeamResult!"&"R"&ROW()/2+1&"C"&COLUMN(),FALSE) -> 39
F71: =INDIRECT("TeamResult!"&"R" & (ROW()-1)/2 +1& "C" & COLUMN()+2,FALSE) -> 0.016666192 | G71: =INDIRECT("TeamResult!"&"R" & (ROW()-1)/2 +1& "C" & COLUMN()+2,FALSE) -> 32 | L71: =INDIRECT("TeamResult!"&"R" & (ROW()-1)/2 +1& "C" & COLUMN()+2,FALSE) -> 0.053482593 | M71: =INDIRECT("TeamResult!"&"R" & (ROW()-1)/2 +1& "C" & COLUMN()+2,FALSE) -> 39
A72: =INDIRECT("TeamResult!"&"R"&ROW()/2+1&"C"&COLUMN(),FALSE) -> 147 | B72: =INDIRECT("TeamResult!"&"R"&ROW()/2+1&"C"&COLUMN(),FALSE) -> Bellahouston_Harriers | C72: =INDIRECT("TeamResult!"&"R"&ROW()/2+1&"C"&COLUMN(),FALSE) -> F | D72: =INDIRECT("TeamResult!"&"R"&ROW()/2+1&"C"&COLUMN(),FALSE) -> 833 | E72: =INDIRECT("TeamResult!"&"R"&ROW()/2+1&"C"&COLUMN(),FALSE) -> Deirdre Hoyle (F65) | F72: =INDIRECT("TeamResult!"&"R"&ROW()/2+1&"C"&COLUMN(),FALSE) -> 0.019514144 | G72: =INDIRECT("TeamResult!"&"R"&ROW()/2+1&"C"&COLUMN(),FALSE) -> 45 | K72: =INDIRECT("TeamResult!"&"R"&ROW()/2+1&"C"&COLUMN(),FALSE) -> June MacLeod (F55) | L72: =INDIRECT("TeamResult!"&"R"&ROW()/2+1&"C"&COLUMN(),FALSE) -> 0.038299225 | M72: =INDIRECT("TeamResult!"&"R"&ROW()/2+1&"C"&COLUMN(),FALSE) -> 40
F73: =INDIRECT("TeamResult!"&"R" & (ROW()-1)/2 +1& "C" & COLUMN()+2,FALSE) -> 0.019514144 | G73: =INDIRECT("TeamResult!"&"R" & (ROW()-1)/2 +1& "C" & COLUMN()+2,FALSE) -> 45 | L73: =INDIRECT("TeamResult!"&"R" & (ROW()-1)/2 +1& "C" & COLUMN()+2,FALSE) -> 0.057813368 | M73: =INDIRECT("TeamResult!"&"R" & (ROW()-1)/2 +1& "C" & COLUMN()+2,FALSE) -> 40
A74: =INDIRECT("TeamResult!"&"R"&ROW()/2+1&"C"&COLUMN(),FALSE) -> 149 | B74: =INDIRECT("TeamResult!"&"R"&ROW()/2+1&"C"&COLUMN(),FALSE) -> Cambuslang_Harriers_( | C74: =INDIRECT("TeamResult!"&"R"&ROW()/2+1&"C"&COLUMN(),FALSE) -> F | D74: =INDIRECT("TeamResult!"&"R"&ROW()/2+1&"C"&COLUMN(),FALSE) -> 841 | E74: =INDIRECT("TeamResult!"&"R"&ROW()/2+1&"C"&COLUMN(),FALSE) -> Katie Bristow (F Sen) | F74: =INDIRECT("TeamResult!"&"R"&ROW()/2+1&"C"&COLUMN(),FALSE) -> 0.013179502 | G74: =INDIRECT("TeamResult!"&"R"&ROW()/2+1&"C"&COLUMN(),FALSE) -> 6
F75: =INDIRECT("TeamResult!"&"R" & (ROW()-1)/2 +1& "C" & COLUMN()+2,FALSE) -> 0.013179502 | G75: =INDIRECT("TeamResult!"&"R" & (ROW()-1)/2 +1& "C" & COLUMN()+2,FALSE) -> 6
A76: =INDIRECT("TeamResult!"&"R"&ROW()/2+1&"C"&COLUMN(),FALSE) -> 160 | B76: =INDIRECT("TeamResult!"&"R"&ROW()/2+1&"C"&COLUMN(),FALSE) -> Edinburgh_University_ | C76: =INDIRECT("TeamResult!"&"R"&ROW()/2+1&"C"&COLUMN(),FALSE) -> F | D76: =INDIRECT("TeamResult!"&"R"&ROW()/2+1&"C"&COLUMN(),FALSE) -> 885 | E76: =INDIRECT("TeamResult!"&"R"&ROW()/2+1&"C"&COLUMN(),FALSE) -> Lydia Blythe (FU20) | F76: =INDIRECT("TeamResult!"&"R"&ROW()/2+1&"C"&COLUMN(),FALSE) -> 0.01474456 | G76: =INDIRECT("TeamResult!"&"R"&ROW()/2+1&"C"&COLUMN(),FALSE) -> 21
F77: =INDIRECT("TeamResult!"&"R" & (ROW()-1)/2 +1& "C" & COLUMN()+2,FALSE) -> 0.01474456 | G77: =INDIRECT("TeamResult!"&"R" & (ROW()-1)/2 +1& "C" & COLUMN()+2,FALSE) -> 21
A78: =INDIRECT("TeamResult!"&"R"&ROW()/2+1&"C"&COLUMN(),FALSE) -> 176 | B78: =INDIRECT("TeamResult!"&"R"&ROW()/2+1&"C"&COLUMN(),FALSE) -> Hunters_Bog_Trotters_ | C78: =INDIRECT("TeamResult!"&"R"&ROW()/2+1&"C"&COLUMN(),FALSE) -> F | D78: =INDIRECT("TeamResult!"&"R"&ROW()/2+1&"C"&COLUMN(),FALSE) -> 949 | E78: =INDIRECT("TeamResult!"&"R"&ROW()/2+1&"C"&COLUMN(),FALSE) -> Phyllis O'Brien (F55) | F78: =INDIRECT("TeamResult!"&"R"&ROW()/2+1&"C"&COLUMN(),FALSE) -> 0.015964178 | G78: =INDIRECT("TeamResult!"&"R"&ROW()/2+1&"C"&COLUMN(),FALSE) -> 26
F79: =INDIRECT("TeamResult!"&"R" & (ROW()-1)/2 +1& "C" & COLUMN()+2,FALSE) -> 0.015964178 | G79: =INDIRECT("TeamResult!"&"R" & (ROW()-1)/2 +1& "C" & COLUMN()+2,FALSE) -> 26
A80: =INDIRECT("TeamResult!"&"R"&ROW()/2+1&"C"&COLUMN(),FALSE) -> 199 | B80: =INDIRECT("TeamResult!"&"R"&ROW()/2+1&"C"&COLUMN(),FALSE) -> Teviotdale_Harriers_( | C80: =INDIRECT("TeamResult!"&"R"&ROW()/2+1&"C"&COLUMN(),FALSE) -> F | D80: =INDIRECT("TeamResult!"&"R"&ROW()/2+1&"C"&COLUMN(),FALSE) -> 1041 | E80: =INDIRECT("TeamResult!"&"R"&ROW()/2+1&"C"&COLUMN(),FALSE) -> Lauren Corbett (F Sen) | F80: =INDIRECT("TeamResult!"&"R"&ROW()/2+1&"C"&COLUMN(),FALSE) -> 0.016531204 | G80: =INDIRECT("TeamResult!"&"R"&ROW()/2+1&"C"&COLUMN(),FALSE) -> 31
F81: =INDIRECT("TeamResult!"&"R" & (ROW()-1)/2 +1& "C" & COLUMN()+2,FALSE) -> 0.016531204 | G81: =INDIRECT("TeamResult!"&"R" & (ROW()-1)/2 +1& "C" & COLUMN()+2,FALSE) -> 31
A82: =INDIRECT("TeamResult!"&"R"&ROW()/2+1&"C"&COLUMN(),FALSE) -> 148 | B82: =INDIRECT("TeamResult!"&"R"&ROW()/2+1&"C"&COLUMN(),FALSE) -> Calderglen_Harriers_( | C82: =INDIRECT("TeamResult!"&"R"&ROW()/2+1&"C"&COLUMN(),FALSE) -> F | D82: =INDIRECT("TeamResult!"&"R"&ROW()/2+1&"C"&COLUMN(),FALSE) -> 837 | E82: =INDIRECT("TeamResult!"&"R"&ROW()/2+1&"C"&COLUMN(),FALSE) -> Alexandra Hayden (F Sen) | F82: =INDIRECT("TeamResult!"&"R"&ROW()/2+1&"C"&COLUMN(),FALSE) -> 0.01785625 | G82: =INDIRECT("TeamResult!"&"R"&ROW()/2+1&"C"&COLUMN(),FALSE) -> 39
F83: =INDIRECT("TeamResult!"&"R" & (ROW()-1)/2 +1& "C" & COLUMN()+2,FALSE) -> 0.01785625 | G83: =INDIRECT("TeamResult!"&"R" & (ROW()-1)/2 +1& "C" & COLUMN()+2,FALSE) -> 39
A84: =INDIRECT("TeamResult!"&"R"&ROW()/2+1&"C"&COLUMN(),FALSE) -> 189 | B84: =INDIRECT("TeamResult!"&"R"&ROW()/2+1&"C"&COLUMN(),FALSE) -> Metro_Aberdeen_Runnin | C84: =INDIRECT("TeamResult!"&"R"&ROW()/2+1&"C"&COLUMN(),FALSE) -> F | D84: =INDIRECT("TeamResult!"&"R"&ROW()/2+1&"C"&COLUMN(),FALSE) -> 1001 | E84: =INDIRECT("TeamResult!"&"R"&ROW()/2+1&"C"&COLUMN(),FALSE) -> Amy Mackie (F45) | F84: =INDIRECT("TeamResult!"&"R"&ROW()/2+1&"C"&COLUMN(),FALSE) -> 0.019450775 | G84: =INDIRECT("TeamResult!"&"R"&ROW()/2+1&"C"&COLUMN(),FALSE) -> 44
F85: =INDIRECT("TeamResult!"&"R" & (ROW()-1)/2 +1& "C" & COLUMN()+2,FALSE) -> 0.019450775 | G85: =INDIRECT("TeamResult!"&"R" & (ROW()-1)/2 +1& "C" & COLUMN()+2,FALSE) -> 44
A88: =INDIRECT("TeamResult!"&"R"&ROW()/2+1&"C"&COLUMN(),FALSE) -> 156 | B88: =INDIRECT("TeamResult!"&"R"&ROW()/2+1&"C"&COLUMN(),FALSE) -> Edinburgh_Athletics_C | C88: =INDIRECT("TeamResult!"&"R"&ROW()/2+1&"C"&COLUMN(),FALSE) -> F50 | D88: =INDIRECT("TeamResult!"&"R"&ROW()/2+1&"C"&COLUMN(),FALSE) -> 869 | E88: =INDIRECT("TeamResult!"&"R"&ROW()/2+1&"C"&COLUMN(),FALSE) -> Angela Routledge (F50) | F88: =INDIRECT("TeamResult!"&"R"&ROW()/2+1&"C"&COLUMN(),FALSE) -> 0.018170775 | G88: =INDIRECT("TeamResult!"&"R"&ROW()/2+1&"C"&COLUMN(),FALSE) -> 41 | K88: =INDIRECT("TeamResult!"&"R"&ROW()/2+1&"C"&COLUMN(),FALSE) -> Jill Morrow (F50) | L88: =INDIRECT("TeamResult!"&"R"&ROW()/2+1&"C"&COLUMN(),FALSE) -> 0.027884884 | M88: =INDIRECT("TeamResult!"&"R"&ROW()/2+1&"C"&COLUMN(),FALSE) -> 15 | Q88: =INDIRECT("TeamResult!"&"R"&ROW()/2+1&"C"&COLUMN(),FALSE) -> Karen Dobbie (F50) | R88: =INDIRECT("TeamResult!"&"R"&ROW()/2+1&"C"&COLUMN(),FALSE) -> 0.014753183 | S88: =INDIRECT("TeamResult!"&"R"&ROW()/2+1&"C"&COLUMN(),FALSE) -> 13
F89: =INDIRECT("TeamResult!"&"R" & (ROW()-1)/2 +1& "C" & COLUMN()+2,FALSE) -> 0.018170775 | G89: =INDIRECT("TeamResult!"&"R" & (ROW()-1)/2 +1& "C" & COLUMN()+2,FALSE) -> 41 | L89: =INDIRECT("TeamResult!"&"R" & (ROW()-1)/2 +1& "C" & COLUMN()+2,FALSE) -> 0.04605566 | M89: =INDIRECT("TeamResult!"&"R" & (ROW()-1)/2 +1& "C" & COLUMN()+2,FALSE) -> 22 | R89: =INDIRECT("TeamResult!"&"R" & (ROW()-1)/2 +1& "C" & COLUMN()+2,FALSE) -> 0.060808843 | S89: =INDIRECT("TeamResult!"&"R" & (ROW()-1)/2 +1& "C" & COLUMN()+2,FALSE) -> 19
A90: =INDIRECT("TeamResult!"&"R"&ROW()/2+1&"C"&COLUMN(),FALSE) -> 168 | B90: =INDIRECT("TeamResult!"&"R"&ROW()/2+1&"C"&COLUMN(),FALSE) -> Fife_Athletic_Club_(D) | C90: =INDIRECT("TeamResult!"&"R"&ROW()/2+1&"C"&COLUMN(),FALSE) -> F50 | D90: =INDIRECT("TeamResult!"&"R"&ROW()/2+1&"C"&COLUMN(),FALSE) -> 917 | E90: =INDIRECT("TeamResult!"&"R"&ROW()/2+1&"C"&COLUMN(),FALSE) -> Innes Bracegirdle (F60) | F90: =INDIRECT("TeamResult!"&"R"&ROW()/2+1&"C"&COLUMN(),FALSE) -> 0.016377454 | G90: =INDIRECT("TeamResult!"&"R"&ROW()/2+1&"C"&COLUMN(),FALSE) -> 30 | K90: =INDIRECT("TeamResult!"&"R"&ROW()/2+1&"C"&COLUMN(),FALSE) -> Addy Gerrard (F55) | L90: =INDIRECT("TeamResult!"&"R"&ROW()/2+1&"C"&COLUMN(),FALSE) -> 0.029849549 | M90: =INDIRECT("TeamResult!"&"R"&ROW()/2+1&"C"&COLUMN(),FALSE) -> 24 | Q90: =INDIRECT("TeamResult!"&"R"&ROW()/2+1&"C"&COLUMN(),FALSE) -> Lynne Stephen (F55) | R90: =INDIRECT("TeamResult!"&"R"&ROW()/2+1&"C"&COLUMN(),FALSE) -> 0.015588854 | S90: =INDIRECT("TeamResult!"&"R"&ROW()/2+1&"C"&COLUMN(),FALSE) -> 17
F91: =INDIRECT("TeamResult!"&"R" & (ROW()-1)/2 +1& "C" & COLUMN()+2,FALSE) -> 0.016377454 | G91: =INDIRECT("TeamResult!"&"R" & (ROW()-1)/2 +1& "C" & COLUMN()+2,FALSE) -> 30 | L91: =INDIRECT("TeamResult!"&"R" & (ROW()-1)/2 +1& "C" & COLUMN()+2,FALSE) -> 0.046227002 | M91: =INDIRECT("TeamResult!"&"R" & (ROW()-1)/2 +1& "C" & COLUMN()+2,FALSE) -> 23 | R91: =INDIRECT("TeamResult!"&"R" & (ROW()-1)/2 +1& "C" & COLUMN()+2,FALSE) -> 0.061815856 | S91: =INDIRECT("TeamResult!"&"R" & (ROW()-1)/2 +1& "C" & COLUMN()+2,FALSE) -> 22
A92: =INDIRECT("TeamResult!"&"R"&ROW()/2+1&"C"&COLUMN(),FALSE) -> 182 | B92: =INDIRECT("TeamResult!"&"R"&ROW()/2+1&"C"&COLUMN(),FALSE) -> Kirkintilloch_Olympia | C92: =INDIRECT("TeamResult!"&"R"&ROW()/2+1&"C"&COLUMN(),FALSE) -> F50 | D92: =INDIRECT("TeamResult!"&"R"&ROW()/2+1&"C"&COLUMN(),FALSE) -> 973 | E92: =INDIRECT("TeamResult!"&"R"&ROW()/2+1&"C"&COLUMN(),FALSE) -> Shirley MacNab (F50) | F92: =INDIRECT("TeamResult!"&"R"&ROW()/2+1&"C"&COLUMN(),FALSE) -> 0.017032488 | G92: =INDIRECT("TeamResult!"&"R"&ROW()/2+1&"C"&COLUMN(),FALSE) -> 36 | K92: =INDIRECT("TeamResult!"&"R"&ROW()/2+1&"C"&COLUMN(),FALSE) -> Marie McChord (F55) | L92: =INDIRECT("TeamResult!"&"R"&ROW()/2+1&"C"&COLUMN(),FALSE) -> 0.031152813 | M92: =INDIRECT("TeamResult!"&"R"&ROW()/2+1&"C"&COLUMN(),FALSE) -> 26 | Q92: =INDIRECT("TeamResult!"&"R"&ROW()/2+1&"C"&COLUMN(),FALSE) -> Ada Stewart (F50) | R92: =INDIRECT("TeamResult!"&"R"&ROW()/2+1&"C"&COLUMN(),FALSE) -> 0.016417234 | S92: =INDIRECT("TeamResult!"&"R"&ROW()/2+1&"C"&COLUMN(),FALSE) -> 20
F93: =INDIRECT("TeamResult!"&"R" & (ROW()-1)/2 +1& "C" & COLUMN()+2,FALSE) -> 0.017032488 | G93: =INDIRECT("TeamResult!"&"R" & (ROW()-1)/2 +1& "C" & COLUMN()+2,FALSE) -> 36 | L93: =INDIRECT("TeamResult!"&"R" & (ROW()-1)/2 +1& "C" & COLUMN()+2,FALSE) -> 0.048185301 | M93: =INDIRECT("TeamResult!"&"R" & (ROW()-1)/2 +1& "C" & COLUMN()+2,FALSE) -> 29 | R93: =INDIRECT("TeamResult!"&"R" & (ROW()-1)/2 +1& "C" & COLUMN()+2,FALSE) -> 0.064602535 | S93: =INDIRECT("TeamResult!"&"R" & (ROW()-1)/2 +1& "C" & COLUMN()+2,FALSE) -> 25
A94: =INDIRECT("TeamResult!"&"R"&ROW()/2+1&"C"&COLUMN(),FALSE) -> 190 | B94: =INDIRECT("TeamResult!"&"R"&ROW()/2+1&"C"&COLUMN(),FALSE) -> Motherwell_AC_(A) | C94: =INDIRECT("TeamResult!"&"R"&ROW()/2+1&"C"&COLUMN(),FALSE) -> F50 | D94: =INDIRECT("TeamResult!"&"R"&ROW()/2+1&"C"&COLUMN(),FALSE) -> 1005 | E94: =INDIRECT("TeamResult!"&"R"&ROW()/2+1&"C"&COLUMN(),FALSE) -> Barbara Hogg (F50) | F94: =INDIRECT("TeamResult!"&"R"&ROW()/2+1&"C"&COLUMN(),FALSE) -> 0.019694387 | G94: =INDIRECT("TeamResult!"&"R"&ROW()/2+1&"C"&COLUMN(),FALSE) -> 46 | K94: =INDIRECT("TeamResult!"&"R"&ROW()/2+1&"C"&COLUMN(),FALSE) -> Joyce Allardice (F50) | L94: =INDIRECT("TeamResult!"&"R"&ROW()/2+1&"C"&COLUMN(),FALSE) -> 0.0325711 | M94: =INDIRECT("TeamResult!"&"R"&ROW()/2+1&"C"&COLUMN(),FALSE) -> 32 | Q94: =INDIRECT("TeamResult!"&"R"&ROW()/2+1&"C"&COLUMN(),FALSE) -> Mae McIsaac (F60) | R94: =INDIRECT("TeamResult!"&"R"&ROW()/2+1&"C"&COLUMN(),FALSE) -> 0.018045926 | S94: =INDIRECT("TeamResult!"&"R"&ROW()/2+1&"C"&COLUMN(),FALSE) -> 30
F95: =INDIRECT("TeamResult!"&"R" & (ROW()-1)/2 +1& "C" & COLUMN()+2,FALSE) -> 0.019694387 | G95: =INDIRECT("TeamResult!"&"R" & (ROW()-1)/2 +1& "C" & COLUMN()+2,FALSE) -> 46 | L95: =INDIRECT("TeamResult!"&"R" & (ROW()-1)/2 +1& "C" & COLUMN()+2,FALSE) -> 0.052265486 | M95: =INDIRECT("TeamResult!"&"R" & (ROW()-1)/2 +1& "C" & COLUMN()+2,FALSE) -> 37 | R95: =INDIRECT("TeamResult!"&"R" & (ROW()-1)/2 +1& "C" & COLUMN()+2,FALSE) -> 0.070311412 | S95: =INDIRECT("TeamResult!"&"R" & (ROW()-1)/2 +1& "C" & COLUMN()+2,FALSE) -> 35
